Workbook
Name APU: '[1]1.2 APU'!$A$5:$L$2024
Name APU: '[2]1.3 APU'!$A$2:$L$735
Name APU: '1.2 APU'!$A$5:$L$958
Name CAPU: "rend"
Name Cp: #REF!
Name CP: Datos!$B$14
Name HMO: Datos!$B$12
Name j: [3]Datos!$B$10
Name j: Datos!$B$10
Name PRESUPUESTO_: '1.1 Formato C-1'!$A$11:$L$169
Name PZ: '1.3 Gastos Generales'!$P$1
Name Recursos: '[2]1.4 Insumos'!$A$1:$D$463
Name Recursos: '1.4 Insumos'!$A$1:$D$473
Name Rend: '1.2 Rendimiento'!$A:$E
Name RENDIMIENTO: '1.2 Rendimiento'!$A$4:$E$885
Name RiskCollectDistributionSamples: 2
Name RiskFixedSeed: 1
Name RiskHasSettings: TRUE
Name RiskMinimizeOnStart: FALSE
Name RiskMonitorConvergence: FALSE
Name RiskNumIterations: 10000
Name RiskNumSimulations: 1
Name RiskPauseOnError: FALSE
Name RiskRealTimeResults: FALSE
Name RiskResultsUpdateFreq: 100
Name RiskRunAfterRecalcMacro: FALSE
Name RiskRunAfterSimMacro: FALSE
Name RiskRunBeforeRecalcMacro: FALSE
Name RiskRunBeforeSimMacro: FALSE
Name RiskSamplingType: 2
Name RiskStandardRecalc: 1
Name RiskStatFunctionsUpdateFreq: 1
Name RiskUpdateDisplay: FALSE
Name RiskUpdateStatFunctions: TRUE
Name RiskUseDifferentSeedForEachSim: FALSE
Name RiskUseFixedSeed: FALSE
Name tc: #REF!
Name TC: [4]Datos!$B$13
Name TC: Datos!$B$13
Name vol: Datos!$B$11

Sheet 0000000

Sheet 1.1 Formato C-1
B1: FORMATO DE PRESUPUESTO
B3: PROPUESTA A PRECIOS UNITARIOS
B5: PROYECTO: | C5: MEJORAMIENTO DE VÍAS Y ACCESOS EXISTENTES SUBPROYECTOS A3-A4
B6: POSTOR: | C6: ZOVICSA
B7: FECHA : | C7: 44655
B9: ITEM | C9: DESCRIPCIÓN | D9: UNIDAD | E9: CANTIDAD ESTIMADA (A) | F9: COSTOS UNITARIOS (US$/UNID.) | J9: SUB TOTAL (US$) (A*E) | L9: HH Totales | M9: Comentarios
F10: MATERIAL (B) | G10: INSTALACIÓN (C) | H10: EQUIPO (D) | I10: TOTAL (E)=(B+C+D)
F11: (B) | G11: (C) | H11: (D)
A12: 10190 | B12: =VLOOKUP($A12,RENDIMIENTO,2,FALSE) -> 1 | C12: =VLOOKUP($A12,RENDIMIENTO,3,FALSE) -> TRABAJOS PRELIMINARES | J12: =SUBTOTAL(9,J13:J14) -> 94477.65
A13: 10191 | B13: =VLOOKUP($A13,RENDIMIENTO,2,FALSE) -> 1.01 | C13: =VLOOKUP($A13,RENDIMIENTO,3,FALSE) -> Movilización y demovilización de equipos | D13: =VLOOKUP($A13,RENDIMIENTO,4,FALSE) -> glb | E13: 1 | F13: =IFERROR(VLOOKUP(CONCATENATE($A13,$F$11),APU,11,FALSE),0) -> 0 | G13: =IFERROR(VLOOKUP(CONCATENATE($A13,$G$11),APU,11,FALSE),0) -> 0 | H13: =IFERROR(VLOOKUP(CONCATENATE($A13,$H$11),APU,11,FALSE),0) -> 39000 | I13: =SUM(F13:H13) -> 39000 | J13: =ROUND(E13*I13,2) -> 39000
A14: 10192 | B14: =VLOOKUP($A14,RENDIMIENTO,2,FALSE) -> 1.02 | C14: =VLOOKUP($A14,RENDIMIENTO,3,FALSE) -> Trazo, Nivelación y Replanteo | D14: =VLOOKUP($A14,RENDIMIENTO,4,FALSE) -> km | E14: 28.61 | F14: =IFERROR(VLOOKUP(CONCATENATE($A14,$F$11),APU,11,FALSE),0) -> 0 | G14: =IFERROR(VLOOKUP(CONCATENATE($A14,$G$11),APU,11,FALSE),0) -> 1532.14 | H14: =IFERROR(VLOOKUP(CONCATENATE($A14,$H$11),APU,11,FALSE),0) -> 406.96 | I14: =SUM(F14:H14) -> 1939.1 | J14: =ROUND(E14*I14,2) -> 55477.65
A15: 10196 | B15: =VLOOKUP($A15,RENDIMIENTO,2,FALSE) -> 2 | C15: =VLOOKUP($A15,RENDIMIENTO,3,FALSE) -> MOVIMIENTO DE TIERRAS | J15: =SUBTOTAL(9,J16:J17) -> 486801.72
A16: 10197 | B16: =VLOOKUP($A16,RENDIMIENTO,2,FALSE) -> 2.01 | C16: =VLOOKUP($A16,RENDIMIENTO,3,FALSE) -> Roce y Limpieza de Maleza | D16: =VLOOKUP($A16,RENDIMIENTO,4,FALSE) -> m2 | E16: 8583 | F16: =IFERROR(VLOOKUP(CONCATENATE($A16,$F$11),APU,11,FALSE),0) -> 0 | G16: =IFERROR(VLOOKUP(CONCATENATE($A16,$G$11),APU,11,FALSE),0) -> 0.62 | H16: =IFERROR(VLOOKUP(CONCATENATE($A16,$H$11),APU,11,FALSE),0) -> 2.43 | I16: =SUM(F16:H16) -> 3.05 | J16: =ROUND(E16*I16,2) -> 26178.15
A17: 10198 | B17: =VLOOKUP($A17,RENDIMIENTO,2,FALSE) -> 2.02 | C17: =VLOOKUP($A17,RENDIMIENTO,3,FALSE) -> Mejoramiento de vías Existentes | D17: =VLOOKUP($A17,RENDIMIENTO,4,FALSE) -> km | E17: 28.61 | F17: =IFERROR(VLOOKUP(CONCATENATE($A17,$F$11),APU,11,FALSE),0)+$F$33 -> 0 | G17: =IFERROR(VLOOKUP(CONCATENATE($A17,$G$11),APU,11,FALSE),0)+G33 -> 3840.43 | H17: =IFERROR(VLOOKUP(CONCATENATE($A17,$H$11),APU,11,FALSE),0)+H33 -> 12259.66 | I17: =SUM(F17:H17) -> 16100.09 | J17: =ROUND(E17*I17,2) -> 460623.57
A19: 9 | B19: 5 | C19: Costo Directo Total (S/.) (Ítems 1.0 + 2.0 + 3.0 + 4.0) | J19: =SUBTOTAL(9,J12:J17) -> 581279.37 | L19: =SUM(L13:L17) -> 0
A20: 11 | B20: 6 | C20: Gastos Generales ……..% (S/.) (% de ítem 5.0) | I20: =J20/$J$19 -> 0.34541347 | J20: =+'1.3 Gastos Generales'!L103 -> 200781.72
A21: 13 | B21: 7 | C21: Utilidades ……….% (S/.) (% de ítem 5.0) | I21: 0.1 | J21: =+J19*I21 -> 58127.937
A22: 14 | B22: 12 | C22: Costo Covid | I22: =1.57397843969702%*0 -> 0 | J22: =I22*J19 -> 0
C23: Costo Total General (S/.) (Ítems 5.0 + 6.0 + 7.0) | J23: =SUM(J19:J22) -> 840189.03
B24: Consideraciones:
B25: -Las tarifas consideradas en el presupuesta es a maquina seca, el cliente deberá abastecer el combustible a los equipos de linea amarilla, volquetes y equipos menores.
B26: -La jornada de trabajo considera en la oferta economica es de 8hrs, y los trabajos se realizaran a un solo turno.
B27: -La duración de las actividades de movimientos de tierras tiene una duración de 37días calendario. No incluye movilización y desmovilización
A33: 10199 | B33: =VLOOKUP($A33,RENDIMIENTO,2,FALSE) -> 2.02A | C33: =VLOOKUP($A33,RENDIMIENTO,3,FALSE) -> Carguio y transporte de material para mejoramiento | D33: km | E33: =+E17 -> 28.61 | F33: =IFERROR(VLOOKUP(CONCATENATE($A33,$F$11),APU,11,FALSE),0)*'1.2 APU'!H72 -> 0 | G33: =IFERROR(VLOOKUP(CONCATENATE($A33,$G$11),APU,11,FALSE),0)*'1.2 APU'!H72 -> 1728 | H33: =IFERROR(VLOOKUP(CONCATENATE($A33,$H$11),APU,11,FALSE),0)*'1.2 APU'!$H$72 -> 6672 | I33: =SUM(F33:H33) -> 8400 | J33: =ROUND(E33*I33,2) -> 240324

Sheet 1.2 Rendimiento
B4: ÍTEM | C4: DESCRIPCIÓN | D4: UNID. | E4: Rendimiento (/hr) | G4: Referencia
A6: 10001
A7: 10002
A8: 10003 | G8: MOB01318_SDC-057_2.08 Lastrado de plataforma (e=0.10m)
A9: 10004 | G9: MOB01318_5.01 Excavación Top Soil
A10: 10005 | G10: MOB01318_5.02 Eliminación mayor 1km
A11: 10006 | G11: MOB01318_5.03 Carguio y eliminación menor a 1km
A12: 10007 | G12: MOB01318_2.01 Excavación material inadecuado
A13: 10008
A14: 10009 | G14: MOB01318_2.12 Carguio y transporte material de filtro 2B<1km
A15: 10010 | G15: MOB01318_2.13 Transporte material de filtro 2B>1km
A16: 10011 | G16: MOB01318_SDC-047_1.02.03 Conformación de 3B no controlado
A17: 10012 | G17: MOB01318_SDC-047_1.02.01 Carguio y transporte material de enrocado d<1km
A18: 10013 | G18: MOB01318_SDC-047_1.02.02 Transporte material de enrocado d>1km
A19: 10014 | G19: MOB01318_SDC-047_1.02.03 Conformación de 3B no controlado
A20: 10015 | G20: MOB01318_SDC-047_1.02.01 Carguio y transporte material de enrocado d<1km
A21: 10016 | G21: MOB01318_SDC-047_1.02.02 Transporte material de enrocado d>1km
A22: 10017 | F22: Contractual MOB01318 | G22: MOB01318_SDC-047_1.02.03 Conformación de 3B no controlado
A23: 10018 | G23: MOB01318_SDC-047_1.02.01 Carguio y transporte material de enrocado d<1km
A24: 10019 | G24: MOB01318_SDC-047_1.02.02 Transporte material de enrocado d>1km
A25: 10020 | F25: Contractual MOB01318 | G25: MOB01318_2.14 Material de filtro 2B
A26: 10021 | G26: MOB01318_2.12 Carguio y transporte material de filtro 2B<1km
A27: 10022 | G27: MOB01318_2.13 Transporte material de filtro 2B>1km
A28: 10023 | F28: Contractual MOB01318 | G28: MOB01318_2.17 Mateiral de enrocado 3B
A29: 10024 | G29: MOB01318_2.15 Carguio y transporte material de enrocado d<1km
A30: 10025 | G30: MOB01318_2.15 Transporte material de enrocado d>1km
A31: 10026 | F31: SDC N°33 MOB01318
A32: 10027 | G32: MOB01318_2.12 Carguio y transporte material de filtro 2B<1km
A33: 10028 | G33: MOB01318_2.13 Transporte material de filtro 2B>1km
A34: 10029 | F34: SDC N°33 MOB01318 | G34: S20179_2.1 Relleno copactado c/material Arena de Relaves
A35: 10030 | G35: S20179_2.2 Transporte arena de relaves d<1km
A36: 10031 | G36: S20179_2.3 Transporte arena de relaves d>1km
A37: 10032 | F37: SDC N°33 MOB01318 | G37: MOB01118_6.05 Suministro e instalación de geomembrana HDPE e=1.5mm (inc pruebas)
A38: 10033 | F38: SDC N°38 MOB01318 | G38: MOB01118_6.04 Suministro e instalación de geotextil no tejido de 400g/m2 (inc Pruebas)
A39: 10034 | F39: SDC N°38 MOB01318
A40: 10035
A41: 10036 | G41: MOB01318_5.04 Conformación de Botadero de top soil
A42: 10037
A43: 10038
A44: 10039
...

Sheet 1.2 APU
B4: ANALISIS DE PRECIOS UNITARIOS | M4: CANTIDAD Y COSTO DE INSUMOS DEL PRESUPUESTO REFERENCIAL | S4: CANTIDAD Y COSTO DE INSUMOS DEL METRADO EJECUTADO
B6: ='1.1 Formato C-1'!B5 -> PROYECTO: | C6: ='1.1 Formato C-1'!C5:J5 -> MEJORAMIENTO DE VÍAS Y ACCESOS EXISTENTES SUBPROYECTOS A3-A4
B7: ='1.1 Formato C-1'!B6 -> POSTOR: | C7: ='1.1 Formato C-1'!C6:J6 -> ZOVICSA | O7: 146272.47 | S7: VALORIZACION No | U7: #REF!
B8: ='1.1 Formato C-1'!B7 -> FECHA : | C8: ='1.1 Formato C-1'!C7:J7 -> 44655
A11: 10191 | B11: Partida | C11: =VLOOKUP($A11,PRESUPUESTO_,2,FALSE) -> 1.01 | D11: =VLOOKUP($A11,PRESUPUESTO_,3,FALSE) -> Movilización y demovilización de equipos | K11: =SUM(K14:K23) -> 39000 | M11: =D11 -> Movilización y demovilización de equipos | S11: =D11 -> Movilización y demovilización de equipos | X11: 103
B12: Rendimiento: | C12: =VLOOKUP($A11,RENDIMIENTO,5,FALSE) -> 1 | D12: =VLOOKUP($A11,RENDIMIENTO,4,FALSE) -> glb | H12: C.U. Total: | I12: =K11 -> 39000 | J12: =VLOOKUP($A11,RENDIMIENTO,4,FALSE) -> glb | M12: =VLOOKUP(A11,PRESUPUESTO_,5,FALSE) -> 1 | N12: #N/A | O12: TOTAL PARTIDA: | P12: =SUM(P14:P21) -> #REF! | Q12: =VLOOKUP(A11,PRESUPUESTO_,10,FALSE) -> 39000 | R12: =IF(Q12<>P12,"ver","ok") -> #REF! | S12: #N/A | T12: #N/A | U12: TOTAL PARTIDA: | V12: =SUM(#REF!) -> #REF! | X12: 103
B13: Codigo | C13: Recurso | F13: UND | G13: Cuadrilla | H13: Cantidad | I13: C.U. | J13: C.Parcial | K13: SUBTOTAL | M13: DESCRIPCION | N13: UND | O13: CANTIDAD | P13: COSTOx PART. | S13: DESCRIPCION | T13: UND | U13: CANTIDAD | V13: COSTOx PART. | X13: 103
A14: =CONCATENATE(A11,L14) -> 10191(D) | B14: Herramientas y Equipos | K14: =SUM(J15:J22) -> 39000 | L14: (D) | X14: 103 | AX14: 6000
B15: TF00117 | C15: =+'Equipos-Personal (HH y HM)'!A7 -> Tractor sobre Orugas CAT D8T | F15: Und | H15: 1 | I15: 5850 | J15: =ROUND(H15*I15,2) -> 5850 | M15: =$C15 -> Tractor sobre Orugas CAT D8T | N15: =$F15 -> Und | O15: =H15*11*0 -> 0 | P15: =J15*#REF! -> #REF! | S15: =$C15 -> Tractor sobre Orugas CAT D8T | T15: =$F15 -> Und | U15: =ROUND(#REF!*$H15,2) -> #REF! | V15: =ROUND(#REF!*$J15,2) -> #REF! | X15: 103
B16: TF00117 | C16: =+'Equipos-Personal (HH y HM)'!A10 -> Cargador Frontal John Deere 744 K | F16: Und | H16: 1 | I16: 1950 | J16: =ROUND(H16*I16,2) -> 1950 | M16: =$C16 -> Cargador Frontal John Deere 744 K | N16: =$F16 -> Und | O16: =H16*11*0 -> 0 | P16: =J16*#REF! -> #REF! | S16: =$C16 -> Cargador Frontal John Deere 744 K | T16: =$F16 -> Und | U16: =ROUND(#REF!*$H16,2) -> #REF! | V16: =ROUND(#REF!*$J16,2) -> #REF! | X16: 103
B17: TF00117 | C17: =+'Equipos-Personal (HH y HM)'!A12 -> Retroexcavadora Cat 420e | F17: Und | H17: 1 | I17: 3900 | J17: =ROUND(H17*I17,2) -> 3900 | M17: =$C17 -> Retroexcavadora Cat 420e | N17: =$F17 -> Und | O17: =H17*11*0 -> 0 | P17: =J17*#REF! -> #REF! | S17: =$C17 -> Retroexcavadora Cat 420e | T17: =$F17 -> Und | U17: =ROUND(#REF!*$H17,2) -> #REF! | V17: =ROUND(#REF!*$J17,2) -> #REF! | X17: 103
B18: TF00117 | C18: =+'Equipos-Personal (HH y HM)'!A13 -> Volquete de 17 m3 | F18: Und | H18: 7 | I18: 1950 | J18: =ROUND(H18*I18,2) -> 13650 | M18: =$C18 -> Volquete de 17 m3 | N18: =$F18 -> Und | O18: =H18*11*0 -> 0 | P18: =J18*#REF! -> #REF! | S18: =$C18 -> Volquete de 17 m3 | T18: =$F18 -> Und | U18: =ROUND(#REF!*$H18,2) -> #REF! | V18: =ROUND(#REF!*$J18,2) -> #REF! | X18: 103
B19: TF00117 | C19: =+'Equipos-Personal (HH y HM)'!A14 -> Cisterna de agua 5,000 gln. | F19: Und | H19: 1 | I19: 1950 | J19: =ROUND(H19*I19,2) -> 1950 | M19: =$C19 -> Cisterna de agua 5,000 gln. | N19: =$F19 -> Und | O19: =H19*11*0 -> 0 | P19: =J19*#REF! -> #REF! | S19: =$C19 -> Cisterna de agua 5,000 gln. | T19: =$F19 -> Und | U19: =ROUND(#REF!*$H19,2) -> #REF! | V19: =ROUND(#REF!*$J19,2) -> #REF! | X19: 103
B20: TF00117 | C20: =+'Equipos-Personal (HH y HM)'!A16 -> Motoniveladora de 140 HP | F20: Und | H20: 1 | I20: 3900 | J20: =ROUND(H20*I20,2) -> 3900 | M20: =$C20 -> Motoniveladora de 140 HP | N20: =$F20 -> Und | O20: =H20*11*0 -> 0 | P20: =J20*#REF! -> #REF! | S20: =$C20 -> Motoniveladora de 140 HP | T20: =$F20 -> Und | U20: =ROUND(#REF!*$H20,2) -> #REF! | V20: =ROUND(#REF!*$J20,2) -> #REF! | X20: 103
B21: TF00117 | C21: =+'Equipos-Personal (HH y HM)'!A17 -> Rodillo Liso Vibratorio Autopropulsado HAMM 20 Tn. | F21: Und | H21: 1 | I21: 1950 | J21: =ROUND(H21*I21,2) -> 1950 | M21: =$C21 -> Rodillo Liso Vibratorio Autopropulsado HAMM 20 Tn. | N21: =$F21 -> Und | O21: =H21*11*0 -> 0 | P21: =J21*#REF! -> #REF! | S21: =$C21 -> Rodillo Liso Vibratorio Autopropulsado HAMM 20 Tn. | T21: =$F21 -> Und | U21: =ROUND(#REF!*$H21,2) -> #REF! | V21: =ROUND(#REF!*$J21,2) -> #REF! | X21: 103
B22: TF00117 | C22: Camión Furgon | F22: Viajes | H22: 5 | I22: 1170 | J22: =ROUND(H22*I22,2) -> 5850 | M22: =$C22 -> Camión Furgon | N22: =$F22 -> Viajes | O22: =H22*11*0 -> 0 | P22: =J22*#REF! -> #REF! | S22: =$C22 -> Camión Furgon | T22: =$F22 -> Viajes | U22: =ROUND(#REF!*$H22,2) -> #REF! | V22: =ROUND(#REF!*$J22,2) -> #REF! | X22: 103
J23: =K14 -> 39000 | X23: -3
A25: 10192 | B25: Partida | C25: =VLOOKUP($A25,PRESUPUESTO_,2,FALSE) -> 1.02 | D25: =VLOOKUP($A25,PRESUPUESTO_,3,FALSE) -> Trazo, Nivelación y Replanteo | K25: =SUM(K28:K38) -> 1939.1 | M25: =D25 -> Trazo, Nivelación y Replanteo | S25: =D25 -> Trazo, Nivelación y Replanteo | X25: 103
B26: Rendimiento: | C26: =VLOOKUP($A25,RENDIMIENTO,5,FALSE) -> 0.10625 | D26: =VLOOKUP($A25,RENDIMIENTO,4,FALSE) -> km | E26: /hr | H26: C.U. Total: | I26: =K25 -> 1939.1 | J26: =VLOOKUP($A25,RENDIMIENTO,4,FALSE) -> km | M26: =VLOOKUP(A25,PRESUPUESTO_,5,FALSE) -> 28.61 | N26: #N/A | O26: TOTAL PARTIDA: | P26: =SUM(P29:P37) -> #REF! | Q26: =VLOOKUP(A25,PRESUPUESTO_,10,FALSE) -> 55477.65 | R26: =IF(Q26<>P26,"ver","ok") -> #REF! | S26: #N/A | T26: #N/A | U26: TOTAL PARTIDA: | V26: =SUM(#REF!) -> #REF! | X26: 103 | Z26: Cota 4125 | AA26: Cota 4126 | AB26: Cota 4127 | AC26: Cota 4128 | AD26: Cota 4129 | AE26: Cota 4130 | AF26: Cota 4131 | AG26: Cota 4132 | AH26: Cota 4133 | AI26: Cota 4134 | AJ26: Cota 4135
B27: Codigo | C27: Recurso | F27: UND | G27: Cuadrilla | H27: Cantidad | I27: C.U. | J27: C.Parcial | K27: SUBTOTAL | M27: DESCRIPCION | N27: UND | O27: CANTIDAD | P27: COSTOx PART. | S27: DESCRIPCION | T27: UND | U27: CANTIDAD | V27: COSTOx PART. | X27: 103 | AG27: =+'[5]1.9 Duration'!#REF! -> #REF! | AH27: =+'[5]1.9 Duration'!#REF! -> #REF! | AI27: =+'[5]1.9 Duration'!#REF! -> #REF! | AJ27: =+'[5]1.9 Duration'!#REF! -> #REF!
A28: =CONCATENATE(A25,L28) -> 10192(C) | B28: Mano de Obra | K28: =+J33 -> 1532.14 | L28: (C) | X28: 103
B29: TF00005 | C29: =VLOOKUP($B29,Recursos,2,FALSE) -> Topógrafo | F29: =VLOOKUP($B29,Recursos,3,FALSE) -> hh | G29: 2 | H29: =G29/$C$26 -> 18.823529 | I29: =VLOOKUP($B29,Recursos,4,FALSE) -> 28.247868 | J29: =ROUND(H29*I29,2) -> 531.72 | M29: =$C29 -> Topógrafo | N29: =$F29 -> hh | O29: =ROUND($M$26*$H29,2) -> 538.54 | P29: =J29*#REF! -> #REF! | S29: =$C29 -> Topógrafo | T29: =$F29 -> hh | U29: =ROUND(#REF!*$H29,2) -> #REF! | V29: =ROUND(#REF!*$J29,2) -> #REF! | X29: 103 | AG29: =+$H$164*AG$162 -> 0 | AH29: =+$H$164*AH$162 -> 0 | AI29: =+$H$164*AI$162 -> 0 | AJ29: =+$H$164*AJ$162 -> 0 | AK29: =SUM(Z29:AJ29) -> 0 | AL29: =IF(AK29=O29,"OK","CORREGIR") -> CORREGIR
B30: TF00007 | C30: =VLOOKUP($B30,Recursos,2,FALSE) -> Cadista | F30: =VLOOKUP($B30,Recursos,3,FALSE) -> hh | G30: 1 | H30: =G30/$C$26 -> 9.4117647 | I30: =VLOOKUP($B30,Recursos,4,FALSE) -> 22.311788 | J30: =ROUND(H30*I30,2) -> 209.99 | M30: =$C30 -> Cadista | N30: =$F30 -> hh | O30: =ROUND($M$26*$H30,2) -> 269.27 | P30: =J30*#REF! -> #REF! | S30: =$C30 -> Cadista | T30: =$F30 -> hh | U30: =ROUND(#REF!*$H30,2) -> #REF! | V30: =ROUND(#REF!*$J30,2) -> #REF! | X30: 103 | AG30: =+$H$165*AG$162 -> 0 | AH30: =+$H$165*AH$162 -> 0 | AI30: =+$H$165*AI$162 -> 0 | AJ30: =+$H$165*AJ$162 -> 0 | AK30: =SUM(Z30:AJ30) -> 0 | AL30: =IF(AK30=O30,"OK","CORREGIR") -> CORREGIR
B31: TF00006 | C31: =VLOOKUP($B31,Recursos,2,FALSE) -> Auxiliar de Topógrafo | F31: =VLOOKUP($B31,Recursos,3,FALSE) -> hh | G31: 2 | H31: =G31/$C$26 -> 18.823529 | I31: =VLOOKUP($B31,Recursos,4,FALSE) -> 22.311788 | J31: =ROUND(H31*I31,2) -> 419.99 | M31: =$C31 -> Auxiliar de Topógrafo | N31: =$F31 -> hh | O31: =ROUND($M$26*$H31,2) -> 538.54 | P31: =J31*#REF! -> #REF! | S31: =$C31 -> Auxiliar de Topógrafo | T31: =$F31 -> hh | U31: =ROUND(#REF!*$H31,2) -> #REF! | V31: =ROUND(#REF!*$J31,2) -> #REF! | X31: 103 | AG31: =+$H$165*AG$162 -> 0 | AH31: =+$H$165*AH$162 -> 0 | AI31: =+$H$165*AI$162 -> 0 | AJ31: =+$H$165*AJ$162 -> 0 | AK31: =SUM(Z31:AJ31) -> 0 | AL31: =IF(AK31=O31,"OK","CORREGIR") -> CORREGIR
B32: TF00012 | C32: =VLOOKUP($B32,Recursos,2,FALSE) -> Peón | F32: =VLOOKUP($B32,Recursos,3,FALSE) -> hh | G32: 2 | H32: =G32/$C$26 -> 18.823529 | I32: =VLOOKUP($B32,Recursos,4,FALSE) -> 19.679802 | J32: =ROUND(H32*I32,2) -> 370.44 | M32: =$C32 -> Peón | N32: =$F32 -> hh | O32: =ROUND($M$26*$H32,2) -> 538.54 | P32: =J32*#REF! -> #REF! | S32: =$C32 -> Peón | T32: =$F32 -> hh | U32: =ROUND(#REF!*$H32,2) -> #REF! | V32: =ROUND(#REF!*$J32,2) -> #REF! | X32: 103 | AG32: =+$H$165*AG$162 -> 0 | AH32: =+$H$165*AH$162 -> 0 | AI32: =+$H$165*AI$162 -> 0 | AJ32: =+$H$165*AJ$162 -> 0 | AK32: =SUM(Z32:AJ32) -> 0 | AL32: =IF(AK32=O32,"OK","CORREGIR") -> CORREGIR
J33: =SUM(J29:J32) -> 1532.14
A34: =CONCATENATE(A25,L34) -> 10192(D) | B34: Herramientas y Equipos | K34: =SUM(J36:J37) -> 406.96 | L34: (D) | X34: 103
B35: TF00044 | C35: =VLOOKUP($B35,Recursos,2,FALSE) -> Estación total | F35: =VLOOKUP($B35,Recursos,3,FALSE) -> hm | G35: 0.25 | H35: =G35/$C$26 -> 2.3529412 | I35: =VLOOKUP($B35,Recursos,4,FALSE) -> 11.4 | J35: =ROUND(H35*I35,2) -> 26.82 | M35: =$C35 -> Estación total | N35: =$F35 -> hm | O35: =ROUND($M$26*$H35,2) -> 67.32 | P35: =J35*#REF! -> #REF! | S35: =$C35 -> Estación total | T35: =$F35 -> hm | U35: =ROUND(#REF!*$H35,2) -> #REF! | V35: =ROUND(#REF!*$J35,2) -> #REF! | X35: 103 | AG35: =+$H$169*AG$162 -> 0 | AH35: =+$H$169*AH$162 -> 0 | AI35: =+$H$169*AI$162 -> 0 | AJ35: =+$H$169*AJ$162 -> 0 | AK35: =SUM(Z35:AJ35) -> 0 | AL35: =IF(AK35=O35,"OK","CORREGIR") -> CORREGIR
B36: TF00043 | C36: =VLOOKUP($B36,Recursos,2,FALSE) -> GPS | F36: =VLOOKUP($B36,Recursos,3,FALSE) -> hm | G36: 0.75 | H36: =G36/$C$26 -> 7.0588235 | I36: =VLOOKUP($B36,Recursos,4,FALSE) -> 46.8 | J36: =ROUND(H36*I36,2) -> 330.35 | M36: =$C36 -> GPS | N36: =$F36 -> hm | O36: =ROUND($M$26*$H36,2) -> 201.95 | P36: =J36*#REF! -> #REF! | S36: =$C36 -> GPS | T36: =$F36 -> hm | U36: =ROUND(#REF!*$H36,2) -> #REF! | V36: =ROUND(#REF!*$J36,2) -> #REF! | X36: 103 | AG36: =+$H$169*AG$162 -> 0 | AH36: =+$H$169*AH$162 -> 0 | AI36: =+$H$169*AI$162 -> 0 | AJ36: =+$H$169*AJ$162 -> 0 | AK36: =SUM(Z36:AJ36) -> 0 | AL36: =IF(AK36=O36,"OK","CORREGIR") -> CORREGIR
B37: TF00060 | C37: =VLOOKUP($B37,Recursos,2,FALSE) -> Herramientas (% Mano Obra) | F37: =VLOOKUP($B37,Recursos,3,FALSE) -> % | H37: 0.05 | I37: =J33 -> 1532.14 | J37: =ROUND(H37*I37,2) -> 76.61 | M37: =$C37 -> Herramientas (% Mano Obra) | N37: =$F37 -> % | P37: =J37*#REF! -> #REF! | S37: =$C37 -> Herramientas (% Mano Obra) | T37: =$F37 -> % | U37: =ROUND(#REF!*$H37,2) -> #REF! | V37: =ROUND(#REF!*$J37,2) -> #REF! | X37: 103
J38: =K34 -> 406.96 | X38: -3
A40: 10197 | B40: Partida | C40: =VLOOKUP($A40,PRESUPUESTO_,2,FALSE) -> 2.01 | D40: =VLOOKUP($A40,PRESUPUESTO_,3,FALSE) -> Roce y Limpieza de Maleza | K40: =SUM(K43:K53) -> 3.05 | M40: =D40 -> Roce y Limpieza de Maleza | S40: =D40 -> Roce y Limpieza de Maleza | X40: 103 | Z40: BOOSTER | AK40: RELLENO AL VOLTEO EN FUNDACION 0+800 A 1+200 | AO40: RELLENO CONTROLADO EN FUNDACION 0+800 A 1+200 | AY40: RELLENO DE BERMA
B41: Rendimiento: | C41: =VLOOKUP($A40,RENDIMIENTO,5,FALSE) -> 350 | D41: =VLOOKUP($A40,RENDIMIENTO,4,FALSE) -> m2 | E41: /hr | H41: C.U. Total: | I41: =K40 -> 3.05 | J41: =VLOOKUP($A40,RENDIMIENTO,4,FALSE) -> m2 | L41: =M41/(C41*8) -> 3.0653571 | M41: =VLOOKUP(A40,PRESUPUESTO_,5,FALSE) -> 8583 | N41: #N/A | O41: TOTAL PARTIDA: | P41: =SUM(P44:P52) -> #REF! | Q41: =VLOOKUP(A40,PRESUPUESTO_,10,FALSE) -> 26178.15 | R41: =IF(Q41<>P41,"ver","ok") -> #REF! | S41: #N/A | T41: #N/A | U41: TOTAL PARTIDA: | V41: =SUM(#REF!) -> #REF! | X41: 103 | Z41: Cota 4125 | AA41: Cota 4126 | AB41: Cota 4127 | AC41: Cota 4128 | AD41: Cota 4129 | AE41: Cota 4130 | AF41: Cota 4131 | AG41: Cota 4132 | AH41: Cota 4133 | AI41: Cota 4134 | AJ41: Cota 4135 | AK41: Cota 4132 | AL41: Cota 4133 | AM41: Cota 4134 | AN41: Cota 4135 | AO41: Cota 4136 | AP41: Cota 4137 | AQ41: Cota 4138 | AR41: Cota 4139 | AS41: Cota 4140 | AT41: Cota 4141 | AU41: Cota 4142 | AV41: Cota 4143 | AW41: Cota 4144 | AX41: Cota 4145 | AY41: Prog. 0+800a1+000 | AZ41: Prog. 1+000 a 1+200
B42: Codigo | C42: Recurso | F42: UND | G42: Cuadrilla | H42: Cantidad | I42: C.U. | J42: C.Parcial | K42: SUBTOTAL | M42: DESCRIPCION | N42: UND | O42: CANTIDAD | P42: COSTOx PART. | S42: DESCRIPCION | T42: UND | U42: CANTIDAD | V42: COSTOx PART. | X42: 103 | Z42: =+'[4]1.9 Duration'!#REF! -> #REF! | AA42: =+'[4]1.9 Duration'!#REF! -> #REF! | AB42: =+'[4]1.9 Duration'!#REF! -> #REF! | AC42: =+'[4]1.9 Duration'!#REF! -> #REF! | AD42: =+'[4]1.9 Duration'!#REF! -> #REF! | AE42: =+'[4]1.9 Duration'!#REF! -> #REF! | AF42: =+'[4]1.9 Duration'!#REF! -> #REF! | AG42: =+'[4]1.9 Duration'!#REF! -> #REF! | ... AJ42: =+'[4]1.9 Duration'!#REF! -> #REF! | AK42: ='[4]1.9 Duration'!#REF! -> #REF! | AL42: ='[4]1.9 Duration'!#REF! -> #REF! | AM42: ='[4]1.9 Duration'!#REF! -> #REF! | AN42: ='[4]1.9 Duration'!#REF! -> #REF! | AO42: =+'[4]1.9 Duration'!#REF! -> #REF! | AP42: =+'[4]1.9 Duration'!#REF! -> #REF! | AQ42: =+'[4]1.9 Duration'!#REF! -> #REF! | AR42: =+'[4]1.9 Duration'!#REF! -> #REF! | AS42: =+'[4]1.9 Duration'!#REF! -> #REF! | AT42: =+'[4]1.9 Duration'!F4 -> 0 | AU42: =+'[4]1.9 Duration'!F8 -> 4 | AV42: =+'[4]1.9 Duration'!F12 -> 1 | AW42: =+'[4]1.9 Duration'!F16 -> 2 | AX42: =+'[4]1.9 Duration'!F20 -> 65237.642 | AY42: =+'[4]1.9 Duration'!F80 -> 27538.366 | AZ42: =+'[4]1.9 Duration'!F84 -> 13922.235
A43: =CONCATENATE(A40,L43) -> 10197(C) | B43: Mano de Obra | K43: =+J47 -> 0.62 | L43: (C) | X43: 103
B44: TF00002 | C44: =VLOOKUP($B44,Recursos,2,FALSE) -> Capataz | F44: =VLOOKUP($B44,Recursos,3,FALSE) -> hh | G44: 1 | H44: =ROUNDUP(G44/$C$41,4) -> 0.0029 | I44: =VLOOKUP($B44,Recursos,4,FALSE) -> 29.540833 | J44: =ROUND(H44*I44,2) -> 0.09 | M44: =$C44 -> Capataz | N44: =$F44 -> hh | O44: =ROUND($M$41*$H44,2) -> 24.89 | P44: =J44*#REF! -> #REF! | S44: =$C44 -> Capataz | T44: =$F44 -> hh | U44: =ROUND(#REF!*$H44,2) -> #REF! | V44: =ROUND(#REF!*$J44,2) -> #REF! | X44: 103 | Z44: =+$H44*#REF! -> #REF! | AA44: =+$H44*#REF! -> #REF! | AB44: =+$H44*#REF! -> #REF! | AC44: =+$H44*#REF! -> #REF! | AD44: =+$H44*#REF! -> #REF! | AE44: =+$H44*#REF! -> #REF! | AF44: =+$H44*#REF! -> #REF! | AG44: =+$H44*#REF! -> #REF! | ... AZ44: =+$H44*#REF! -> #REF! | BA44: =SUM(Z44:AZ44) -> #REF! | BB44: =IF(BA44=O44,"OK","CORREGIR") -> #REF!
B45: TF00003 | C45: =VLOOKUP($B45,Recursos,2,FALSE) -> Operador de equipo pesado | F45: =VLOOKUP($B45,Recursos,3,FALSE) -> hh | G45: 5 | H45: =ROUNDUP(G45/$C$41,4) -> 0.0143 | I45: =VLOOKUP($B45,Recursos,4,FALSE) -> 29.046555 | J45: =ROUND(H45*I45,2) -> 0.42 | M45: =$C45 -> Operador de equipo pesado | N45: =$F45 -> hh | O45: =ROUND($M$41*$H45,2) -> 122.74 | P45: =J45*#REF! -> #REF! | S45: =$C45 -> Operador de equipo pesado | T45: =$F45 -> hh | U45: =ROUND(#REF!*$H45,2) -> #REF! | V45: =ROUND(#REF!*$J45,2) -> #REF! | X45: 103 | Z45: =+$H45*#REF! -> #REF! | AA45: =+$H45*#REF! -> #REF! | AB45: =+$H45*#REF! -> #REF! | AC45: =+$H45*#REF! -> #REF! | AD45: =+$H45*#REF! -> #REF! | AE45: =+$H45*#REF! -> #REF! | AF45: =+$H45*#REF! -> #REF! | AG45: =+$H45*#REF! -> #REF! | ... AZ45: =+$H45*#REF! -> #REF! | BA45: =SUM(Z45:AZ45) -> #REF! | BB45: =IF(BA45=O45,"OK","CORREGIR") -> #REF!
B46: TF00014 | C46: =VLOOKUP($B46,Recursos,2,FALSE) -> Vigía | F46: =VLOOKUP($B46,Recursos,3,FALSE) -> hh | G46: 2 | H46: =ROUNDUP(G46/$C$41,4) -> 0.0058 | I46: =VLOOKUP($B46,Recursos,4,FALSE) -> 19.679802 | J46: =ROUND(H46*I46,2) -> 0.11 | M46: =$C46 -> Vigía | N46: =$F46 -> hh | O46: =ROUND($M$41*$H46,2) -> 49.78 | P46: =J46*#REF! -> #REF! | S46: =$C46 -> Vigía | T46: =$F46 -> hh | U46: =ROUND(#REF!*$H46,2) -> #REF! | V46: =ROUND(#REF!*$J46,2) -> #REF! | X46: 103 | Z46: =+$H46*#REF! -> #REF! | AA46: =+$H46*#REF! -> #REF! | AB46: =+$H46*#REF! -> #REF! | AC46: =+$H46*#REF! -> #REF! | AD46: =+$H46*#REF! -> #REF! | AE46: =+$H46*#REF! -> #REF! | AF46: =+$H46*#REF! -> #REF! | AG46: =+$H46*#REF! -> #REF! | ... AZ46: =+$H46*#REF! -> #REF! | BA46: =SUM(Z46:AZ46) -> #REF! | BB46: =IF(BA46=O46,"OK","CORREGIR") -> #REF!
J47: =SUM(J44:J46) -> 0.62
A48: =CONCATENATE(A40,L48) -> 10197(D) | B48: Herramientas y Equipos | K48: =SUM(J49:J52) -> 2.43 | L48: (D) | X48: 103
...

Sheet 1.4 Insumos
A2: ESTRUCTURA DE TARIFA DE EQUIPOS Y MANO DE OBRA
A4: =+'1.2 APU'!B6 -> PROYECTO: | B4: =+'1.2 APU'!C6 -> MEJORAMIENTO DE VÍAS Y ACCESOS EXISTENTES SUBPROYECTOS A3-A4
A5: =+'1.2 APU'!B7 -> POSTOR: | B5: =+'1.2 APU'!C7 -> ZOVICSA
A6: =+'1.2 APU'!B8 -> FECHA : | B6: =+'1.2 APU'!C8 -> 44655
A9: CODIGO | B9: DESCRIPCIÓN | C9: UND | D9: COSTO S/h | F9: CANTIDAD HH
A10: TF00001 | B10: MANO DE OBRA
A11: TF00002 | B11: Capataz | C11: hh | D11: 29.540833 | F11: =SUMIF('1.2 APU'!$B$9:$B$111,'1.4 Insumos'!A11,'1.2 APU'!$O$9:$O$111) -> 373.12
A12: TF00003 | B12: Operador de equipo pesado | C12: hh | D12: 29.046555 | F12: =SUMIF('1.2 APU'!$B$9:$B$111,'1.4 Insumos'!A12,'1.2 APU'!$O$9:$O$111) -> 2605.72
A13: TF00004 | B13: Operario | C13: hh | D13: 28.247868 | F13: =SUMIF('1.2 APU'!$B$9:$B$111,'1.4 Insumos'!A13,'1.2 APU'!$O$9:$O$111) -> 0
A14: TF00005 | B14: Topógrafo | C14: hh | D14: 28.247868 | F14: =SUMIF('1.2 APU'!$B$9:$B$111,'1.4 Insumos'!A14,'1.2 APU'!$O$9:$O$111) -> 538.54
A15: TF00006 | B15: Auxiliar de Topógrafo | C15: hh | D15: 22.311788 | F15: =SUMIF('1.2 APU'!$B$9:$B$111,'1.4 Insumos'!A15,'1.2 APU'!$O$9:$O$111) -> 538.54
A16: TF00007 | B16: Cadista | C16: hh | D16: 22.311788 | F16: =SUMIF('1.2 APU'!$B$9:$B$111,'1.4 Insumos'!A16,'1.2 APU'!$O$9:$O$111) -> 269.27
A17: TF00008 | B17: Operario Termofusionista | C17: hh | F17: =SUMIF('1.2 APU'!$B$9:$B$111,'1.4 Insumos'!A17,'1.2 APU'!$O$9:$O$111) -> 0
A18: TF00009 | B18: Oficial Termofusionista | C18: hh | F18: =SUMIF('1.2 APU'!$B$9:$B$111,'1.4 Insumos'!A18,'1.2 APU'!$O$9:$O$111) -> 0
A19: TF00010 | B19: Técnico QC de geosinteticos | C19: hh | F19: =SUMIF('1.2 APU'!$B$9:$B$111,'1.4 Insumos'!A19,'1.2 APU'!$O$9:$O$111) -> 0
A20: TF00011 | B20: Oficial | C20: hh | D20: 20.706091 | F20: =SUMIF('1.2 APU'!$B$9:$B$111,'1.4 Insumos'!A20,'1.2 APU'!$O$9:$O$111) -> 0
A21: TF00012 | B21: Peón | C21: hh | D21: 19.679802 | F21: =SUMIF('1.2 APU'!$B$9:$B$111,'1.4 Insumos'!A21,'1.2 APU'!$O$9:$O$111) -> 1077.08
A22: TF00013 | B22: Cuadrador | C22: hh | D22: 19.679802 | F22: =SUMIF('1.2 APU'!$B$9:$B$111,'1.4 Insumos'!A22,'1.2 APU'!$O$9:$O$111) -> 0
A23: TF00014 | B23: Vigía | C23: hh | D23: 19.679802 | F23: =SUMIF('1.2 APU'!$B$9:$B$111,'1.4 Insumos'!A23,'1.2 APU'!$O$9:$O$111) -> 900.74
A24: TF00015 | B24: Rigger | C24: hh | F24: =SUMIF('1.2 APU'!$B$9:$B$111,'1.4 Insumos'!A24,'1.2 APU'!$O$9:$O$111) -> 0
A25: TF00016 | B25: Técnico de suelos | C25: hh | F25: =SUMIF('1.2 APU'!$B$9:$B$111,'1.4 Insumos'!A25,'1.2 APU'!$O$9:$O$111) -> 0
A26: TF00017 | B26: Auxiliar Técnico de suelos | C26: hh | F26: =SUMIF('1.2 APU'!$B$9:$B$111,'1.4 Insumos'!A26,'1.2 APU'!$O$9:$O$111) -> 0
A27: TF00018 | B27: Controlador | C27: hh | F27: =SUMIF('1.2 APU'!$B$9:$B$111,'1.4 Insumos'!A27,'1.2 APU'!$O$9:$O$111) -> 0
A28: TF00019 | B28: Supervisor | C28: hh | F28: =SUMIF('1.2 APU'!$B$9:$B$111,'1.4 Insumos'!A28,'1.2 APU'!$O$9:$O$111) -> 0
A29: TF00020 | B29: EQUIPOS PESADOS
A30: TF00021 | B30: Tractor sobre Orugas CAT D8T | C30: hm | D30: 308.49639 | F30: =SUMIF('1.2 APU'!$B$9:$B$111,'1.4 Insumos'!A30,'1.2 APU'!$O$9:$O$111) -> 269.27
A31: TF00022 | B31: Tractor sobre Orugas CAT D6T | C31: hm | D31: 212.42639 | F31: =SUMIF('1.2 APU'!$B$9:$B$111,'1.4 Insumos'!A31,'1.2 APU'!$O$9:$O$111) -> 0
A32: TF00023 | B32: Excavadora EC 380D | C32: hm | D32: 235.59639 | F32: =SUMIF('1.2 APU'!$B$9:$B$111,'1.4 Insumos'!A32,'1.2 APU'!$O$9:$O$111) -> 0
A33: TF00024 | B33: Excavadora John Deere 290 | C33: hm | D33: 215.12139 | F33: =SUMIF('1.2 APU'!$B$9:$B$111,'1.4 Insumos'!A33,'1.2 APU'!$O$9:$O$111) -> 0
A34: TF00025 | B34: Cargador Frontal John Deere 744 K | C34: hm | D34: 190.56139 | F34: =SUMIF('1.2 APU'!$B$9:$B$111,'1.4 Insumos'!A34,'1.2 APU'!$O$9:$O$111) -> 181.1
A35: TF00026 | B35: Retroexcavadora Cat 420e | C35: hm | D35: 135.83139 | F35: =SUMIF('1.2 APU'!$B$9:$B$111,'1.4 Insumos'!A35,'1.2 APU'!$O$9:$O$111) -> 24.89
A36: TF00027 | B36: Volquete de 17 m3 | C36: hm | D36: 127.05139 | F36: =SUMIF('1.2 APU'!$B$9:$B$111,'1.4 Insumos'!A36,'1.2 APU'!$O$9:$O$111) -> 1348.38
A37: TF00028 | B37: Volquetes de 15 m3 | C37: hm | D37: 135.05139 | F37: =SUMIF('1.2 APU'!$B$9:$B$111,'1.4 Insumos'!A37,'1.2 APU'!$O$9:$O$111) -> 0
A38: TF00029 | B38: Cisterna de agua 5,000 gln. | C38: hm | D38: 101.88139 | F38: =SUMIF('1.2 APU'!$B$9:$B$111,'1.4 Insumos'!A38,'1.2 APU'!$O$9:$O$111) -> 269.27
A39: TF00030 | B39: Camión Grúa de 20 Ton. | C39: hm | F39: =SUMIF('1.2 APU'!$B$9:$B$111,'1.4 Insumos'!A39,'1.2 APU'!$O$9:$O$111) -> 0
A40: TF00031 | B40: Camión Furgon | C40: hm | F40: =SUMIF('1.2 APU'!$B$9:$B$111,'1.4 Insumos'!A40,'1.2 APU'!$O$9:$O$111) -> 0
A41: TF00032 | B41: Motoniveladora de 140 HP | C41: hm | F41: =SUMIF('1.2 APU'!$B$9:$B$111,'1.4 Insumos'!A41,'1.2 APU'!$O$9:$O$111) -> 269.27
A42: TF00033 | B42: Rodillo Liso Vibratorio Autopropulsado HAMM 20 Tn. | C42: hm | D42: 172.08639 | F42: =SUMIF('1.2 APU'!$B$9:$B$111,'1.4 Insumos'!A42,'1.2 APU'!$O$9:$O$111) -> 269.27
A43: TF00034 | B43: Rodillo Liso Vibratorio Autopropulsado HAMM 11 Tn. | C43: hm | D43: 126.66139 | F43: =SUMIF('1.2 APU'!$B$9:$B$111,'1.4 Insumos'!A43,'1.2 APU'!$O$9:$O$111) -> 0
A44: TF00035 | B44: Perforadora | C44: hm | F44: =SUMIF('1.2 APU'!$B$9:$B$111,'1.4 Insumos'!A44,'1.2 APU'!$O$9:$O$111) -> 0
...

Sheet 1.3 Gastos Generales
O1: Plazo = | P1: =ROUND(37/30,2) -> 1.23 | S1: Laborado | T1: DL | U1: Total
R2: Regimen | S2: 15 | T2: 6 | U2: =+S2+T2 -> 21 | V2: =+S2/U2 -> 0.71428571
B3: GASTOS GENERALES
B5: Licitación: | D5: =+'[1]1.2 APU'!C6 -> CONSTRUCCIÓN PLATAFORMA DE CONTRATISTAS E1 Y E2
B6: Presentado a: | D6: OHLA
B7: Postor: | D7: ZOVICSA
B8: Fecha: | D8: =+'1.2 APU'!C8 -> 44655
B10: DETALLE DE GASTOS GENERALES FIJOS
B12: COSTO | C12: CONCEPTO | E12: Und | F12: P.U. US$ | G12: Cant | H12: Turnos | I12: Tiempo | J12: Aporte | K12: Parcial US$ | L12: Subtotal US$
C14: 1 | D14: SERVICIOS Y ALQUILERES EN OBRA | L14: =ROUND(SUM(K15:K17),2) -> 0
C15: . | D15: Inst. Sistema de control de combustible en EQ | E15: Und | F15: 100 | G15: 0 | J15: 0.5 | K15: =ROUND(J15*G15*F15,2) -> 0
C16: . | D16: Inst. de Sistema Antifatiga | E16: Und | F16: =700 -> 700 | G16: 0 | J16: 1 | K16: =ROUND(J16*G16*F16,2) -> 0
C19: 2 | D19: OTROS GASTOS | L19: =ROUND(SUM(K20:K22),2) -> 18972
C20: . | D20: Examen pre y pos - ocupacional | E20: Und | F20: =ROUNDUP(446/TC,2) -> 446 | G20: =ROUND('Equipos-Personal (HH y HM)'!E43+SUMPRODUCT(G31:G63,J31:J63),0) -> 51 | I20: 1 | J20: 0.75 | K20: =ROUND(F20*G20*I20*J20,2) -> 17059.5
C21: . | D21: Examen de inducción | E21: Und | F21: =ROUNDUP(50/TC,2) -> 50 | G21: =ROUND('Equipos-Personal (HH y HM)'!E43+SUMPRODUCT(G31:G63,J31:J63),0) -> 51 | I21: 1 | J21: 0.75 | K21: =ROUND(F21*G21*I21*J21,2) -> 1912.5
C22: . | D22: Inducción general | E22: Und | F22: =[1]Tarifas!D128*8*4*V2 -> 167.54286 | G22: =ROUND('Equipos-Personal (HH y HM)'!E43+SUMPRODUCT(G31:G63,J31:J63),0)*0 -> 0 | I22: 1 | J22: 0.75 | K22: =ROUND(F22*G22*I22*J22,2) -> 0
D24: GASTOS GENERALES FIJOS TOTALES | K24: S/. | L24: =SUM(L13:L23) -> 18972
B26: DETALLE DE GASTOS GENERALES VARIABLES
B28: COSTO | C28: CONCEPTO | E28: Und | F28: P.U. S/. | G28: Cant | H28: Turnos | I28: Tiempo | J28: Aporte | K28: Parcial S/. | L28: Subtotal US$
C30: 1 | D30: PERSONAL STAFF | L30: =SUBTOTAL(9,K31:K44) -> 106225.88
B31: V | C31: . | D31: Jefe de proyecto | E31: mes | F31: =ROUND(16000*1.47/TC,2) -> 23520 | G31: 0 | H31: 1 | I31: =PZ -> 1.23 | J31: 0.5 | K31: =PRODUCT(F31:J31) -> 0
B32: V | C32: . | D32: Ing. Residente | E32: mes | F32: =ROUND(13500*1.47/TC,2) -> 19845 | G32: 1 | H32: 1 | I32: =$I$31 -> 1.23 | J32: 1 | K32: =PRODUCT(F32:J32) -> 24409.35
B33: V | C33: . | D33: Jefe de Oficina Técnica | E33: mes | F33: =ROUND(11000*1.47/TC,2) -> 16170 | G33: 1 | H33: 1 | I33: =$I$31 -> 1.23 | J33: 1 | K33: =PRODUCT(F33:J33) -> 19889.1
B34: V | C34: . | D34: Ing. de Oficina Técnica | E34: mes | F34: =ROUND(8000*1.47/TC,2) -> 11760 | G34: 1 | H34: 1 | I34: =$I$31 -> 1.23 | J34: 1 | K34: =PRODUCT(F34:J34) -> 14464.8
B35: V | C35: . | D35: Ing. de Costos | E35: mes | F35: =ROUND(6000*1.47/TC,2) -> 8820 | G35: =1*0 -> 0 | H35: 1 | I35: =$I$31 -> 1.23 | J35: 1 | K35: =PRODUCT(F35:J35) -> 0
B36: V | C36: . | D36: Supervisor de campo | E36: mes | F36: =ROUND(6500*1.47/TC,2) -> 9555 | G36: 2 | H36: 1 | I36: =$I$31 -> 1.23 | J36: 1 | K36: =PRODUCT(F36:J36) -> 23505.3
B37: V | C37: . | D37: Jefe de SSOMA | E37: mes | F37: =ROUND(8000*1.47/TC,2) -> 11760 | G37: =1*0 -> 0 | H37: 1 | I37: =$I$31 -> 1.23 | J37: 0.5 | K37: =PRODUCT(F37:J37) -> 0
B38: V | C38: . | D38: Ing. Supervisor de SSO | E38: mes | F38: =ROUND(5500*1.47/TC,2) -> 8085 | G38: 1 | H38: 1 | I38: =$I$31 -> 1.23 | J38: 1 | K38: =PRODUCT(F38:J38) -> 9944.55
B39: V | C39: . | D39: Supervisor MA | E39: mes | F39: =ROUND(3500*1.47/TC,2) -> 5145 | G39: 1 | H39: 1 | I39: =$I$31 -> 1.23 | J39: 0.5 | K39: =PRODUCT(F39:J39) -> 3164.175
B40: V | C40: . | D40: Jefe de Control de Calidad | E40: mes | F40: =ROUND(8000*1.47/TC,2) -> 11760 | G40: 0 | H40: 1 | I40: =$I$31 -> 1.23 | J40: 0.5 | K40: =PRODUCT(F40:J40) -> 0
B41: V | C41: . | D41: Supervisor de QC | E41: mes | F41: =ROUND(6000*1.47/TC,2) -> 8820 | G41: 1 | H41: 1 | I41: =$I$31 -> 1.23 | J41: 1 | K41: =PRODUCT(F41:J41) -> 10848.6
B42: V | C42: . | D42: Supervisor de Mtto | E42: mes | F42: =ROUND(4500*1.47/TC,2) -> 6615 | G42: 0 | H42: 1 | I42: =$I$31 -> 1.23 | J42: 0.5 | K42: =PRODUCT(F42:J42) -> 0
B43: V | C43: . | D43: Jefe de Topografía | E43: mes | F43: =ROUND(5000*1.47/TC,2) -> 7350 | G43: 0 | H43: 1 | I43: =$I$31 -> 1.23 | J43: 0.5 | K43: =PRODUCT(F43:J43) -> 0
B44: V | C44: . | D44: Administrador | E44: mes | F44: =ROUND(4500*1.47/TC,2) -> 6615 | G44: 0 | H44: 1 | I44: =$I$31 -> 1.23 | J44: 1 | K44: =PRODUCT(F44:J44) -> 0
C46: 2 | D46: PERSONAL TECNICO Y AUXILIAR | L46: =SUBTOTAL(9,K47:K51) -> 10826.989
B47: V | C47: . | D47: Técnico de Campo y Laboratorio | E47: mes | F47: =ROUND([1]Tarifas!D133*11*30*V2,2) -> 2187.43 | G47: 1 | H47: 1 | I47: =$I$31 -> 1.23 | J47: 1 | K47: =PRODUCT(F47:J47) -> 2690.5389
B48: V | C48: . | D48: Asistente de Oficina Técnica | E48: mes | F48: =ROUND(4500*1.47/TC,2) -> 6615 | G48: 1 | H48: 1 | I48: =$I$31 -> 1.23 | J48: 1 | K48: =PRODUCT(F48:J48) -> 8136.45
B49: V | C49: . | D49: Enfermero ocupacional | E49: mes | F49: =ROUND(3500*1.47/TC,2) -> 5145 | G49: 0 | H49: 1 | I49: =$I$31 -> 1.23 | J49: 1 | K49: =PRODUCT(F49:J49) -> 0
B50: V | C50: . | D50: Control Documentario | E50: mes | F50: =ROUND(3500*1.47/TC,2) -> 5145 | G50: 0 | H50: 1 | I50: =$I$31 -> 1.23 | J50: 0.5 | K50: =PRODUCT(F50:J50) -> 0
B51: V | C51: . | D51: Controlador | E51: mes | F51: =ROUND([1]Tarifas!D135*11*30*V2,) -> 1728 | G51: 0 | H51: 1 | I51: =$I$31 -> 1.23 | J51: 1 | K51: =PRODUCT(F51:J51) -> 0
...

Sheet 1.9 Duration
U1: Turno día | V1: Turno noche | W1: Horas Totales
C2: CUADRO DE DURACIONES | U2: 11 | V2: 10 | W2: =U2+V2 -> 21
C3: Activity ID | D3: Activity Name | E3: und | F3: Metrado Estimado | G3: Calendario | H3: Ratio HH | I3: HH Total | J3: Rendimiento | K3: Rendimiento | L3: Cuadrilla | M3: Duración | N3: Duración Final en el cronograma | O3: Start | P3: Finish | Q3: Predecessors | R3: Successors | S3: Comentarios
B4: 10190 | C4: =VLOOKUP($B4,RENDIMIENTO,2,FALSE) -> 1 | D4: =VLOOKUP($B4,RENDIMIENTO,3,FALSE) -> TRABAJOS PRELIMINARES | N4: =SUM(N6:N7) -> #N/A
B5: 10191 | C5: =VLOOKUP($B5,RENDIMIENTO,2,FALSE) -> 1.01 | D5: =VLOOKUP($B5,RENDIMIENTO,3,FALSE) -> Movilización y demovilización de equipos | E5: =VLOOKUP($B5,RENDIMIENTO,4,FALSE) -> glb | F5: =VLOOKUP(B5,PRESUPUESTO_,5,FALSE) -> 1 | G5: Un turno | H5: =I5/F5 -> 0 | I5: =VLOOKUP(B5,PRESUPUESTO_,12,FALSE) -> 0 | J5: =ROUND(VLOOKUP(B5,Rend,5,FALSE),2) -> 1 | K5: =CONCATENATE(ROUND(VLOOKUP(B5,Rend,5,FALSE),2),VLOOKUP(B5,Rend,4,FALSE),"/día") -> 1glb/día | L5: 1 | M5: =IF(G5="Un turno",F5/(J5*L5),F5/(2*J5*L5)) -> 1 | N5: =IF(M5=0,0,IF(M5<0.5,1,ROUND(M5,0))) -> 1 | Q5: SDC 0024_3.02: FS | R5: SDC 0024_1.02: SS
B6: 10192 | C6: =VLOOKUP($B6,RENDIMIENTO,2,FALSE) -> 1.02 | D6: =VLOOKUP($B6,RENDIMIENTO,3,FALSE) -> Trazo, Nivelación y Replanteo | E6: =VLOOKUP($B6,RENDIMIENTO,4,FALSE) -> km | F6: =VLOOKUP(B6,PRESUPUESTO_,5,FALSE) -> 28.61 | G6: Un turno | H6: =I6/F6 -> 0 | I6: =VLOOKUP(B6,PRESUPUESTO_,12,FALSE) -> 0 | J6: =ROUND(VLOOKUP(B6,Rend,5,FALSE),2) -> 0.11 | K6: =CONCATENATE(ROUND(VLOOKUP(B6,Rend,5,FALSE),2),VLOOKUP(B6,Rend,4,FALSE),"/día") -> 0.11km/día | L6: 1 | M6: =IF(G6="Un turno",F6/(J6*L6),F6/(2*J6*L6)) -> 260.09091 | N6: =IF(M6=0,0,IF(M6<0.5,1,ROUND(M6,0))) -> 260 | Q6: SDC 0024_2.06: FS, SDC 0024_1.01: SS | R6: SDC 0024_1.03: FS, 7.01.02: FS
B7: 10193 | C7: =VLOOKUP($B7,RENDIMIENTO,2,FALSE) -> 0 | D7: =VLOOKUP($B7,RENDIMIENTO,3,FALSE) -> 0 | E7: =VLOOKUP($B7,RENDIMIENTO,4,FALSE) -> 0 | F7: =VLOOKUP(B7,PRESUPUESTO_,5,FALSE) -> #N/A | G7: Un turno | H7: =I7/F7 -> #N/A | I7: =VLOOKUP(B7,PRESUPUESTO_,12,FALSE) -> #N/A | J7: =ROUND(VLOOKUP(B7,Rend,5,FALSE),2) -> 0 | K7: =CONCATENATE(ROUND(VLOOKUP(B7,Rend,5,FALSE),2),VLOOKUP(B7,Rend,4,FALSE),"/día") -> 0/día | L7: 1 | M7: =IF(G7="Un turno",F7/(J7*L7),F7/(2*J7*L7)) -> #N/A | N7: =IF(M7=0,0,IF(M7<0.5,1,ROUND(M7,0))) -> #N/A | Q7: SDC 0024_1.02: FS | R7: 7.01.02: FS
B8: 10196 | C8: =VLOOKUP($B8,RENDIMIENTO,2,FALSE) -> 2 | D8: =VLOOKUP($B8,RENDIMIENTO,3,FALSE) -> MOVIMIENTO DE TIERRAS | N8: =SUM(N11,N13) -> #N/A
B9: 10197 | C9: =VLOOKUP($B9,RENDIMIENTO,2,FALSE) -> 2.01 | D9: =VLOOKUP($B9,RENDIMIENTO,3,FALSE) -> Roce y Limpieza de Maleza | E9: =VLOOKUP($B9,RENDIMIENTO,4,FALSE) -> m2 | F9: =VLOOKUP(B9,PRESUPUESTO_,5,FALSE) -> 8583 | G9: Doble turno | H9: =I9/F9 -> 0 | I9: =VLOOKUP(B9,PRESUPUESTO_,12,FALSE) -> 0 | J9: =ROUND(VLOOKUP(B9,Rend,5,FALSE),2) -> 350 | K9: =CONCATENATE(ROUND(VLOOKUP(B9,Rend,5,FALSE),2),VLOOKUP(B9,Rend,4,FALSE),"/hr") -> 350m2/hr | L9: =L11 -> 0.60948226 | M9: =IF(G9="Un turno",F9/(($U$2-1)*J9*L9),F9/($W$2*J9*L9)) -> 1.9159788 | N9: =IF(M9=0,0,IF(M9<0.5,1,ROUND(M9,0))) -> 2 | Q9: SDC 0024_2.03: SS | R9: 3.05.01: FS
B10: 10198 | C10: =VLOOKUP($B10,RENDIMIENTO,2,FALSE) -> 2.02 | D10: =VLOOKUP($B10,RENDIMIENTO,3,FALSE) -> Mejoramiento de vías Existentes | E10: =VLOOKUP($B10,RENDIMIENTO,4,FALSE) -> km | F10: =VLOOKUP(B10,PRESUPUESTO_,5,FALSE) -> 28.61 | G10: Doble turno | H10: =I10/F10 -> 0 | I10: =VLOOKUP(B10,PRESUPUESTO_,12,FALSE) -> 0 | J10: =ROUND(VLOOKUP(B10,Rend,5,FALSE),2) -> 0.11 | K10: =CONCATENATE(ROUND(VLOOKUP(B10,Rend,5,FALSE),2),VLOOKUP(B10,Rend,4,FALSE),"/hr") -> 0.11km/hr | L10: 3.35 | M10: =IF(G10="Un turno",F10/(($U$2-1)*J10*L10),F10/($W$2*J10*L10)) -> 3.6970989 | N10: =IF(M10=0,0,IF(M10<0.5,1,ROUND(M10,0))) -> 4 | Q10: SDC 0024_2.03: SS | R10: 3.05.01: FS
B11: 10199 | C11: =VLOOKUP($B11,RENDIMIENTO,2,FALSE) -> 2.02A | D11: =VLOOKUP($B11,RENDIMIENTO,3,FALSE) -> Carguio y transporte de material para mejoramiento | E11: =VLOOKUP($B11,RENDIMIENTO,4,FALSE) -> m3 | F11: =VLOOKUP(B11,PRESUPUESTO_,5,FALSE) -> 28.61 | G11: Doble turno | H11: =I11/F11 -> 0 | I11: =VLOOKUP(B11,PRESUPUESTO_,12,FALSE) -> 0 | J11: =ROUND(VLOOKUP(B11,Rend,5,FALSE),2) -> 110 | K11: =CONCATENATE(ROUND(VLOOKUP(B11,Rend,5,FALSE),2),VLOOKUP(B11,Rend,4,FALSE),"/hr") -> 110m3/hr | L11: =1743.11926605505/(130*22) -> 0.60948226 | M11: =IF(G11="Un turno",F11/(($U$2-1)*J11*L11),F11/($W$2*J11*L11)) -> 0.020320987 | N11: =IF(M11=0,0,IF(M11<0.5,1,ROUND(M11,0))) -> 1 | Q11: 3.03.03: FS, 3.04.03: FS | R11: SDC 0024_2.01: SS, SDC 0024_2.02: SS, SDC 0024_2.06: FS, 3.05.02: FS
B12: 10201 | C12: =VLOOKUP($B12,RENDIMIENTO,2,FALSE) -> 0 | D12: =VLOOKUP($B12,RENDIMIENTO,3,FALSE) -> 0 | E12: =VLOOKUP($B12,RENDIMIENTO,4,FALSE) -> 0 | F12: =VLOOKUP(B12,PRESUPUESTO_,5,FALSE) -> #N/A | G12: Doble turno | H12: =I12/F12 -> #N/A | I12: =VLOOKUP(B12,PRESUPUESTO_,12,FALSE) -> #N/A | J12: =ROUND(VLOOKUP(B12,Rend,5,FALSE),2) -> 0 | K12: =CONCATENATE(ROUND(VLOOKUP(B12,Rend,5,FALSE),2),VLOOKUP(B12,Rend,4,FALSE),"/hr") -> 0/hr | L12: =4130.47918204506/(203*22) -> 0.92487219 | M12: =IF(G12="Un turno",F12/(($U$2-1)*J12*L12),F12/($W$2*J12*L12)) -> #N/A | N12: =IF(M12=0,0,IF(M12<0.5,1,ROUND(M12,0))) -> #N/A | Q12: SDC 0024_2.06: SS, 3.06.01: FS | R12: 7.01.01: FS, SDC 0024_3.02: FS
B13: 10200 | C13: =VLOOKUP($B13,RENDIMIENTO,2,FALSE) -> 0 | D13: =VLOOKUP($B13,RENDIMIENTO,3,FALSE) -> 0 | E13: =VLOOKUP($B13,RENDIMIENTO,4,FALSE) -> 0 | F13: =VLOOKUP(B13,PRESUPUESTO_,5,FALSE) -> #N/A | G13: Doble turno | H13: =I13/F13 -> #N/A | I13: =VLOOKUP(B13,PRESUPUESTO_,12,FALSE) -> #N/A | J13: =ROUND(VLOOKUP(B13,Rend,5,FALSE),2) -> 0 | K13: =CONCATENATE(ROUND(VLOOKUP(B13,Rend,5,FALSE),2),VLOOKUP(B13,Rend,4,FALSE),"/hr") -> 0/hr | L13: =4130.47918204506/(203*22) -> 0.92487219 | M13: =IF(G13="Un turno",F13/(($U$2-1)*J13*L13),F13/($W$2*J13*L13)) -> #N/A | N13: =IF(M13=0,0,IF(M13<0.5,1,ROUND(M13,0))) -> #N/A | Q13: SDC 0024_2.03: FS, 3.06.02: FS | R13: SDC 0024_2.04: SS, SDC 0024_1.02: FS, SDC 0024_3.02: FS, H 14: FS, 7.01.02: FS
B14: 10204 | C14: =VLOOKUP($B14,RENDIMIENTO,2,FALSE) -> 3 | D14: =VLOOKUP($B14,RENDIMIENTO,3,FALSE) -> REPARACIÓN Y REPOSICIÓN DE ESTRUCTURAS | N14: =SUM(N16,N18) -> #N/A
B15: 10206 | C15: =VLOOKUP($B15,RENDIMIENTO,2,FALSE) -> 3.02 | D15: =VLOOKUP($B15,RENDIMIENTO,3,FALSE) -> Demolición de estructuras existentes | E15: =VLOOKUP($B15,RENDIMIENTO,4,FALSE) -> m2 | F15: =VLOOKUP(B15,PRESUPUESTO_,5,FALSE) -> #N/A | G15: Un turno | H15: =I15/F15 -> #N/A | I15: =VLOOKUP(B15,PRESUPUESTO_,12,FALSE) -> #N/A | J15: =ROUND(VLOOKUP(B15,Rend,5,FALSE),2) -> 0 | K15: =CONCATENATE(ROUND(VLOOKUP(B15,Rend,5,FALSE),2),VLOOKUP(B15,Rend,4,FALSE),"/hr") -> 0m2/hr | L15: 0.65 | M15: =IF(G15="Un turno",F15/(($U$2-1)*J15*L15),F15/($W$2*J15*L15)) -> #N/A | N15: =IF(M15=0,0,IF(M15<0.5,1,ROUND(M15,0))) -> #N/A | Q15: SDC 0024_3.02: SS | R15: SDC 0024_3.04: FS
B16: 10205 | C16: =VLOOKUP($B16,RENDIMIENTO,2,FALSE) -> 3.01 | D16: =VLOOKUP($B16,RENDIMIENTO,3,FALSE) -> Reparación de concreto | E16: =VLOOKUP($B16,RENDIMIENTO,4,FALSE) -> m2 | F16: =VLOOKUP(B16,PRESUPUESTO_,5,FALSE) -> #N/A | G16: Un turno | H16: =I16/F16 -> #N/A | I16: =VLOOKUP(B16,PRESUPUESTO_,12,FALSE) -> #N/A | J16: =ROUND(VLOOKUP(B16,Rend,5,FALSE),2) -> 0 | K16: =CONCATENATE(ROUND(VLOOKUP(B16,Rend,5,FALSE),2),VLOOKUP(B16,Rend,4,FALSE),"/hr") -> 0m2/hr | L16: 1 | M16: =IF(G16="Un turno",F16/(($U$2-1)*J16*L16),F16/($W$2*J16*L16)) -> #N/A | N16: =IF(M16=0,0,IF(M16<0.5,1,ROUND(M16,0))) -> #N/A | Q16: SDC 0024_2.06: FS, SDC 0024_2.04: FS | R16: SDC 0024_3.01: SS, SDC 0024_3.03: SS, SDC 0024_3.04: FS, SDC 0024_1.01: FS
B17: 10207 | C17: =VLOOKUP($B17,RENDIMIENTO,2,FALSE) -> 3.03 | D17: =VLOOKUP($B17,RENDIMIENTO,3,FALSE) -> Reposición de pase de agua con tubería HDPE Ø=24 | E17: =VLOOKUP($B17,RENDIMIENTO,4,FALSE) -> m | F17: =VLOOKUP(B17,PRESUPUESTO_,5,FALSE) -> #N/A | G17: Un turno | H17: =I17/F17 -> #N/A | I17: =VLOOKUP(B17,PRESUPUESTO_,12,FALSE) -> #N/A | J17: =ROUND(VLOOKUP(B17,Rend,5,FALSE),2) -> 0 | K17: =CONCATENATE(ROUND(VLOOKUP(B17,Rend,5,FALSE),2),VLOOKUP(B17,Rend,4,FALSE),"/día") -> 0m/día | L17: 1 | M17: =IF(G17="Un turno",F17/(J17*L17),F17/(2*J17*L17)) -> #N/A | N17: =IF(M17=0,0,IF(M17<0.5,1,ROUND(M17,0))) -> #N/A | Q17: SDC 0024_3.02: SS | R17: SDC 0024_3.04: SS
B18: 10208 | C18: =VLOOKUP($B18,RENDIMIENTO,2,FALSE) -> 0 | D18: =VLOOKUP($B18,RENDIMIENTO,3,FALSE) -> 0 | E18: =VLOOKUP($B18,RENDIMIENTO,4,FALSE) -> 0 | F18: =VLOOKUP(B18,PRESUPUESTO_,5,FALSE) -> #N/A | G18: Un turno | H18: =I18/F18 -> #N/A | I18: =VLOOKUP(B18,PRESUPUESTO_,12,FALSE) -> #N/A | J18: =ROUND(VLOOKUP(B18,Rend,5,FALSE),2) -> 0 | K18: =CONCATENATE(ROUND(VLOOKUP(B18,Rend,5,FALSE),2),VLOOKUP(B18,Rend,4,FALSE),"/hr") -> 0/hr | L18: 2 | M18: =IF(G18="Un turno",F18/(($U$2-1)*J18*L18),F18/($W$2*J18*L18)) -> #N/A | N18: =(IF(M18=0,0,IF(M18<0.5,1,ROUND(M18,0)))) -> #N/A | Q18: SDC 0024_3.03: SS, SDC 0024_3.02: FS, SDC 0024_3.01: FS | R18: 7.01.03: FS
I19: =SUM(I5:I18) -> #N/A

Sheet 1.4 COMBUSTIBLE
B1: CONSUMO COMBUSTIBLE
B3: PROYECTO:
B4: Licitación: | C4: ='1.1 Formato C-1'!C5:J5 -> MEJORAMIENTO DE VÍAS Y ACCESOS EXISTENTES SUBPROYECTOS A3-A4
B5: Postor: | C5: ='1.1 Formato C-1'!C6:J6 -> ZOVICSA
B6: Fecha: | C6: ='1.1 Formato C-1'!C7:J7 -> 44655
B8: ÍTEM | C8: EQUIPOS | D8: COMBUSTIBLE | E8: HORAS MÁQUINA | F8: CONSUMO (gal/H) | G8: VOLUMEN (gal)
B9: 1 | C9: =+'Equipos-Personal (HH y HM)'!A7 -> Tractor sobre Orugas CAT D8T | D9: Diesel 2 | E9: =+'Equipos-Personal (HH y HM)'!B7 -> 269.27 | F9: ='Equipos-Personal (HH y HM)'!H7 -> 10 | G9: =E9*F9 -> 2692.7 | H9: =+F9*$I$9 -> 184.5 | I9: 18.45
B10: 2 | C10: =+'Equipos-Personal (HH y HM)'!A8 -> Tractor sobre Orugas CAT D6T | D10: Diesel 2 | E10: =+'Equipos-Personal (HH y HM)'!B8 -> 0 | F10: ='Equipos-Personal (HH y HM)'!H8 -> 5.5 | G10: =E10*F10 -> 0
B11: 3 | C11: =+'Equipos-Personal (HH y HM)'!A9 -> Excavadora John Deere 290 | D11: Diesel 2 | E11: =+'Equipos-Personal (HH y HM)'!B9 -> 0 | F11: ='Equipos-Personal (HH y HM)'!H9 -> 7 | G11: =E11*F11 -> 0
B12: 4 | C12: =+'Equipos-Personal (HH y HM)'!A10 -> Cargador Frontal John Deere 744 K | D12: Diesel 2 | E12: =+'Equipos-Personal (HH y HM)'!B10 -> 181.1 | F12: ='Equipos-Personal (HH y HM)'!H10 -> 6.5 | G12: =E12*F12 -> 1177.15 | H12: =+F12*$I$9 -> 119.925
C13: =+'Equipos-Personal (HH y HM)'!A11 -> Excavadora EC 380D | D13: Diesel 2 | E13: =+'Equipos-Personal (HH y HM)'!B11 -> 0 | F13: ='Equipos-Personal (HH y HM)'!H11 -> 7 | G13: =E13*F13 -> 0 | H13: =+F13*$I$9 -> 129.15
B14: 5 | C14: =+'Equipos-Personal (HH y HM)'!A12 -> Retroexcavadora Cat 420e | D14: Diesel 2 | E14: =+'Equipos-Personal (HH y HM)'!B12 -> 24.89 | F14: ='Equipos-Personal (HH y HM)'!H12 -> 2.5 | G14: =E14*F14 -> 62.225 | H14: =+F14*$I$9 -> 46.125
B15: 6 | C15: =+'Equipos-Personal (HH y HM)'!A13 -> Volquete de 17 m3 | D15: Diesel 2 | E15: =+'Equipos-Personal (HH y HM)'!B13 -> 1348.38 | F15: ='Equipos-Personal (HH y HM)'!H13 -> 3.2 | G15: =E15*F15 -> 4314.816 | H15: =+F15*$I$9 -> 59.04
B16: 7 | C16: =+'Equipos-Personal (HH y HM)'!A14 -> Cisterna de agua 5,000 gln. | D16: Diesel 2 | E16: =+'Equipos-Personal (HH y HM)'!B14 -> 269.27 | F16: ='Equipos-Personal (HH y HM)'!H14 -> 3.2 | G16: =E16*F16 -> 861.664 | H16: =+F16*$I$9 -> 59.04
B17: 8 | C17: =+'Equipos-Personal (HH y HM)'!A15 -> Camión Grúa de 20 Ton. | D17: Diesel 2 | E17: =+'Equipos-Personal (HH y HM)'!B15 -> 0 | F17: ='Equipos-Personal (HH y HM)'!H15 -> 5.5 | G17: =E17*F17 -> 0 | H17: =+F17*$I$9 -> 101.475
B18: 9 | C18: =+'Equipos-Personal (HH y HM)'!A16 -> Motoniveladora de 140 HP | D18: Diesel 2 | E18: =+'Equipos-Personal (HH y HM)'!B16 -> 269.27 | F18: ='Equipos-Personal (HH y HM)'!H16 -> 3.5 | G18: =E18*F18 -> 942.445 | H18: =+F18*$I$9 -> 64.575
B19: 10 | C19: =+'Equipos-Personal (HH y HM)'!A17 -> Rodillo Liso Vibratorio Autopropulsado HAMM 20 Tn. | D19: Diesel 2 | E19: =+'Equipos-Personal (HH y HM)'!B17 -> 269.27 | F19: ='Equipos-Personal (HH y HM)'!H17 -> 2 | G19: =E19*F19 -> 538.54 | H19: =+F19*$I$9 -> 36.9
B20: 11 | C20: =+'Equipos-Personal (HH y HM)'!A18 -> Rodillo Liso Vibratorio Autopropulsado HAMM 11 Tn. | D20: Diesel 2 | E20: =+'Equipos-Personal (HH y HM)'!B18 -> 0 | F20: ='Equipos-Personal (HH y HM)'!H18 -> 1.5 | G20: =E20*F20 -> 0 | H20: =+F20*$I$9 -> 27.675
B21: 12 | C21: =+'Equipos-Personal (HH y HM)'!A19 -> Minicargador Cat 246, 74 HP | D21: Diesel 2 | E21: =+'Equipos-Personal (HH y HM)'!B19 -> 0 | F21: ='Equipos-Personal (HH y HM)'!H19 -> 6.5 | G21: =E21*F21 -> 0 | H21: =+F21*$I$9 -> 119.925
B22: 13 | C22: =+'Equipos-Personal (HH y HM)'!A21 -> Rodillo compactador Tandem Tipo Chupetero | D22: Diesel 2 | E22: =+'Equipos-Personal (HH y HM)'!B21 -> 0 | F22: ='Equipos-Personal (HH y HM)'!H20 -> 0.5 | G22: =E22*F22 -> 0 | H22: =+F22*$I$9 -> 9.225
B23: 14 | C23: =+'Equipos-Personal (HH y HM)'!A20 -> Luminaria 4K | D23: Diesel 2 | E23: =+'Equipos-Personal (HH y HM)'!B20 -> 0 | F23: ='Equipos-Personal (HH y HM)'!H20 -> 0.5 | G23: =E23*F23 -> 0 | H23: =+F23*$I$9 -> 9.225
B24: 15 | C24: Camioneta | D24: Diesel 2 | E24: ='1.3 Gastos Generales'!G66*'1.3 Gastos Generales'!I66*2*330 -> 811.8 | F24: 1 | G24: =E24*F24 -> 811.8 | H24: =+F24*$I$9 -> 18.45
B25: 16 | C25: Minibus | D25: Diesel 2 | E25: ='1.3 Gastos Generales'!G67*'1.3 Gastos Generales'!I67*2*(4*30) -> 295.2 | F25: 2 | G25: =E25*F25 -> 590.4 | H25: =+F25*$I$9 -> 36.9
B26: 17 | C26: Combi/Minivan | D26: Diesel 2 | E26: ='1.3 Gastos Generales'!G68*'1.3 Gastos Generales'!I68*2*(4*30) -> 0 | F26: 1.5 | G26: =E26*F26 -> 0
B27: 18 | C27: Cisterna de combustible de 3000Gl | D27: Diesel 2 | E27: ='1.3 Gastos Generales'!G69*'1.3 Gastos Generales'!I69*200 -> 0 | F27: 3.2 | G27: =E27*F27 -> 0
D29: TOTAL PETROLEO DIESEL 2 | G29: =SUM(G9:G27) -> 11991.74
D30: TOTAL CONSUMO | G30: =+G29 -> 11991.74

Sheet Tarifas
B1: PROYECTO: | C1: 16062 CONSTRUCCIÓN DE LA FASE VI-B DE LA PRESA DE RELAVES Y OBRAS COMPLEMENTARIAS
B2: Licitación:
B3: Situado en:
B4: Presentado a: | C4: Compañía Minera Antamina S.A.
B5: Postor: | C5: TRANS BAT S.R.L
B6: Fecha:
B8: Datos Para Presupuesto
D10: VESTIDA
B11: EQUIPOS PESADOS | D11: 230 | E11: Horas mínimas
B12: Tractor sobre Orugas CAT D6T | D12: 63 | E12: US$ / hr
B13: Tractor sobre Orugas CAT D7R | D13: 89 | E13: US$ / hr
B14: Tractor sobre Orugas CAT D8T | D14: 89 | E14: US$ / hr
B15: Tractor sobre Orugas KOMATSU D155 | D15: 74 | E15: US$ / hr
B16: Excavadora Cat 325 | D16: 14 | E16: US$ / hr
B17: Excavadora Cat 360 (Uña Roquera) | D17: 14 | E17: US$ / hr
B18: Excavadora Cat 325 con picotón | D18: 14 | E18: US$ / hr
B19: Excavadora EC 380 ELC con picotón | D19: 14 | E19: US$ / hr
B20: Excavadora EC 380D | D20: 69 | E20: US$ / hr
B21: Excavadora EC 360 ELC con picotón | D21: 14 | E21: US$ / hr
B22: Excavadora EC 360 ELC | D22: 14 | E22: US$ / hr
B23: Excavadora SANY | D23: 14 | E23: US$ / hr
B24: Excavadora John Deere 350 | D24: 64 | E24: US$ / hr | F24: =+#REF!*4 -> #REF! | G24: =+F24+#REF! -> #REF! | H24: =+G24/10 -> #REF!
B25: Excavadora John Deere 290 | D25: 64 | E25: US$ / hr | F25: =+#REF!*4 -> #REF! | G25: =+F25+#REF! -> #REF! | H25: =+G25/10 -> #REF!
B26: Excavadora Cat 312 | D26: 14 | E26: US$ / hr
B27: Excavadora Cat 320 | D27: 56 | E27: US$ / hr
B28: Cargador Frontal John Deere 744 K | D28: 56 | E28: US$ / hr
B29: Cargador Frontal L 120 F | D29: 14 | E29: US$ / hr
B30: Cargador Frontal L 180 E | D30: 14 | E30: US$ / hr
B31: Cargador Frontal L 150 C | D31: 14 | E31: US$ / hr
B32: Cargador Frontal L 150 G | D32: 14 | E32: US$ / hr
B33: Cargador Frontal L 90 | D33: 14 | E33: US$ / hr
B34: Retroexcavadora con martillo | D34: 14 | E34: US$ / hr
B35: Retroexcavadora Cat 420e | D35: 42 | E35: US$ / hr
B36: Volquete de 17 m3 | D36: 38 | E36: US$ / hr
B37: Volquetes de 15 m3 Roquero | D37: 14 | E37: US$ / hr
... B60: Camión lubricador | D60: 26.56 | E60: US$ / hr
B63: EQUIPOS MENORES | D63: Vestido
B64: Minicargador Cat 246, 74 HP | D64: 29 | E64: US$ / hr
B65: Grupo electrogeno | D65: 12 | E65: US$ / hr
B66: Luminaria 4K | D66: 2.28 | E66: US$ / hr
...

Sheet 1.7 Costos Covid
O1: Plazo = | P1: 4 | S1: Laborado | T1: DL | U1: Total | AB1: Sin COVID | AC1: CON COVID
R2: Regimen | S2: 15 | T2: 6 | U2: =+S2+T2 -> 21 | V2: =+S2/U2 -> 0.71428571 | AA2: DL | AB2: 6 | AC2: 10
B3: COSTO COVID | AA3: DT | AB3: 15 | AC3: 14
AB4: =SUM(AB2:AB3) -> 21 | AC4: =SUM(AC2:AC3) -> 24
B5: Licitación: | D5: =+'1.2 APU'!C6 -> MEJORAMIENTO DE VÍAS Y ACCESOS EXISTENTES SUBPROYECTOS A3-A4 | AA5: %DT | AB5: =+AB3/AB4 -> 0.71428571 | AC5: =+AC3/AC4 -> 0.58333333
B6: Situado en: | AA6: %DL | AB6: =+AB2/AB4 -> 0.28571429 | AC6: =+AC2/AC4 -> 0.41666667
B7: Presentado a: | D7: =+'1.3 Gastos Generales'!D6 -> OHLA | AB7: =ROUND(AC6-AB6,2) -> 0.13 | AC7: =ROUNDUP(F2*AB7,0) -> 0
B8: Postor: | D8: =+'1.2 APU'!C7 -> ZOVICSA
B9: Fecha: | D9: =+'1.2 APU'!C8 -> 44655
B11: DETALLE DE GASTOS GENERALES FIJOS
B13: COSTO | C13: CONCEPTO | E13: Und | F13: P.U. US$ | G13: Cant | H13: Turnos | I13: Tiempo | J13: Aporte | K13: Parcial US$ | L13: Subtotal US$
C15: 1 | D15: SERVICIOS Y ALQUILERES EN OBRA | L15: =ROUND(SUM(K16:K18),2) -> 8000
C16: . | D16: Inst. Sistema de control de combustible en EQ | E16: Und | F16: 100 | G16: =SUM('Equipos-Personal (HH y HM)'!G6:G19)+G67+G68+G69 -> 20 | J16: 0.5 | K16: =ROUND(J16*G16*F16,2) -> 1000
C17: . | D17: Inst. de Sistema Antifatiga | E17: Und | F17: =700 -> 700 | G17: =SUM('Equipos-Personal (HH y HM)'!G6:G19)+G67+G68+G69 -> 20 | J17: 0.5 | K17: =ROUND(J17*G17*F17,2) -> 7000
C20: 2 | D20: OTROS GASTOS | L20: =ROUND(SUM(K21:K23),2) -> 58391.77
C21: . | D21: Examen pre y pos - ocupacional | E21: Und | F21: =ROUNDUP(446/TC,2) -> 446 | G21: =ROUND('Equipos-Personal (HH y HM)'!E43+SUMPRODUCT(G32:G64,J32:J64),0) -> 88 | I21: 1 | K21: =ROUND(F21*G21*I21,2) -> 39248
C22: . | D22: Examen de inducción | E22: Und | F22: =ROUNDUP(50/TC,2) -> 50 | G22: =ROUND('Equipos-Personal (HH y HM)'!E43+SUMPRODUCT(G32:G64,J32:J64),0) -> 88 | I22: 1 | K22: =ROUND(F22*G22*I22,2) -> 4400
C23: . | D23: Inducción general | E23: Und | F23: =Tarifas!D128*8*4*V2 -> 167.54286 | G23: =ROUND('Equipos-Personal (HH y HM)'!E43+SUMPRODUCT(G32:G64,J32:J64),0) -> 88 | I23: 1 | K23: =ROUND(F23*G23*I23,2) -> 14743.77
D25: GASTOS GENERALES FIJOS TOTALES | K25: US$ | L25: =SUM(L14:L24) -> 66391.77
B27: DETALLE DE COSTOS COVID
B29: COSTO | C29: CONCEPTO | E29: Und | F29: P.U. US$ | G29: Cant | H29: Turnos | I29: Tiempo | J29: Aporte | K29: Parcial US$ | L29: Subtotal US$
C31: 1 | D31: PERSONAL STAFF | L31: =SUBTOTAL(9,K32:K45) -> #NAME?
B32: V | C32: . | D32: Jefe de proyecto | E32: mes | F32: =ROUND(16000*1.47/TC,2) -> 23520 | G32: 1 | H32: 1 | I32: =PZ -> #NAME? | J32: 0.5 | K32: =PRODUCT(F32:J32) -> #NAME?
B33: V | C33: . | D33: Ing. Residente | E33: mes | F33: =ROUND(13500*1.47/TC,2) -> 19845 | G33: 1 | H33: 1 | I33: =$I$32 -> #NAME? | J33: 1 | K33: =PRODUCT(F33:J33) -> #NAME?
B34: V | C34: . | D34: Jefe de Oficina Técnica | E34: mes | F34: =ROUND(11000*1.47/TC,2) -> 16170 | G34: 1 | H34: 1 | I34: =$I$32 -> #NAME? | J34: 1 | K34: =PRODUCT(F34:J34) -> #NAME?
B35: V | C35: . | D35: Ing. de Planeamiento | E35: mes | F35: =ROUND(8000*1.47/TC,2) -> 11760 | G35: 1 | H35: 1 | I35: =$I$32 -> #NAME? | J35: 1 | K35: =PRODUCT(F35:J35) -> #NAME?
B36: V | C36: . | D36: Ing. de Costos | E36: mes | F36: =ROUND(6000*1.47/TC,2) -> 8820 | G36: 1 | H36: 1 | I36: =$I$32 -> #NAME? | J36: 0.5 | K36: =PRODUCT(F36:J36) -> #NAME?
B37: V | C37: . | D37: Supervisor de campo | E37: mes | F37: =ROUND(6500*1.47/TC,2) -> 9555 | G37: 5 | H37: 1 | I37: =$I$32 -> #NAME? | J37: 1 | K37: =PRODUCT(F37:J37) -> #NAME?
B38: V | C38: . | D38: Jefe de SSOMA | E38: mes | F38: =ROUND(8000*1.47/TC,2) -> 11760 | G38: 1 | H38: 1 | I38: =$I$32 -> #NAME? | J38: 1 | K38: =PRODUCT(F38:J38) -> #NAME?
B39: V | C39: . | D39: Ing. Supervisor de SSO | E39: mes | F39: =ROUND(5500*1.47/TC,2) -> 8085 | G39: 2 | H39: 1 | I39: =$I$32 -> #NAME? | J39: 1 | K39: =PRODUCT(F39:J39) -> #NAME?
B40: V | C40: . | D40: Supervisor MA | E40: mes | F40: =ROUND(5500*1.47/TC,2) -> 8085 | G40: 1 | H40: 1 | I40: =$I$32 -> #NAME? | J40: 1 | K40: =PRODUCT(F40:J40) -> #NAME?
B41: V | C41: . | D41: Jefe de Control de Calidad | E41: mes | F41: =ROUND(8000*1.47/TC,2) -> 11760 | G41: 1 | H41: 1 | I41: =$I$32 -> #NAME? | J41: 1 | K41: =PRODUCT(F41:J41) -> #NAME?
B42: V | C42: . | D42: Supervisor de QC | E42: mes | F42: =ROUND(6000*1.47/TC,2) -> 8820 | G42: 2 | H42: 1 | I42: =$I$32 -> #NAME? | J42: 1 | K42: =PRODUCT(F42:J42) -> #NAME?
B43: V | C43: . | D43: Supervisor de Mtto | E43: mes | F43: =ROUND(5000*1.47/TC,2) -> 7350 | G43: 1 | H43: 1 | I43: =$I$32 -> #NAME? | J43: 0.5 | K43: =PRODUCT(F43:J43) -> #NAME?
B44: V | C44: . | D44: Jefe de Topografía | E44: mes | F44: =ROUND(5000*1.47/TC,2) -> 7350 | G44: 1 | H44: 1 | I44: =$I$32 -> #NAME? | J44: 1 | K44: =PRODUCT(F44:J44) -> #NAME?
B45: V | C45: . | D45: Administrador | E45: mes | F45: =ROUND(4500*1.47/TC,2) -> 6615 | G45: 1 | H45: 1 | I45: =$I$32 -> #NAME? | J45: 1 | K45: =PRODUCT(F45:J45) -> #NAME?
C47: 2 | D47: PERSONAL TECNICO Y AUXILIAR | L47: =SUBTOTAL(9,K48:K52) -> #NAME?
B48: V | C48: . | D48: Técnico de Campo y Laboratorio | E48: mes | F48: =ROUND(Tarifas!D133*11*30*V2,2) -> 2187.43 | G48: 3 | H48: 1 | I48: =$I$32 -> #NAME? | J48: 1 | K48: =PRODUCT(F48:J48) -> #NAME?
B49: V | C49: . | D49: Asistente de Oficina Técnica | E49: mes | F49: =ROUND(5000*1.47/TC,2) -> 7350 | G49: 1 | H49: 1 | I49: =$I$32 -> #NAME? | J49: 1 | K49: =PRODUCT(F49:J49) -> #NAME?
B50: V | C50: . | D50: Enfermero ocupacional | E50: mes | F50: =ROUND(3500*1.47/TC,2) -> 5145 | G50: 1 | H50: 1 | I50: =$I$32 -> #NAME? | J50: 1 | K50: =PRODUCT(F50:J50) -> #NAME?
...

Sheet Resumen Viajes
E1: MTE01521 Construcción Plataformas para Protección de Obras Tempranas de Extensión Dique Corredor | U1: ='[6]Ratio Volquete'!F13 -> 0.94000485
E2: 18028 Tailing Storage Facilities (TSF) 4135-4. | L2: Revision: | M2: 0
E3: =CONCATENATE("ESTADO DE PAGO 000",[6]formato_EDP!O1) -> ESTADO DE PAGO 0002 | L3: Fecha: | M3: =[6]formato_EDP!U1 -> 44487 | T3: CUBICAJE DE VOLQUETES
E4: =CONCATENATE("105-18028-MTE01521-EDP-K-430-000",[6]formato_EDP!O1) -> 105-18028-MTE01521-EDP-K-430-0002 | Q4: CAPACIDAD | R4: M3 VALIDADOS | S4: VIAJES | T4: CAPACIDAD NETA | U4: INCIDENCIA | V4: CAPACIDAD CONCILIADA
Q5: 15 | R5: 303.75 | S5: 21 | T5: =Q5 -> 15 | U5: =$U$1 -> 0.94000485 | V5: =ROUND(U5*Q5,2) -> 14.1
Q6: 17 | R6: 352 | S6: 21 | T6: =Q6 -> 17 | U6: =$U$1 -> 0.94000485 | V6: =ROUND(U6*Q6,2) -> 15.98
B7: REPORTE DE VIAJES Y VOLUMENES - SECTOR 1 | Q7: 20 | R7: 386.03 | S7: 20 | T7: =Q7 -> 20 | U7: =$U$1 -> 0.94000485 | V7: =ROUND(U7*Q7,2) -> 18.8
B8: DIA | C8: TURNO | D8: PLACA | E8: ACTIVIDAD | G8: CAP. | H8: TIPO DE MAT. | I8: ORIGEN | J8: DESTINO | K8: N° VIAJES | L8: CAP. AFECTA | M8: PRODUCCIÓN | O8: =M5076 -> 444250.58
B9: 44336 | C9: DIA | D9: D7J-712 | E9: TRANSPORTE DE MATERIAL | G9: 15 | H9: 3B | I9: STACKER | J9: OBRAS TEMPRANAS SECTOR 1 | K9: 6 | L9: =VLOOKUP(G9,$Q$4:$V$7,6,FALSE) -> 14.1
B10: 44336 | C10: DIA | D10: C8J-773 | E10: TRANSPORTE DE MATERIAL | G10: 15 | H10: 3B | I10: STACKER | J10: OBRAS TEMPRANAS SECTOR 1 | K10: 9 | L10: =VLOOKUP(G10,$Q$4:$V$7,6,FALSE) -> 14.1
B11: 44336 | C11: DIA | D11: BHL-836 | E11: TRANSPORTE DE MATERIAL | G11: 20 | H11: 3B | I11: STACKER | J11: OBRAS TEMPRANAS SECTOR 1 | K11: 3 | L11: =VLOOKUP(G11,$Q$4:$V$7,6,FALSE) -> 18.8
B12: 44336 | C12: DIA | D12: BHL-708 | E12: TRANSPORTE DE MATERIAL | G12: 20 | H12: 3B | I12: STACKER | J12: OBRAS TEMPRANAS SECTOR 1 | K12: 4 | L12: =VLOOKUP(G12,$Q$4:$V$7,6,FALSE) -> 18.8
B13: 44336 | C13: DIA | D13: BJS-726 | E13: TRANSPORTE DE MATERIAL | G13: 15 | H13: 3B | I13: STACKER | J13: OBRAS TEMPRANAS SECTOR 1 | K13: 12 | L13: =VLOOKUP(G13,$Q$4:$V$7,6,FALSE) -> 14.1
B14: 44337 | C14: NOCHE | D14: BJS-726 | E14: TRANSPORTE DE MATERIAL | G14: 15 | H14: 3B | I14: PUNTO G_1 | J14: OBRAS TEMPRANAS SECTOR 1 | K14: 6 | L14: =VLOOKUP(G14,$Q$4:$V$7,6,FALSE) -> 14.1
B15: 44337 | C15: NOCHE | D15: D7J-712 | E15: TRANSPORTE DE MATERIAL | G15: 15 | H15: 3B | I15: STACKER | J15: OBRAS TEMPRANAS SECTOR 1 | K15: 2 | L15: =VLOOKUP(G15,$Q$4:$V$7,6,FALSE) -> 14.1
