Workbook
Name a: [1]Compra_54MOD!#REF!
Name CALPH: [2]SHEET1!$M$1:$M$4
Name CBNPR: [2]SHEET1!$X$1:$X$4
Name CDCTO: [2]SHEET1!$B$1:$B$4
Name CDOCO: [2]SHEET1!$C$1:$C$4
Name CDSC1: [2]SHEET1!$E$1:$E$4
Name CDSC2: [2]SHEET1!$F$1:$F$4
Name CKCOO: [2]SHEET1!$A$1:$A$4
Name CPDDJ: [2]SHEET1!$S$1:$S$4
Name CPRRC: [2]SHEET1!$Q$1:$Q$4
Name CPTC: [2]SHEET1!$W$1:$W$4
Name CUM: [2]SHEET1!$G$1:$G$4
Name CUORG: [2]SHEET1!$I$1:$I$4
Name pag_2: [3]Compra_5!$B$69
Name pag_3: [3]Compra_5!$B$132
Name total: [4]OC215!#REF!
Name total1: [3]Compra_1!$I$311
Name total10: [3]Compra_10!$I$59
Name total100: [4]OC215!#REF!
Name total11: [3]Compra_11!$I$161
Name total12: [3]Compra_12!$I$36
Name total13: [3]Compra_13!$I$36
Name total14: [3]Compra_14!$I$32
Name total15: [3]Compra_15!$I$33
Name total16: [5]Compra_16!$I$33
Name total17: [5]Compra_17!$I$47
Name total18: [5]Compra_18!$I$44
Name total19: [5]Compra_19!$I$58
Name total1AMP: [3]Compra_1AMP!$I$36
Name total1MOD: [3]Compra_1MOD!$G$141
Name total2: [3]Compra_2!$I$53
Name total20: [5]Compra_20!$I$34
Name total21: [5]Compra_21!$I$35
Name total22: [5]Compra_22!$I$106
Name total23: [5]Compra_23!$I$101
Name total24: [5]Compra_24!$I$102
Name total25: [5]Compra_25!$I$36
Name total26: [5]Compra_26!$I$102
Name total27: [5]Compra_27!$I$105
Name total28: [5]Compra_28!$I$101
Name total29: [5]Compra_29!$I$106
Name total3: [3]Compra_3!$I$50
Name total30: [5]Compra_30!$I$105
Name total31: [6]Compra_31!$I$102
Name total32: [6]Compra_32!$I$105
Name total33: [6]Compra_33!$I$106
Name total34: [6]Compra_34!$I$46
Name total35: [6]Compra_35!$I$33
Name total36: [6]Compra_36!$I$33
Name total37: [6]Compra_37!$I$47
Name total38: [6]Compra_38!$I$45
Name total39: [6]Compra_39!$I$45
Name total4: [3]Compra_4!$I$33
Name total40: [6]Compra_40!$I$40
Name total41: [6]Compra_41!$I$45
Name total42: [6]Compra_42!$I$46
Name total43: [6]Compra_43!$I$46
Name total44: [6]Compra_44!$I$46
Name total45: [6]Compra_45!$I$112
Name total45AMP: [6]Compra_45AMP!$I$33

Sheet DETALLADO
E1: PLANTILLA DE PRESUPUESTO
K3: RV.00
K4: Fecha de versión
A5: Obra: Defensas Ribereñas Río Lacramarca
A6: Dirección: Nuevo Chimbote - Ancash
A7: DATOS DEL OFERTANTE:
A8: Razon Social: | E8: RESGUARDO, SEGURIDAD Y PROTECCION PRISMA S.A.C
A9: Domicilio: | E9: JUAN PABLO II CUARTA ZONA - SAN JUAN DE LURIGANCHO - LIMA
A10: Teléfono/Fax:
A11: Contacto: | E11: 907128639
K12: FECHA LIMITE ENTREGA OFERTA:
A13: ITEM | B13: U/M | D13: CANTIDAD | E13: DESCRIPCION | K13: Prec. Unit. | L13: Prec. Total
A14: SERVICIO DE VIGILANCIA
E15: Personal
B16: mes | C16: 7 | D16: 5 | E16: Agente con Armas | K16: =+' agente con arma'!E26 -> 3836.1 | L16: =+D16*C16*K16 -> 134263.5
B17: mes | C17: 7 | D17: 3 | E17: Agente sin Armas | K17: =+' agente con arma'!E23 -> 3688.5593 | L17: =+D17*C17*K17 -> 77459.746
E18: Recursos y Equipos
B19: glb | C19: 1 | D19: 1 | E19: Materiales, Herramienta de campo | K19: =+apus!G11 -> 5713.04 | L19: =+D19*C19*K19 -> 5713.04
B20: glb | C20: 1 | D20: 1 | E20: Equipos informaticos, GPS, impresiones | K20: =+apus!G40 -> 5000 | L20: =+D20*C20*K20 -> 5000
B21: glb | C21: 1 | D21: 1 | E21: Epps y Señaletica | K21: =+apus!G21 -> 3483.97 | L21: =+D21*C21*K21 -> 3483.97
B22: glb | C22: 1 | D22: 1 | E22: Uniformes | K22: =+apus!G26 -> 7560 | L22: =+D22*C22*K22 -> 7560
E23: Alimentacion
B24: glb | C24: 1 | D24: 1 | E24: Alimentacion del personal | K24: =+apus!G34 -> 16170 | L24: =+K24*D24*C24 -> 16170
E25: Seguros
B26: mes | C26: 7 | D26: 8 | E26: Póliza SCTR Salud | K26: 22.32 | L26: =+K26*D26*C26 -> 1249.92
B27: mes | C27: 7 | D27: 8 | E27: Póliza SCTR Pensión | K27: 21.46 | L27: =+K27*D27*C27 -> 1201.76
B28: mes | C28: 7 | D28: 8 | E28: Vida Ley | K28: 21.46 | L28: =+K28*D28*C28 -> 1201.76
B29: mes | C29: 7 | D29: 8 | E29: Seguro de resonsabilida Civil | K29: 9.37 | L29: =+K29*D29*C29 -> 524.72
B30: mes | C30: 7 | D30: 8 | E30: Poliza de Deshonestidad | K30: 11.46 | L30: =+K30*D30*C30 -> 641.76
A31: COSTO DIRECTO | L31: =SUM(L16:L30) -> 254470.18
B32: GLB | D32: 1 | E32: GASTOS GENERALES | L32: =+L31*0.03 -> 7634.1053
B33: GLB | D33: 1 | E33: UTILIDADES | L33: =+L31*0.08 -> 20357.614
A34: SUB TOTAL | L34: =SUM(L31:L33) -> 282461.9
A35: IGV | K35: 0.18 | L35: =0.18*L34 -> 50843.141
A36: IMPORTE TOTAL | L36: =IF(L35="","",+L35+L34) -> 333305.04
A38: CONDICIONES GENERALES:
A40: DESCRIPCION | E40: SOLICITADO | H40: OFERTADO
A41: FORMA DE PAGO | E41: VALORIZACION MENSUAL A 30 DÍAS | H41: VALORIZACION MENSUAL A 30 DÍAS
A42: MONEDA | E42: SOLES | H42: SOLES
A43: TIEMPO DE SERVICIO | F43: 7 MESES | I43: 7 MESES
...

Sheet  agente con arma
B1: Agente con arma
B5: Salario basico | E5: 1130
B6: Condicion no remunerativo | E6: =+E5*0.15 -> 169.5
B7: -Horas extras al 25% | E7: =+($E$5/240)*20*1.25 -> 117.70833
B8: -Horas extras al 35% | E8: =+($E$5/240)*10*1.25 -> 58.854167
B9: Asignación familiar | E9: =+E5*0.1 -> 113
B10: Bonificacion Servicio Nocturno | E10: =+E5/30*10*1.35 -> 508.5
B11: Feriados | E11: =(E5+E9)*2/30 -> 82.866667
B12: Total Remuneraciones | E12: =+E5+E6+E9+E10+E11+E8+E7 -> 2180.4292
B15: Gratificaciones | E15: =((E12)+((E12)*0.09))/12*2 -> 396.1113
B16: Vacaciones | E16: =(E12)/12 -> 181.70243
B17: C.T.S. | E17: =(((E12)/2)+((E12)/6))/12*2 -> 242.26991
B18: Total Beneficios Sociales | E18: =SUM(E15:E17) -> 820.08364
B20: SUB TOTAL TRABAJADOR (1+4) | E20: =+E18+E12 -> 3000.5128
D21: 0.09 | E21: =+D21*(E5+E9+E11+E10+E8+E7+E6) -> 196.23863
B22: DESCANSERO | E22: =+(E21+E20)*4/26 -> 491.80791
B23: TOTAL DE COSTO DE PERSONAL | E23: =+E21+E20+E22 -> 3688.5593
B24: ARMA Y EQUIPAMIENTO | D24: 2 | E24: =+D24*$E$23/100 -> 73.771187
B25: GASTOS OPERATIVOS | D25: 2 | E25: =+D25*$E$23/100 -> 73.771187
B26: TOTAL | E26: =ROUND(SUM(E23:E25),2) -> 3836.1

Sheet agente sin arma
B1: Agente sin arma
B5: Salario basico | E5: 1130
B6: Condicion no remunerativo | E6: =+E5*0.15 -> 169.5
B7: -Horas extras al 25% | E7: =+($E$5/240)*20*1.25 -> 117.70833
B8: -Horas extras al 35% | E8: =+($E$5/240)*10*1.25 -> 58.854167
B9: Asignación familiar | E9: =+E5*0.1 -> 113
B10: Bonificacion Servicio Nocturno | E10: =+E5/30*10*1.35 -> 508.5
B11: Feriados | E11: =(E5+E9)*2/30 -> 82.866667
B12: Total Remuneraciones | E12: =+E5+E6+E9+E10+E11+E8+E7 -> 2180.4292
B15: Gratificaciones | E15: =((E12)+((E12)*0.09))/12*2 -> 396.1113
B16: Vacaciones | E16: =(E12)/12 -> 181.70243
B17: C.T.S. | E17: =(((E12)/2)+((E12)/6))/12*2 -> 242.26991
B18: Total Beneficios Sociales | E18: =SUM(E15:E17) -> 820.08364
B20: SUB TOTAL TRABAJADOR (1+4) | E20: =+E18+E12 -> 3000.5128
D21: 0.09 | E21: =+D21*(E5+E9+E11+E10+E8+E7+E6) -> 196.23863
B22: DESCANSERO | E22: =+(E21+E20)*4/26 -> 491.80791
B23: TOTAL DE COSTO DE PERSONAL | E23: =+E21+E20+E22 -> 3688.5593
B24: TOTAL | E24: =ROUND(SUM(E23:E23),2) -> 3688.56

Sheet apus
B1: A. Materiales, herramientas de campo
B2: Insumo | C2: und | D2: cantidad | E2: c/personal | F2: PU | G2: subtotal
B3: Detector de metales (Garret). | C3: und | D3: 2 | E3: 3 | F3: =186/1.18 -> 157.62712 | G3: =+F3*E3*D3 -> 945.76271
B4: Linterna de mano | C4: und | D4: 1 | E4: 8 | F4: 40 | G4: =+F4*E4*D4 -> 320
B5: Binoculares de largo alcance | C5: und | D5: 1 | E5: 3 | F5: 120 | G5: =+F5*E5*D5 -> 360
B6: Silbato | C6: und | D6: 1 | E6: 9 | F6: 3.92 | G6: =+F6*E6*D6 -> 35.28
B7: Celular móvil con cámara y acceso a internet | C7: und | D7: 1 | E7: 5 | F7: 500 | G7: =+F7*E7*D7 -> 2500
B8: Garita con silla y escritorio | C8: und | D8: 1 | E8: 1 | F8: 880 | G8: =+F8*E8*D8 -> 880
B9: Cuaderno de ocurrencias diarias | C9: und | D9: 6 | E9: 8 | F9: 4 | G9: =+F9*E9*D9 -> 192
B10: Mobiliario, útiles de escritorio, etc. | C10: glb | D10: 1 | E10: 1 | F10: 480 | G10: =+F10*E10*D10 -> 480
F11: TOTAL | G11: =ROUND(SUM(G3:G10),2) -> 5713.04
B13: B. EPPs y Señalética
B14: Insumo | C14: und | D14: cantidad | E14: c/personal | F14: PU | G14: subtotal
B15: Botas de seguridad | C15: und | D15: 2 | E15: 9 | F15: 116 | G15: =+F15*E15*D15 -> 2088
B16: Casco | C16: und | D16: 1 | E16: 9 | F16: =32/1.18 -> 27.118644 | G16: =+F16*E16*D16 -> 244.0678
B17: Tapanuca | C17: und | D17: 4 | E17: 9 | F17: 24 | G17: =+F17*E17*D17 -> 864
B18: Barbiquejo | C18: und | D18: 2 | E18: 9 | F18: 2.8 | G18: =+F18*E18*D18 -> 50.4
B19: Lentes | C19: und | D19: 2 | E19: 9 | F19: =10/1.18 -> 8.4745763 | G19: =+F19*E19*D19 -> 152.54237
B20: Tapón auditivo | C20: und | D20: 2 | E20: 9 | F20: =4*1.18 -> 4.72 | G20: =+F20*E20*D20 -> 84.96
G21: =ROUND(SUM(G15:G20),2) -> 3483.97
B23: C. Uniforme
B24: Insumo | C24: und | D24: cantidad | E24: c/personal | F24: PU | G24: subtotal
B25: Uniforme Completo segú TDR | C25: glb | D25: 2 | E25: 9 | F25: 420 | G25: =+F25*E25*D25 -> 7560
G26: =ROUND(SUM(G25),2) -> 7560
B28: D. Alimentación del personal
B29: Insumo | C29: und | D29: cantidad | E29: c/personal | F29: PU | G29: subtotal
B30: Menú | C30: dia | D30: =30*7 -> 210 | E30: 5 | F30: 9.5 | G30: =+F30*E30*D30 -> 9975
B31: Envases | C31: dia | D31: =30*7 -> 210 | E31: 5 | F31: 1.25 | G31: =+F31*E31*D31 -> 1312.5
B32: Cena | C32: dia | D32: =30*7 -> 210 | E32: 3 | F32: 6.5 | G32: =+F32*E32*D32 -> 4095
B33: Envases | C33: dia | D33: =30*7 -> 210 | E33: 3 | F33: 1.25 | G33: =+F33*E33*D33 -> 787.5
G34: =ROUND(SUM(G30:G33),2) -> 16170
B37: D. Camaras de seguridad
B38: Insumo | C38: und | D38: cantidad | E38: c/personal | F38: PU | G38: subtotal
B39: 4 camaras | C39: dia | D39: 1 | E39: 1 | F39: 5000 | G39: =+F39*E39*D39 -> 5000
G40: =ROUND(SUM(G39:G39),2) -> 5000
