Workbook

Sheet DETALLADO
E1: PLANTILLA DE PRESUPUESTO
K3: RV.00
K4: Fecha de versión
A5: Obra: Defensas Ribereñas Río Lacramarca
A6: Dirección: Nuevo Chimbote - Ancash
A7: DATOS DEL OFERTANTE:
A8: Razon Social: | E8: EMPRESA DE VIGILANCIA Y RESGUARDO PROFESIONAL SA
A9: Domicilio: | E9: URB. ZONA ESTE CALLE SAN MARTIN MZ. 15 LT. 16 - CASMA - ANCASH
A10: Teléfono/Fax:
A11: Contacto: | E11: 933006638
K12: FECHA LIMITE ENTREGA OFERTA:
A13: ITEM | B13: U/M | D13: CANTIDAD | E13: DESCRIPCION | K13: Prec. Unit. | L13: Prec. Total
A14: SERVICIO DE VIGILANCIA
E15: Personal
B16: mes | C16: 7 | D16: 5 | E16: Agente con Armas | K16: =+'costo personal'!C27 -> 3790.1634 | L16: =+D16*C16*K16 -> 132655.72
B17: mes | C17: 7 | D17: 3 | E17: Agente sin Armas | K17: =+'costo personal'!I27 -> 3536.1806 | L17: =+D17*C17*K17 -> 74259.793
E18: Recursos y Equipos
B19: glb | C19: 1 | D19: 1 | E19: Materiales, Herramienta de campo | K19: =+'otros costos'!F11 -> 4862 | L19: =+D19*C19*K19 -> 4862
B20: glb | C20: 1 | D20: 1 | E20: Equipos informaticos, GPS, impresiones | K20: =+'otros costos'!L4 -> 0 | L20: =+D20*C20*K20 -> 0
B21: glb | C21: 1 | D21: 1 | E21: Epps y Señaletica | K21: =+'otros costos'!F22 -> 2643.12 | L21: =+D21*C21*K21 -> 2643.12
B22: glb | C22: 1 | D22: 1 | E22: Uniformes | K22: =+'otros costos'!L10 -> 3600 | L22: =+D22*C22*K22 -> 3600
E23: Alimentacion
B24: glb | C24: 1 | D24: 1 | E24: Alimentacion del personal | K24: =+'otros costos'!L18 -> 16821 | L24: =+K24*D24*C24 -> 16821
E25: Seguros
B26: mes | C26: 7 | D26: 8 | E26: Póliza SCTR Salud | K26: 29.5 | L26: =+K26*D26*C26 -> 1652
B27: mes | C27: 7 | D27: 8 | E27: Póliza SCTR Pensión | K27: 35.4 | L27: =+K27*D27*C27 -> 1982.4
B28: mes | C28: 7 | D28: 8 | E28: Vida Ley | K28: 29.5 | L28: =+K28*D28*C28 -> 1652
B29: mes | C29: 7 | D29: 8 | E29: Seguro de resonsabilida Civil | K29: 24.305556 | L29: =+K29*D29*C29 -> 1361.1111
B30: mes | C30: 7 | D30: 8 | E30: Poliza de Deshonestidad | K30: 24.305556 | L30: =+K30*D30*C30 -> 1361.1111
A31: COSTO DIRECTO | L31: =SUM(L16:L30) -> 242850.25
B32: GLB | D32: 1 | E32: GASTOS GENERALES | L32: =+gg!D9 -> 17300
B33: GLB | D33: 1 | E33: UTILIDADES | L33: =+L31*0.1 -> 24285.025
A34: SUB TOTAL | L34: =SUM(L31:L33) -> 284435.28
A35: IGV | K35: 0.18 | L35: =0.18*L34 -> 51198.35
A36: IMPORTE TOTAL | L36: =IF(L35="","",+L35+L34) -> 335633.63
A38: CONDICIONES GENERALES:
A40: DESCRIPCION | E40: SOLICITADO | H40: OFERTADO
A41: FORMA DE PAGO | E41: VALORIZACION MENSUAL A 30 DÍAS | H41: VALORIZACION MENSUAL A 30 DÍAS
A42: MONEDA | E42: SOLES | H42: SOLES
A43: TIEMPO DE SERVICIO | F43: 7 MESES | I43: 7 MESES
...

Sheet costo personal
B2: ESTRUCTURA DE COSTOS (Con arma) | H2: ESTRUCTURA DE COSTOS (Sin arma)
B3: "SERVICIO DE VIGILANCIA Y SEGURIDAD PARA UNIDAD TERRITORIAL CHIMBOTE" | H3: "SERVICIO DE VIGILANCIA Y SEGURIDAD PARA UNIDAD TERRITORIAL CHIMBOTE"
B4: (En Soles) | H4: (En Soles)
B5: Descripción | H5: Descripción
C6: 12hrs Noche o dia / L-D | I6: 12hrs Noche o dia / L-D
B7: Remuneración | H7: Remuneración
B8: Remuneración Mínima Mensual (RMM) | C8: 1130 | H8: Remuneración Mínima Mensual (RMM) | I8: 1130
B9: Asignación Familiar (10% RMV) o Bonificación | C9: =+C8*0.1 -> 113 | H9: Asignación Familiar (10% RMV) o Bonificación | I9: =+I8*0.1 -> 113
B10: * Bonificación Nocturna de RMM | C10: =(C8/30*12)*1.35 -> 610.2 | H10: * Bonificación Nocturna de RMM | I10: =(I8/30*12)*1 -> 452
B11: * Horas Extras (18.00 A 20.00 Horas) | C11: =+(C8/240)*1.25*24 -> 141.25 | H11: * Horas Extras (18.00 A 20.00 Horas) | I11: =+(I8/240)*1.25*24 -> 141.25
B12: * Horas Extras (20.00 A 22.00 Horas) | C12: =+(C8/240)*1.35*24 -> 152.55 | H12: * Horas Extras (20.00 A 22.00 Horas) | I12: =+(I8/240)*1.35*24 -> 152.55
B13: Sub total de Remuneración | C13: =+C8+C9+C11+C12+C10 -> 2147 | H13: Sub total de Remuneración | I13: =+I8+I9+I11+I12+I10 -> 1988.8
B14: Feriados no laborables(D.Ley No. 713) | C14: =+C8/30*2 -> 75.333333 | H14: Feriados no laborables(D.Ley No. 713) | I14: =+I8/30*2 -> 75.333333
B15: A. Remuneración Total | C15: =SUM(C13:C14) -> 2222.3333 | H15: A. Remuneración Total | I15: =SUM(I13:I14) -> 2064.1333
B16: B. Vacaciones de (A) (Corresponde 1 mes al año = 1/12 - 8.33% ) | C16: =+(C15)*8.33% -> 185.12037 | H16: B. Vacaciones de (A) (Corresponde 1 mes al año = 1/12 - 8.33% ) | I16: =+(I15)*8.33% -> 171.94231
B17: C. Gratificaciones de (A) (En Julio - Diciembre, 1 vez por semestre = 1/6 = 16.67% ) | C17: =((C15)*16.67%)*1.09 -> 403.80463 | H17: C. Gratificaciones de (A) (En Julio - Diciembre, 1 vez por semestre = 1/6 = 16.67% ) | I17: =((I15)*16.67%)*1.09 -> 375.05922
B18: D. CTS de ( A) | C18: =+(C15)*11.11% -> 246.90123 | H18: D. CTS de ( A) | I18: =+(I15)*11.11% -> 229.32521
B19: Total a pagar al personal | C19: =+C18+C17+C16+C15 -> 3058.1596 | H19: Total a pagar al personal | I19: =+I18+I17+I16+I15 -> 2840.4601
B20: Aportes de la empresa (Leyes Sociales) | H20: Aportes de la empresa (Leyes Sociales)
B21: Aportes ESSALUD de (A+B) | C21: =+(C8+C9)*9% -> 111.87 | H21: Aportes ESSALUD de (A+B) | I21: =+(I8+I9)*9% -> 111.87
B22: S.C.T.R. de (A+B) | C22: =(C8+C9)*(2.88%+3.45%) -> 78.6819 | H22: S.C.T.R. de (A+B) | I22: =(I8+I9)*(2.88%+3.45%) -> 78.6819
B23: Costo Total de personal | C23: =+C19+C21+C22 -> 3248.7115 | H23: Costo Total de personal | I23: =+I19+I21+I22 -> 3031.012
B24: Descansero | C24: =+C23/6 -> 541.45191 | H24: Descansero | I24: =+I23/6 -> 505.16866
B25: Gastos operativos(equipamiento) | H25: Gastos operativos(equipamiento)
B26: SUB TOTAL COSTO POR PUESTO | C26: =+C25+C24+C23 -> 3790.1634 | H26: SUB TOTAL COSTO POR PUESTO | I26: =+I25+I24+I23 -> 3536.1806
B27: Monto Total antes de IGV | C27: =+C26 -> 3790.1634 | H27: Monto Total antes de IGV | I27: =+I26 -> 3536.1806
A30: 62

Sheet gg
A3: Descripción | B3: Plazo (mes) | C3: P. U. (S/) | D3: Total (S/)
A4: Administrativos | B4: 7 | C4: 1500 | D4: =+B4*C4 -> 10500
A5: Carta fianza | B5: 1 | C5: 3000 | D5: =+B5*C5 -> 3000
A6: Supervision | B6: 7 | C6: 500 | D6: =+B6*C6 -> 3500
A7: Exámen médico | B7: 1 | C7: 300 | D7: =+B7*C7 -> 300
D9: =SUM(D4:D7) -> 17300

Sheet otros costos
B1: Materiales, Herramienta de campo | H1: Equipos informaticos, GPS, impresiones
B2: Descripcion | C2: cantidad | D2: agentes | E2: p.u cotizado | F2: total | H2: Insumo | I2: cantidad | J2: agentes | K2: p.u cotizado | L2: total
B3: Detector de metales (Garret). | C3: 2 | D3: 2 | E3: 150 | F3: =+E3*D3*C3 -> 600 | H3: 4 camaras | I3: 1 | J3: 1 | L3: =+K3*J3*I3 -> 0
B4: Linterna de mano | C4: 1 | D4: 8 | E4: 40 | F4: =+E4*D4*C4 -> 320 | L4: =ROUND(SUM(L3:L3),2) -> 0
B5: Binoculares de largo alcance | C5: 1 | D5: 3 | E5: 137 | F5: =+E5*D5*C5 -> 411
B6: Silbato | C6: 1 | D6: 9 | E6: 3 | F6: =+E6*D6*C6 -> 27
B7: Celular móvil con cámara y acceso a internet | C7: 1 | D7: 5 | E7: 520 | F7: =+E7*D7*C7 -> 2600 | H7: Uniformes
H8: Descripcion | I8: cantidad | J8: agentes | K8: p.u cotizado | L8: total
B9: Cuaderno de ocurrencias diarias | C9: 6 | D9: 8 | E9: 8 | F9: =+E9*D9*C9 -> 384 | H9: Uniforme | I9: 1 | J9: 9 | K9: 400 | L9: =+K9*J9*I9 -> 3600
B10: Mobiliario, útiles de escritorio, etc. | C10: 1 | D10: 1 | E10: 520 | F10: =+E10*D10*C10 -> 520 | L10: =ROUND(SUM(L9),2) -> 3600
F11: =ROUND(SUM(F3:F10),2) -> 4862
B14: Epps y Señaletica | H14: Alimentacion
B15: Descripcion | C15: cantidad | D15: agentes | E15: p.u cotizado | F15: total | H15: Descripcion | I15: cantidad | J15: agentes | K15: p.u cotizado | L15: total
B16: Botas de seguridad | C16: 2 | D16: 9 | E16: 75 | F16: =+E16*D16*C16 -> 1350 | H16: Menú | I16: =30*7 -> 210 | J16: 5 | K16: 11.1 | L16: =+K16*J16*I16 -> 11655
B17: Casco | C17: 1 | D17: 9 | E17: 32 | F17: =+E17*D17*C17 -> 288 | H17: Cena | I17: =30*7 -> 210 | J17: 3 | K17: 8.2 | L17: =+K17*J17*I17 -> 5166
B18: Tapanuca | C18: 4 | D18: 9 | E18: 18 | F18: =+E18*D18*C18 -> 648 | L18: =ROUND(SUM(L16:L17),2) -> 16821
B19: Barbiquejo | C19: 2 | D19: 9 | E19: 5.7 | F19: =+E19*D19*C19 -> 102.6
B20: Lentes | C20: 2 | D20: 9 | E20: 9.3 | F20: =+E20*D20*C20 -> 167.4
B21: Tapón auditivo | C21: 2 | D21: 9 | E21: 4.84 | F21: =+E21*D21*C21 -> 87.12
F22: =ROUND(SUM(F16:F21),2) -> 2643.12
