Workbook
Name a: [1]Compra_54MOD!#REF!
Name a: [1]Compra_54MOD!#REF!
Name a: [1]Compra_54MOD!#REF!
Name CALPH: [2]SHEET1!$M$1:$M$4
Name CBNPR: [2]SHEET1!$X$1:$X$4
Name CDCTO: [2]SHEET1!$B$1:$B$4
Name CDOCO: [2]SHEET1!$C$1:$C$4
Name CDSC1: [2]SHEET1!$E$1:$E$4
Name CDSC2: [2]SHEET1!$F$1:$F$4
Name CKCOO: [2]SHEET1!$A$1:$A$4
Name CPDDJ: [2]SHEET1!$S$1:$S$4
Name CPRRC: [2]SHEET1!$Q$1:$Q$4
Name CPTC: [2]SHEET1!$W$1:$W$4
Name CUM: [2]SHEET1!$G$1:$G$4
Name CUORG: [2]SHEET1!$I$1:$I$4
Name pag_2: [3]Compra_5!$B$69
Name pag_3: [3]Compra_5!$B$132
Name total: [4]OC215!#REF!
Name total: [4]OC215!#REF!
Name total1: [3]Compra_1!$I$311
Name total10: [3]Compra_10!$I$59
Name total100: [4]OC215!#REF!
Name total100: [4]OC215!#REF!
Name total11: [3]Compra_11!$I$161
Name total12: [3]Compra_12!$I$36
Name total13: [3]Compra_13!$I$36
Name total14: [3]Compra_14!$I$32
Name total15: [3]Compra_15!$I$33
Name total16: [5]Compra_16!$I$33
Name total17: [5]Compra_17!$I$47
Name total18: [5]Compra_18!$I$44
Name total19: [5]Compra_19!$I$58
Name total1AMP: [3]Compra_1AMP!$I$36
Name total1MOD: [3]Compra_1MOD!$G$141
Name total2: [3]Compra_2!$I$53
Name total20: [5]Compra_20!$I$34
Name total21: [5]Compra_21!$I$35
Name total22: [5]Compra_22!$I$106
Name total23: [5]Compra_23!$I$101
Name total24: [5]Compra_24!$I$102
Name total25: [5]Compra_25!$I$36
Name total26: [5]Compra_26!$I$102
Name total27: [5]Compra_27!$I$105
Name total28: [5]Compra_28!$I$101
Name total29: [5]Compra_29!$I$106
Name total3: [3]Compra_3!$I$50
Name total30: [5]Compra_30!$I$105
Name total31: [6]Compra_31!$I$102
Name total32: [6]Compra_32!$I$105
Name total33: [6]Compra_33!$I$106
Name total34: [6]Compra_34!$I$46
Name total35: [6]Compra_35!$I$33
Name total36: [6]Compra_36!$I$33
Name total37: [6]Compra_37!$I$47
Name total38: [6]Compra_38!$I$45
Name total39: [6]Compra_39!$I$45
Name total4: [3]Compra_4!$I$33
Name total40: [6]Compra_40!$I$40
Name total41: [6]Compra_41!$I$45
Name total42: [6]Compra_42!$I$46

Sheet CONSOLIDADO
E1: PLANTILLA DE PRESUPUESTO
K3: RV.00
K4: Fecha de versión
A5: Obra: Defensas Ribereñas Río Lacramarca
A6: Dirección: Nuevo Chimbote - Ancash
A7: DATOS DEL OFERTANTE:
A8: Razon Social:
A9: Domicilio:
A10: Teléfono/Fax:
A11: Contacto:
K12: FECHA LIMITE ENTREGA OFERTA:
A13: ITEM | B13: U/M | C13: CANTIDAD | E13: DESCRIPCION | K13: Prec. Unit. | L13: Prec. Total
A14: SUMINISTRO DE AGREGADOS PARA RELLENOS
A15: 1.01 | B15: M3 | C15: 71603.982 | E15: Material de relleno max 3" | K15: =(DETALLADO!K16*12%)+DETALLADO!K16 -> 30.352 | L15: =+K15*C15 -> 2173324.1
A16: 1.02 | B16: M3 | C16: 1692.72 | E16: Filtro para drenaje | K16: =(DETALLADO!K18*12%)+DETALLADO!K18 -> 29.68 | L16: =+K16*C16 -> 50239.93
A17: 1.03 | B17: M3 | C17: 5288.17 | E17: Sub base granular | K17: =(DETALLADO!K19*12%)+DETALLADO!K19 -> 33.6 | L17: =+K17*C17 -> 177682.51
A18: 1.04 | B18: M3 | C18: 5288.17 | E18: Base Granular | K18: =(DETALLADO!K20*12%)+DETALLADO!K20 -> 33.6 | L18: =+K18*C18 -> 177682.51
A19: 1.05 | B19: M3 | C19: 98552.548 | E19: Relleno para (Muro de Suelo Reforzado) | K19: =(DETALLADO!K21*12%)+DETALLADO!K21 -> 29.68 | L19: =+K19*C19 -> 2925039.6
A20: 1.06 | B20: M3 | C20: 127659.51 | E20: Material de relleno max 6" | K20: =(DETALLADO!K24*12%)+DETALLADO!K24 -> 39.2 | L20: =+K20*C20 -> 5004252.7
A21: 1.07 | B21: M3 | C21: 38486.755 | E21: Pedraplén e=30 cm max 6" | K21: =(35*12%)+35 -> 39.2 | L21: =+K21*C21 -> 1508680.8
A22: 1.08 | B22: M3 | C22: 167737.75 | E22: Pedraplén e=60 cm max 16" | K22: =(DETALLADO!K27*12%)+DETALLADO!K27 -> 62.72 | L22: =+K22*C22 -> 10520512
A23: 1.09 | B23: M3 | C23: 8353.597 | E23: Pedraplen sobre terreno saturado 6" a 16" | K23: =(DETALLADO!K27*12%)+DETALLADO!K27 -> 62.72 | L23: =+K23*C23 -> 523937.6
A24: 1.1 | B24: M3 | C24: 9009.048 | E24: Relleno para Estructuras | K24: =(DETALLADO!K17*12%)+DETALLADO!K17 -> 29.68 | L24: =+K24*C24 -> 267388.54
A26: IMPORTE SIN IGV | L26: =SUM(L15:L24) -> 23328740
E27: IGV | K27: 0.18 | L27: =+K27*L26 -> 4199173.2
A28: TOTAL | L28: =+L27+L26 -> 27527913
E30: CONDICIONES GENERALES:
E31: DESCRIPCION | H31: SOLICITADO | K31: OFERTADO
E32: FORMA DE PAGO | H32: VALORIZACION MENSUAL A 30 DÍAS | K32: MESUAL
E33: MONEDA | H33: SOLES | K33: SOLES
E34: ANTICIPO | H34: 0 | K34: NO
E35: PLAZO DE EJECUCION DEL SERVICIO (MES) | H35: 12 | K35: 12 MESES
E36: FIANZA DE FIEL CUMPLIMIENTO (10%) | H36: SI | K36: RETENCION DEL 10%
E37: MODALIDAD DE CONTRATACIÓN | H37: PRECIOS UNITARIOS | K37: ORDEN DE COMPRA
E38: TIPO DE CONTRATO | H38: SUMINISTRO | K38: SUMINISTRO

Sheet DETALLADO
E1: PLANTILLA DE PRESUPUESTO
K3: RV.00
K4: Fecha de versión
A5: Obra: Defensas Ribereñas Río Lacramarca
A6: Dirección: Nuevo Chimbote - Ancash
A7: DATOS DEL OFERTANTE:
A8: Razon Social: | D8: FRAKMAL INVERSIONES E.I.R.L
A9: Domicilio: | D9: AV. BUENOS AIRES MZ. B LT. 13 PJ. LA UNION
A10: Teléfono/Fax: | D10: 945 347 576
A11: Contacto: | D11: frakmaleirl@gmail.com
K12: FECHA LIMITE ENTREGA OFERTA: | L12: 45203
A13: ITEM | B13: U/M | C13: CANTIDAD | E13: DESCRIPCION | K13: Prec. Unit. | L13: Prec. Total
A14: SUMINISTRO DE AGREGADOS PARA RELLENOS
A15: 1 | E15: SUMINISTRO DE AGREGADOS PARA RELLENOS SUBPROYECTO PUENTE PARDO
A16: 1.01 | B16: M3 | C16: 1589.23 | E16: Material de relleno max 3" | K16: 27.1 | L16: =+K16*C16 -> 43068.133
A17: 1.02 | B17: M3 | C17: 9009.048 | E17: Relleno para Estructuras | K17: 26.5 | L17: =+K17*C17 -> 238739.77
A18: 1.03 | B18: M3 | C18: 1692.72 | E18: Filtro para drenaje | K18: 26.5 | L18: =+K18*C18 -> 44857.08
A19: 1.04 | B19: M3 | C19: 5288.17 | E19: Sub base granular | K19: 30 | L19: =+K19*C19 -> 158645.1
A20: 1.05 | B20: M3 | C20: 5288.17 | E20: Base Granular | K20: 30 | L20: =+K20*C20 -> 158645.1
A21: 1.06 | B21: M3 | C21: 98552.548 | E21: Relleno para (Muro de Suelo Reforzado) | K21: 26.5 | L21: =+K21*C21 -> 2611642.5
A22: 1.07 | B22: M3 | C22: 8353.597 | E22: Pedraplen sobre terreno saturado 6" a 16" | K22: 56 | L22: =+K22*C22 -> 467801.43
A23: 2 | E23: SUMINISTRO DE AGREGADOS PARA RELLENOS SUBPROYECTO A1
A24: 2.01 | B24: M3 | C24: 78512.03 | E24: Material de relleno max 6" | K24: 35 | L24: =+K24*C24 -> 2747921
A25: 2.02 | B25: M3 | C25: 15687.74 | E25: Material de relleno max 4" | K25: 33 | L25: =+K25*C25 -> 517695.42
A26: 2.03 | B26: M3 | C26: 7382.75 | E26: Material de relleno max 3" | K26: 27.1 | L26: =+K26*C26 -> 200072.53
A27: 2.04 | B27: M3 | C27: 42805.99 | E27: Pedraplén e=60 cm max 16" | K27: 56 | L27: =+K27*C27 -> 2397135.4
A28: 2.05 | B28: M3 | C28: 13849.53 | E28: Pedraplén e=30 cm max 6" | K28: 35 | L28: =+K28*C28 -> 484733.55
A29: 3 | E29: SUMINISTRO DE AGREGADOS PARA RELLENOS SUBPROYECTO A2 TRAMO 1
A30: 3.01 | B30: M3 | C30: 23000.82 | E30: Material de relleno max 3" | K30: 27.1 | L30: =+K30*C30 -> 623322.22
A31: 3.02 | B31: M3 | C31: 83313.63 | E31: Pedraplén e=60 cm max 16" | K31: 56 | L31: =+K31*C31 -> 4665563.3
A32: 3.03 | B32: M3 | C32: 15087.57 | E32: Pedraplén e=30 cm max 6" | K32: 35 | L32: =+K32*C32 -> 528064.95
A33: 4 | E33: SUMINISTRO DE AGREGADOS PARA RELLENOS SUBPROYECTO A2 TRAMO 2
A34: 4.01 | B34: M3 | C34: 224.238 | E34: Material de relleno max 6" | K34: 35 | L34: =C34*K34 -> 7848.33
A35: 4.02 | B35: M3 | C35: 34586.132 | E35: Material de relleno max 3" | K35: 27.1 | L35: =C35*K35 -> 937284.17
A36: 4.03 | B36: M3 | C36: 27492.155 | E36: Pedraplén e=60 cm max 16" | K36: 56 | L36: =C36*K36 -> 1539560.7
A37: 4.04 | B37: M3 | C37: 4978.9114 | E37: Pedraplén e=30 cm max 6" | K37: 35 | L37: =C37*K37 -> 174261.9
A38: 5 | E38: SUMINISTRO DE AGREGADOS PARA RELLENOS SUBPROYECTO A3
A39: 5.01 | B39: M3 | C39: 1360.19 | E39: Material de relleno max 6" | K39: 35 | L39: =+K39*C39 -> 47606.65
A40: 5.02 | B40: M3 | C40: 3955.58 | E40: Material de relleno max 3" | K40: 28 | L40: =+K40*C40 -> 110756.24
A41: COSTO DIRECTO | L41: =SUM(L16:L40) -> 18705226
...

Sheet PROGRAMACION
E4: PERIODO DE ENTREGAS
B5: SUMINISTRO DE AGREGADOS PARA RELLENOS SUBPROYECTO PUENTE PARDO | C5: UNIDAD | D5: METRADO | E5: NOVIEMBRE 2023 A FEBRERO 2024 | F5: MARZO A JUNIO -2024
B6: Material de relleno max 3" | C6: M3 | D6: 1589.23 | F6: X
B7: Relleno para Estructuras | C7: M3 | D7: 9009.048 | F7: X
B8: Filtro para drenaje | C8: M3 | D8: 1692.72 | F8: X
B9: Sub base granular | C9: M3 | D9: 5288.17 | F9: X
B10: Base Granular | C10: M3 | D10: 5288.17 | F10: X
B11: Relleno para (Muro de Suelo Reforzado) | C11: M3 | D11: 98552.548 | F11: X
B12: Pedraplen sobre terreno saturado 6" a 16" | C12: M3 | D12: 8353.597 | F12: X
B13: SUMINISTRO DE AGREGADOS PARA RELLENOS SUBPROYECTO A1
B14: Material de relleno max 6" | C14: M3 | D14: 78512.03 | E14: X
B15: Material de relleno max 4" | C15: M3 | D15: 15687.75 | E15: X
B16: Material de relleno max 3" | C16: M3 | D16: 7382.75 | E16: X
B17: Pedraplén e=60 cm max 16" | C17: M3 | D17: 42805.99 | E17: X
B18: Pedraplén e=30 cm max 6" | C18: M3 | D18: 13849.83 | E18: X
A19: C | B19: SUMINISTRO DE AGREGADOS PARA RELLENOS SUBPROYECTO A2 TRAMO 1
B20: Material de relleno max 3" | C20: M3 | D20: 23000.82 | E20: X
B21: Pedraplén e=60 cm max 16" | C21: M3 | D21: 83312.63 | E21: X
B22: Pedraplén e=30 cm max 6" | C22: M3 | D22: 15087.57 | E22: X
A23: C | B23: SUMINISTRO DE AGREGADOS PARA RELLENOS SUBPROYECTO A2 TRAMO 2
B24: Material de relleno max 6" | C24: M3 | D24: 224.238 | F24: X
B25: Material de relleno max 3" | C25: M3 | D25: 34586.132 | F25: X
B26: Pedraplén e=60 cm max 16" | C26: M3 | D26: 27492.155 | F26: X
B27: Pedraplén e=30 cm max 6" | C27: M3 | D27: 4978.9114 | F27: X
B28: SUMINISTRO DE AGREGADOS PARA RELLENOS SUBPROYECTO A3
B29: Material de relleno max 6" | C29: M3 | D29: 1360.19 | F29: X
B30: Material de relleno max 3" | C30: M3 | D30: 3955.58 | F30: X
B32: IMPORTANTE
B33: En su propuesta indicar el volumen mínimo y máximo que pueden suministrar por mes
B34: Fecha prevista de inicio: Noviembre
B35: La fecha prevista partirá desde la carta de adjudicación al subcontratista
B36: El postor que considere que es un plazo corto, podrá proponer un volumen mensual de producción de acuerdo a su capacidad real
