Workbook

Sheet Resumen Presupuesto 
A3: COSTOS PROYECTO DE EVALUACION ARQUEOLOGICA
A4: HONORARIOS | C4: Soles
A5: Honorarios | C5: ='Honorarios '!E6 -> 252000 | E5: 124700
A6: SUBTOTAL 01 | C6: =C5 -> 252000
A8: EPPS | C8: Soles
A9: Equipos de proteccion, señalizacion y otros | C9: =' EPPS '!D4 -> 13340 | E9: 18990
A10: SUBTOTAL 02 | C10: =SUM(C9:C9) -> 13340
A12: Examenes Medicos - POLIZAS SEGUROS | C12: Soles
A13: SCTR, Examenes médicos Staff y incluye pruebas COVID) | C13: ='Examenes medicos '!D3+'Polizas, seguros y carta fianza'!D3 -> 9600 | E13: 13200 | M13: 525186.2
A14: SUBTOTAL 03 | C14: =SUM(C13:C13) -> 9600 | M14: 42014.896
M15: 42014.896
A16: TRANSPORTE DE PERSONAL | C16: Soles | M16: 26259.31
A17: Transporte | C17: ='Transporte de personal'!E3 -> 156000 | E17: 126000 | M17: 635475.3
A18: SUBTOTAL 04 | C18: =SUM(C17:C17) -> 156000
M19: 114385.55
A20: EQUIPOS Y MATERIALES | C20: Soles | M20: =M17+M19 -> 749860.86
A21: EQUIPOS Y MATERIALES | C21: ='Equipos y materiales'!D8 -> 28494.878 | E21: 47521.2
A22: SUBTOTAL 05 | C22: =SUM(C21:C21) -> 28494.878
A24: ALIMENTACION, HOSPEDAJE Y PASAJES AEREOS | C24: Soles
A25: viaticos y traslados | C25: ='Viaticos-Alojam. '!C5 -> 86400 | E25: 58500
A26: SUBTOTAL 06 | C26: =SUM(C25:C25) -> 86400
A28: OTROS GASTOS | C28: Soles
A29: Gastos diversos: alquilers, ploteos pagos TUPA | C29: ='Otros gastos'!D3 -> 11003.8 | E29: 10000
A30: SUBTOTAL 07 | C30: =SUM(C29:C29) -> 11003.8 | E30: =SUM(E9:E29) -> 274211.2
B33: SUBTOTAL GENERAL | C33: =SUM(C6+C10+C14+C18+C22+C26+C29) -> 556838.68 | E33: =0.3*C36 -> 197120.89
B34: Gastos Generales (10%) * | C34: =C33*10% -> 55683.868 | E34: =0.2*C36 -> 131413.93
B35: Utilidad (8%) | C35: =C33*0.08 -> 44547.094 | E35: =0.1*C36 -> 65706.964
B36: TOTAL GENERAL | C36: =SUM(C33:C35) -> 657069.64
B38: IGV (18%) | C38: =C36*0.18 -> 118272.54 | I38: =C36*0.3 -> 197120.89
C39: =SUM(C36:C38) -> 775342.18 | I39: =C36*0.2 -> 131413.93
I40: =C36*0.1 -> 65706.964
A41: (*) Gastos Generales, considera: Alquiler de oficina, Mantenimiento, Servicios básicos, Apoyo personal de Lima, Costo de contratos , Asesoria legal, Costos financieros, entre otros. | I41: =C36*0.2 -> 131413.93
I42: 127095.06
I43: =SUM(I38:I42) -> 652750.77

Sheet Honorarios 
B2: HONORARIOS DE PERSONAL
C4: HONORARIOS | E4: Soles | F4: USD
C5: BIENES Y SERVICIOS | E5: =+G13 -> 252000 | F5: =+H13 -> 72000
C6: TOTAL | E6: =SUM(E5:E5) -> 252000 | F6: =SUM(F5:F5) -> 72000
B9: Bienes y Servicios | C9: Cantidad | E9: MESES | F9: COSTO S/. | G9: TOTAL SOLES | H9: TOTAL USD
B10: Director de Proyecto de evaluacion | C10: 1 | E10: 12 | F10: 10500 | G10: =+C10*E10*F10 -> 126000 | H10: =+G10/3.5 -> 36000
B11: Arqueologo residente | C11: 1 | E11: 12 | F11: 10500 | G11: =+C11*E11*F11 -> 126000 | H11: =+G11/3.5 -> 36000
C12: =SUM(C10:C11) -> 2
F13: TOTAL | G13: =SUM(G10:G12) -> 252000 | H13: =SUM(H10:H12) -> 72000

Sheet  EPPS 
B1: MATERIALES | D1: S/.
B2: Equipos proteccion personal | D2: =E22 -> 3720
B3: Señalizaciòn y otros | D3: =D30 -> 9620
B4: Total | D4: =SUM(D2:D3) -> 13340
A6: Equipo de Proteccion Personal | B6: COSTOS UNITARIOS EPP | C6: UNIDADES PARA 12 MES | D6: NÚMERO DE PERSONAS | E6: COSTO PERSONAL CAMPO
A8: Chalecos Reflectantes | B8: 35 | C8: 2 | D8: 2 | E8: =B8*C8*D8 -> 140
A9: Lentes seguridad | B9: 25 | C9: 2 | D9: 2 | E9: =B9*C9*D9 -> 100
A10: Casco de Seguridad | B10: 35 | C10: 2 | D10: 2 | E10: =B10*C10*D10 -> 140
A11: Mascarilla Polvo Simple (ciento) | B11: 60 | C11: 12 | D11: 2 | E11: =B11*C11*D11 -> 1440
A12: Guantes quirurgicos | B12: 30 | C12: 2 | D12: 2 | E12: =B12*C12*D12 -> 120
A13: Guantes de cuero | B13: 15 | C13: 2 | D13: 2 | E13: =B13*C13*D13 -> 60
A14: Botas de PVC con punta | B14: 40 | C14: 2 | D14: 2 | E14: =B14*C14*D14 -> 160
A15: Capotin para Lluvia | B15: 40 | C15: 2 | D15: 2 | E15: =B15*C15*D15 -> 160
A16: Respiradores doble vía | B16: 95 | C16: 2 | D16: 2 | E16: =B16*C16*D16 -> 380
A17: Repuesto de filtro de respiradores | B17: 30 | C17: 2 | D17: 2 | E17: =B17*C17*D17 -> 120
A18: alcohol gel, mascarillas kit x persona | B18: 80 | C18: 1 | D18: 2 | E18: =B18*C18*D18 -> 160
A19: Bloqueador | B19: 45 | C19: 2 | D19: 2 | E19: =B19*C19*D19 -> 180
... A21: kit AntiCovid | B21: 180 | C21: 1 | D21: 2 | E21: =B21*C21*D21 -> 360
E22: =SUM(E8:E21) -> 3720
A23: Señalizacion y otros | B23: COSTOS UNITARIOS | C23: UNIDADES PARA 1 MESES | D23: COSTO TOTAL S/.
A25: Botiquin | B25: 90 | C25: 3 | D25: =B25*C25 -> 270
A26: Rollo Malla de Faena | B26: 40 | C26: 20 | D26: =B26*C26 -> 800
A27: Poste Señalizacion o Estaca de madera | B27: 15 | C27: 200 | D27: =B27*C27 -> 3000
A28: Cinta de señalizacion | B28: 65 | C28: 30 | D28: =B28*C28 -> 1950
A29: Letreros de señalizacion | B29: 100 | C29: 36 | D29: =B29*C29 -> 3600
D30: =SUM(D25:D29) -> 9620

Sheet Examenes medicos 
B1: Examenes medicos | D1: Soles | E1: USD
B2: SEGUROS Y OTROS | D2: =+F8 -> 6720 | E2: =+G8 -> 1920
B3: TOTAL | D3: =SUM(D2:D2) -> 6720 | E3: =SUM(E2:E2) -> 1920
A6: Examenes medicos | B6: Cantidad | C6: Unidad | D6: MESES | E6: COSTO S/. | F6: TOTAL SOLES | G6: TOTAL USD
A7: Examenes médicos Staff y Obreros incluye prueba COVID) | B7: 2 | C7: Unid | D7: 12 | E7: 280 | F7: =+B7*D7*E7 -> 6720 | G7: =+F7/3.5 -> 1920
E8: TOTAL | F8: =SUM(F7:F7) -> 6720 | G8: =SUM(G7:G7) -> 1920

Sheet Polizas, seguros y carta fianza
B1: BIENES Y SERVICIOS | D1: Soles | E1: USD
B2: SEGUROS Y OTROS | D2: =+F12 -> 2880 | E2: =+G12 -> 822.85714
B3: TOTAL | D3: =SUM(D2:D2) -> 2880 | E3: =SUM(E2:E2) -> 822.85714
A7: Seguros y Otros | B7: Cantidad | C7: Unidad | D7: MESES | E7: COSTO S/. | F7: TOTAL SOLES | G7: TOTAL USD
A8: Seguros (SCTR Pension y salud, Seguro Vida) | B8: 2 | C8: Global | D8: 12 | E8: 120 | F8: =+B8*D8*E8 -> 2880 | G8: =+F8/3.5 -> 822.85714
A9: Seguro de Responsabilidad civil General comercial | B9: 0 | C9: Global
A10: Carta de fiel cumplimiento | B10: 0 | C10: Global | D10: 0
E12: TOTAL | F12: =SUM(F8:F11) -> 2880 | G12: =SUM(G8:G11) -> 822.85714

Sheet Transporte de personal
C1: BIENES Y SERVICIOS | E1: Soles | F1: USD
C2: transporte del personal | E2: =+G9 -> 156000 | F2: =+H9 -> 44571.429
C3: TOTAL | E3: =SUM(E2:E2) -> 156000 | F3: =SUM(F2:F2) -> 44571.429
B6: Transporte de personal | C6: Cantidad | D6: Unidad | E6: MESES | F6: COSTO S/. | G6: TOTAL SOLES | H6: TOTAL USD
B7: Alquiler Camioneta 4x4 (*) | C7: 1 | D7: Unid | E7: 12 | F7: 13000 | G7: =+C7*E7*F7 -> 156000 | H7: =+G7/3.5 -> 44571.429
B8: Bus Transporte Personal (*) | C8: 0 | D8: Coaster | E8: 1 | F8: 18000 | G8: =+C8*E8*F8 -> 0 | H8: =+G8/3.5 -> 0
F9: TOTAL | G9: =SUM(G7:G8) -> 156000 | H9: =SUM(H7:H8) -> 44571.429
B11: (*) Incluye conductores,seguros, EPP,viaticos,combustible )

Sheet Viaticos-Alojam. 
B3: ALIMENTACION, HOSPEDAJE Y PASAJES AEREOS | C3: Soles | D3: USD
B4: PERSONAL DE GESTION | C4: =+H21 -> 86400 | D4: =+I21 -> 27172.514
B5: TOTAL | C5: =SUM(C4:C4) -> 86400 | D5: =SUM(D4:D4) -> 27172.514
B8: PERSONAL DE GESTION | C8: Cantidad | D8: MESES | E8: Costo por mes | G8: Costo mensual S/. | H8: COSTO TOTAL PROYECTO SOLES | I8: COSTO TOTAL PROYECTO USD
E9: Alimentación | F9: Hospedaje | G9: Pasaje Aéreo ida y vuelta
B11: Director de Proyecto de evaluacion | C11: 1 | D11: 12 | E11: 1800 | F11: 1800 | G11: 0 | H11: =(E11+F11+G11)*D11*C11 -> 43200 | I11: =H11/3.5 -> 12342.857
B12: Arqueologo residente | C12: 1 | D12: 12 | E12: 1800 | F12: 1800 | G12: 0 | H12: =(E12+F12+G12)*D12*C12 -> 43200 | I12: =H12/3.5 -> 12342.857
B13: Arqlos de Campo | C13: 0 | D13: 1 | E13: 1500 | F13: 1500 | G13: 0 | H13: =(E13+F13+G13)*D13*C13 -> 0 | I13: =H13/3.5 -> 0
B14: Arqlo de gabinete | C14: 1 | D14: 0 | E14: 1500 | F14: 1500 | G14: 0 | H14: =(E14+F14+G14)*D14*C14 -> 0 | I14: 1242.9
B15: Conductor | C15: 0 | D15: 12 | E15: 1500 | F15: 1500 | G15: 0 | H15: =(E15+F15+G15)*D15*C15 -> 0 | I15: 1243.9
B16: Arqueologo analista: ceramica, litico | C16: 0 | D16: 1 | E16: 1500 | F16: 1500 | G16: 0 | H16: 0 | I16: =H16/3.5 -> 0
B17: Supervisor de seguridad | C17: 0 | D17: 0 | E17: 1500 | F17: 1500 | G17: 0 | H17: =(E17+F17+G17)*D17*C17 -> 0 | I17: =H17/3.5 -> 0
B18: Enfermera | C18: 0 | D18: 1 | E18: 900 | H18: =(E18+F18+G18)*D18*C18 -> 0 | I18: =H18/3.5 -> 0
B19: obrero(agua y refrigerio) | C19: 0 | D19: 1 | E19: 300 | H19: =(E19+F19+G19)*D19*C19 -> 0 | I19: =H19/3.5 -> 0
C20: =SUM(C11:C19) -> 3
H21: =SUM(H11:H19) -> 86400 | I21: =SUM(I11:I19) -> 27172.514

Sheet Equipos y materiales
B3: EQUIPOS Y MATERIALES | D3: S/ | E3: US $
B4: MATERIALES DE REGISTRO | D4: =F46 -> 2007.63 | E4: =G46 -> 573.60857
B5: MATERIALES DE CONSERVACION | D5: =F53 -> 0 | E5: =G53 -> 0
B6: EQUIPOS INFORMATICOS | D6: =F62 -> 18400 | E6: =G62 -> 5257.1429 | I6: =D4+D7 -> 10094.878
B7: HERRAMIENTAS | D7: =F105 -> 8087.248 | E7: =G105 -> 2310.6423
B8: TOTAL | D8: =SUM(D4:D7) -> 28494.878 | E8: =SUM(E4:E7) -> 8141.3937
A10: Descripción Insumo | B10: Unidad | C10: Cantidad | D10: Precio x Unidad | E10: Costo | F10: COSTO TOTAL PROYECTO S/. | G10: COSTO TOTAL PROYECTO US $
A11: MATERIALES DE REGISTRO ARQUEOLOGICO
A12: Cuaderno cuadriculado de 100 hojas | B12: UND | C12: 2 | D12: 4 | E12: =+C12*D12 -> 8 | F12: =+E12*3 -> 24 | G12: =+F12/3.5 -> 6.8571429
A13: Papel Milimetrado Minerva A4 de 80g | B13: BLOCK | C13: 2 | D13: 4 | E13: =+C13*D13 -> 8 | F13: =+E13*3 -> 24 | G13: =+F13/3.5 -> 6.8571429
A14: Papel aluminio | B14: UND | C14: 2 | D14: 7 | E14: =+C14*D14 -> 14 | F14: =+E14*3 -> 42 | G14: =+F14/3.5 -> 12
A15: Lapiceros | B15: CAJA | C15: 2 | D15: 30 | E15: =+C15*D15 -> 60 | F15: =+E15*3 -> 180 | G15: =+F15/3.5 -> 51.428571
A16: Masking Tape de 1 pulg. | B16: UND | C16: 2 | D16: 2 | E16: =+C16*D16 -> 4 | F16: =+E16*3 -> 12 | G16: =+F16/3.5 -> 3.4285714
A17: Masking Tape de 1/2 pulg. | B17: UND | C17: 2 | D17: 1.2 | E17: =+C17*D17 -> 2.4 | F17: =+E17*3 -> 7.2 | G17: =+F17/3.5 -> 2.0571429
A18: Cinta de embalaje | B18: UND | C18: 2 | D18: 6 | E18: =+C18*D18 -> 12 | F18: =+E18*3 -> 36 | G18: =+F18/3.5 -> 10.285714
A19: Portaminas 0.5 mm | B19: UND | C19: 2 | D19: 5 | E19: =+C19*D19 -> 10 | F19: =+E19*3 -> 30 | G19: =+F19/3.5 -> 8.5714286
A20: Minas 0.5 mm HB | B20: CAJA | C20: 2 | D20: 8 | E20: =+C20*D20 -> 16 | F20: =+E20*3 -> 48 | G20: =+F20/3.5 -> 13.714286
A21: Plumon permanente punta fina - negro | B21: UND | C21: 2 | D21: 2.5 | E21: =+C21*D21 -> 5 | F21: =+E21*3 -> 15 | G21: =+F21/3.5 -> 4.2857143
A22: Marcador permanente punta gruesa - negro | B22: UND | C22: 2 | D22: 3 | E22: =+C22*D22 -> 6 | F22: =+E22*3 -> 18 | G22: =+F22/3.5 -> 5.1428571
A23: Plumon recargable para pizarra acrilica color negro | B23: UND | C23: 2 | D23: 3 | E23: =+C23*D23 -> 6 | F23: =+E23*3 -> 18 | G23: =+F23/3.5 -> 5.1428571
... A45: Bombin N° 10 | B45: UND | C45: 2 | D45: 15 | E45: =+C45*D45 -> 30 | F45: =+E45*3 -> 90 | G45: =+F45/3.5 -> 25.714286
F46: =SUM(F12:F45) -> 2007.63 | G46: =SUM(G12:G45) -> 573.60857
A49: Descripción Insumo | B49: Unidad | C49: Cantidad | D49: Precio | E49: Costo | F49: COSTO TOTAL PROYECTO S/. | G49: COSTO TOTAL PROYECTO US $
A50: MATERIALES DE CONSERVACION
A51: Set de restauracion de piezas exhumadas | B51: SET | C51: 0 | D51: 1500 | E51: =+C51*D51 -> 0 | F51: =+E51*1 -> 0 | G51: =+F51/3.5 -> 0
A52: Kit de analisis de material Cerámico | B52: UND | C52: 0 | D52: 240 | E52: =+C52*D52 -> 0 | F52: =+E52*1 -> 0 | G52: =+F52/3.5 -> 0
F53: =SUM(F51:F52) -> 0 | G53: =SUM(G51:G52) -> 0
A55: Descripción Insumo | B55: Unidad | C55: Cantidad | D55: Precio | E55: Costo | F55: COSTO TOTAL PROYECTO S/. | G55: COSTO TOTAL PROYECTO US $
A56: EQUIPOS INFORMÁTICOS
A57: Laptop | B57: SET | C57: 2 | D57: 2000 | E57: =+C57*D57 -> 4000 | F57: =+E57*4 -> 16000 | G57: =+F57/3.5 -> 4571.4286
A58: GPS | B58: UND | C58: 2 | D58: 300 | E58: =+C58*D58 -> 600 | F58: =+E58*4 -> 2400 | G58: =+F58/3.5 -> 685.71429
A59: Impresora | B59: UN. | C59: 1 | D59: 2800 | E59: 2800 | F59: =+E59*1 -> 2800
A60: Cámara fotográfica | B60: UN. | C60: 2 | D60: 300 | E60: =+C60*D60 -> 600 | F60: =+E60*4 -> 2400
A61: Drone modelo: 601 S -1080 P GPS/Glonass cámara 4K HD | B61: UN. | C61: 1 | D61: 3800 | E61: =+C61*D61 -> 3800 | F61: =+E61*3 -> 11400
F62: =SUM(F57:F58) -> 18400 | G62: =SUM(G57:G58) -> 5257.1429
A65: Descripción Insumo | B65: Unidad | C65: Cantidad | D65: Precio | E65: Costo | F65: COSTO TOTAL PROYECTO S/. | G65: COSTO TOTAL PROYECTO US $
A66: HERRAMIENTAS MANUALES
A67: Brochas Tumi de 5" | B67: UND | C67: 2 | D67: 30 | E67: =+C67*D67 -> 60 | F67: =+E67*2 -> 120 | G67: =+F67/3.5 -> 34.285714
A68: Brochas Tumi de 4" | B68: UND | C68: 2 | D68: 24 | E68: =+C68*D68 -> 48 | F68: =+E68*2 -> 96 | G68: =+F68/3.5 -> 27.428571
A69: Brochas Tumi de 3" | B69: UND | C69: 2 | D69: 18 | E69: =+C69*D69 -> 36 | F69: =+E69*2 -> 72 | G69: =+F69/3.5 -> 20.571429
...

Sheet Otros gastos
B1: BIENES Y SERVICIOS | D1: Soles | E1: USD
B2: BIENES Y SERVICIOS | D2: =+F18 -> 11003.8 | E2: =+G18 -> 3143.9429
B3: TOTAL | D3: =SUM(D2:D2) -> 11003.8 | E3: =SUM(E2:E2) -> 3143.9429
A6: Otros gastos | B6: Cantidad | C6: Unidad | D6: MESES | E6: COSTO S/. | F6: TOTAL SOLES | G6: TOTAL USD
A7: Ploteos, impresiones, Copias Planos Cartográficos, Topográficos y Planimétricos. | B7: 10 | C7: informes periodicos | D7: 1 | E7: 800 | F7: =+B7*D7*E7 -> 8000 | G7: =+F7/3.5 -> 2285.7143
A8: ALQUILERES
A9: Baños quimicos portátiles | B9: 0 | C9: Unid | D9: 1 | E9: 1500 | F9: =+B9*D9*E9 -> 0 | G9: =+F9/3.5 -> 0
A10: Manejo de residuos sólidos (EPS) | B10: 0 | D10: 1 | E10: 1650 | F10: =+B10*D10*E10 -> 0 | G10: =+F10/3.5 -> 0
A11: Depósito en campo de herramientas y equipos | B11: 0 | C11: Unid | D11: 3 | E11: 1600 | F11: =+B11*D11*E11 -> 0 | G11: =+F11/3.5 -> 0
A13: PAGOS MC
A14: Por presentacion de PMA | B14: 1 | C14: Unid | D14: 1 | E14: 1932.6 | F14: =+B14*D14*E14 -> 1932.6 | G14: =+F14/3.5 -> 552.17143 | H14: Asumidos por la empresa
A15: Por Informe final | B15: 1 | C15: Unid | D15: 1 | E15: 1071.2 | F15: =+B15*D15*E15 -> 1071.2 | G15: =+F15/3.5 -> 306.05714 | H15: Asumidos por la empresa
E18: TOTAL | F18: =SUM(F7:F16) -> 11003.8 | G18: =SUM(G7:G16) -> 3143.9429

Sheet Hoja9
