Workbook
Name FECHAPPT: [40]Consideraciones!$D$40
Name Lista_Insumos: [40]Insumos!$B$8:$G$222
Name Listado_SP: '[40]Listado SubPartidas'!$A$87:$K$207
Name NOMBRE_P: [40]Consideraciones!$D$41
Name P: [40]Insumos!$F$24
Name Presupuesto: #REF!
Name Tabla_Combustible: [40]Combustible!$B$10:$F$24
Name TC: [40]Consideraciones!$F$10
Name tit_ab: Comparativo!#REF!
Name tit_codigo_recurso: Comparativo!$B$3
Name tit_coste_em: Comparativo!$J$3
Name tit_descripcion: Comparativo!$C$3
Name tit_medicion: Comparativo!$E$3
Name tit_om: Comparativo!#REF!
Name tit_pb: Comparativo!#REF!
Name tit_punit_cem: Comparativo!$J$8
Name tit_punit_om: Comparativo!#REF!
Name tit_punit_p: Comparativo!$T$8
Name tit_tasa: Comparativo!#REF!
Name tit_tcv: Comparativo!#REF!
Name tit_total_om: Comparativo!#REF!
Name tit_total_p: Comparativo!$U$8
Name tit_tov: Comparativo!$B$280
Name tit_tsv: Comparativo!#REF!
Name tit_UM: Comparativo!$D$3

Sheet Comparativo
B1: SUBPROYECTO A3 - R00
AQ2: PROVEEDOR ELEGIDO
B3: CÓDIGO | C3: DESCRIPCIÓN | D3: U.M. | E3: MEDICION | F3: PRESUPUESTADO S/ | J3: METRADO POR PROVEEDOR | T3: CONSORCIO CHAQUICOCHA S.R.L. | AN3: PRECIOS MÍNIMOS | AQ3: =IF(AN282="","",IF(AN282=T282,T3,IF(AN282=V282,V3,IF(AN282=X282,X3,IF(AN282=Z282,Z3,IF(AN282=AB282,AB3,IF(AN282=AD282,AD3,IF(AN282=AF282,AF3,IF(AN282=AH282,AH3,IF(AN282=AJ282,AJ3,IF(AN282=AL282,AL3,IF(AN282=AL282,AL3)))))))))))) -> CONSORCIO CHAQUICOCHA S.R.L. | AT3: OBSERVACIONES
F4: U.M. | G4: MEDICION | H4: P. UNIT | I4: TOTAL | T4: Nombre Contacto | V4: Nombre Contacto | X4: Nombre Contacto | Z4: Nombre Contacto | AB4: Nombre Contacto | AD4: Nombre Contacto | AF4: Nombre Contacto | AH4: Nombre Contacto | AJ4: Nombre Contacto | AL4: Nombre Contacto | AQ4: Nombre Contacto | AR4: =IF($AQ$3=$T$3,U4,IF($AQ$3=$V$3,W4,IF($AQ$3=$X$3,Y4,IF($AQ$3=$Z$3,AA4,IF($AQ$3=$AB$3,AC4,IF($AQ$3=$AD$3,AE4,IF($AQ$3=$AF$3,AG4,IF($AQ$3=$AH$3,AI4,IF($AQ$3=$AJ$3,AK4,IF($AQ$3=$AL$3,AM4,"")))))))))) -> 0
T5: Teléfono | V5: Teléfono | X5: Teléfono | Z5: Teléfono | AB5: Teléfono | AD5: Teléfono | AF5: Teléfono | AH5: Teléfono | AJ5: Teléfono | AL5: Teléfono | AQ5: Contacto Telefono | AR5: =IF($AQ$3=$T$3,U5,IF($AQ$3=$V$3,W5,IF($AQ$3=$X$3,Y5,IF($AQ$3=$Z$3,AA5,IF($AQ$3=$AB$3,AC5,IF($AQ$3=$AD$3,AE5,IF($AQ$3=$AF$3,AG5,IF($AQ$3=$AH$3,AI5,IF($AQ$3=$AJ$3,AK5,IF($AQ$3=$AL$3,AM5,"")))))))))) -> 0
T6: mail | V6: mail | X6: mail | Z6: mail | AB6: mail | AD6: mail | AF6: mail | AH6: mail | AJ6: mail | AL6: mail | AQ6: mail | AR6: =IF($AQ$3=$T$3,U6,IF($AQ$3=$V$3,W6,IF($AQ$3=$X$3,Y6,IF($AQ$3=$Z$3,AA6,IF($AQ$3=$AB$3,AC6,IF($AQ$3=$AD$3,AE6,IF($AQ$3=$AF$3,AG6,IF($AQ$3=$AH$3,AI6,IF($AQ$3=$AJ$3,AK6,IF($AQ$3=$AL$3,AM6,"")))))))))) -> 0
T7: Fecha Oferta | U7: 45201 | V7: Fecha Oferta | W7: 45201 | X7: Fecha Oferta | Y7: 45201 | Z7: Fecha Oferta | AB7: Fecha Oferta | AD7: Fecha Oferta | AF7: Fecha Oferta | AH7: Fecha Oferta | AJ7: Fecha Oferta | AL7: Fecha Oferta | AQ7: Fecha Oferta | AR7: =IF($AQ$3=$T$3,U7,IF($AQ$3=$V$3,W7,IF($AQ$3=$X$3,Y7,IF($AQ$3=$Z$3,AA7,IF($AQ$3=$AB$3,AC7,IF($AQ$3=$AD$3,AE7,IF($AQ$3=$AF$3,AG7,IF($AQ$3=$AH$3,AI7,IF($AQ$3=$AJ$3,AK7,IF($AQ$3=$AL$3,AM7,"")))))))))) -> 45201
J8: =+T3 -> CONSORCIO CHAQUICOCHA S.R.L. | K8: =+V3 -> 0 | L8: =+X3 -> 0 | M8: =+Z3 -> 0 | N8: =+AB3 -> 0 | O8: =+AD3 -> 0 | P8: =+AF3 -> 0 | Q8: =+AH3 -> 0 | R8: =+AJ3 -> 0 | S8: =+AL3 -> 0 | T8: P. UNIT | U8: TOTAL | V8: P. UNIT | W8: TOTAL | X8: P. UNIT | Y8: TOTAL | Z8: P. UNIT | AA8: TOTAL | AB8: P. UNIT | AC8: TOTAL | AD8: P. UNIT | AE8: TOTAL | AF8: P. UNIT | AG8: TOTAL | AH8: P. UNIT | AI8: TOTAL | AJ8: P. UNIT | AK8: TOTAL | AL8: P. UNIT | AM8: TOTAL | AN8: P.UNIT | AO8: TOTAL | AP8: PROVEEDOR | AQ8: P. UNIT. | AR8: TOTAL
C9: =+B1 -> SUBPROYECTO A3 - R00
B10: 1 | C10: DEFENSAS RIBEREÑAS | I10: =IF(H10="","",+H10*G10) | U10: =IF(J10="",IF(T10="","",E10*T10),J10*T10) | W10: =IF(K10="",IF(V10="","",E10*V10),K10*V10) | Y10: =IF(L10="",IF(X10="","",E10*X10),L10*X10) | AA10: =IF(M10="",IF(Z10="","",E10*Z10),M10*Z10) | AC10: =IF(N10="",IF(AB10="","",E10*AB10),N10*AB10) | AE10: =IF(O10="",IF(AD10="","",E10*AD10),O10*AD10) | AG10: =IF(P10="",IF(AF10="","",E10*AF10),P10*AF10) | AI10: =IF(Q10="",IF(AH10="","",E10*AH10),Q10*AH10) | AK10: =IF(R10="",IF(AJ10="","",E10*AJ10),R10*AJ10) | AM10: =IF(S10="",IF(AL10="","",E10*AL10),S10*AL10) | AN10: =IF(AND(T10="",V10="",Z10="",AB10="",X10="",AD10="",AF10="",AH10="",AJ10="",AL10=""),"",MIN(T10,V10,Z10,AB10,X10,AD10,AF10,AH10,AJ10,AL10)) | AO10: =IF(AN10="","",IF(AP10=$T$3,IF(J10="",+AN10*E10,AN10*J10),IF(AP10=$V$3,IF(K10="",AN10*E10,AN10*K10),IF(AP10=$X$3,IF(L10="",AN10*E10,AN10*L10),IF(AP10=$Z$3,IF(M10="",AN10*E10,AN10*M10),IF(AP10=$AB$3,IF(N10="",AN10*E10,AN10*N10),IF(AP10=$AD$3,IF(O10="",AN10*E10,AN10*O10),IF(AP10=$AF$3,IF(P10="",AN10*E10,AN10*P10),IF(AP10=$AH$3,IF(Q10="",AN10*E10,AN10*Q10),IF(AP10=$AJ$3,IF(R10="",AN10*E10,AN10*R10),IF(AP10=$AL$3,IF(S10="",AN10*E10,AN10*S10),""))))))))))) | AP10: =IF(AN10="","",IF(AN10=T10,$T$3,IF(AN10=V10,$V$3,IF(AN10=X10,$X$3,IF(AN10=Z10,$Z$3,IF(AN10=AB10,$AB$3,IF(AN10=AD10,$AD$3,IF(AN10=AF10,$AF$3,IF(AN10=AH10,$AH$3,IF(AN10=AJ10,$AJ$3,IF(AN10=AL10,$AL$3,"")))))))))))
B11: 1.1 | C11: OBRAS PRELIMINARES | I11: =IF(H11="","",+H11*G11) | U11: =IF(J11="",IF(T11="","",E11*T11),J11*T11) | W11: =IF(K11="",IF(V11="","",E11*V11),K11*V11) | Y11: =IF(L11="",IF(X11="","",E11*X11),L11*X11) | AA11: =IF(M11="",IF(Z11="","",E11*Z11),M11*Z11) | AC11: =IF(N11="",IF(AB11="","",E11*AB11),N11*AB11) | AE11: =IF(O11="",IF(AD11="","",E11*AD11),O11*AD11) | AG11: =IF(P11="",IF(AF11="","",E11*AF11),P11*AF11) | AI11: =IF(Q11="",IF(AH11="","",E11*AH11),Q11*AH11) | AK11: =IF(R11="",IF(AJ11="","",E11*AJ11),R11*AJ11) | AM11: =IF(S11="",IF(AL11="","",E11*AL11),S11*AL11) | AN11: =IF(AND(T11="",V11="",Z11="",AB11="",X11="",AD11="",AF11="",AH11="",AJ11="",AL11=""),"",MIN(T11,V11,Z11,AB11,X11,AD11,AF11,AH11,AJ11,AL11)) | AO11: =IF(AN11="","",IF(AP11=$T$3,IF(J11="",+AN11*E11,AN11*J11),IF(AP11=$V$3,IF(K11="",AN11*E11,AN11*K11),IF(AP11=$X$3,IF(L11="",AN11*E11,AN11*L11),IF(AP11=$Z$3,IF(M11="",AN11*E11,AN11*M11),IF(AP11=$AB$3,IF(N11="",AN11*E11,AN11*N11),IF(AP11=$AD$3,IF(O11="",AN11*E11,AN11*O11),IF(AP11=$AF$3,IF(P11="",AN11*E11,AN11*P11),IF(AP11=$AH$3,IF(Q11="",AN11*E11,AN11*Q11),IF(AP11=$AJ$3,IF(R11="",AN11*E11,AN11*R11),IF(AP11=$AL$3,IF(S11="",AN11*E11,AN11*S11),""))))))))))) | AP11: =IF(AN11="","",IF(AN11=T11,$T$3,IF(AN11=V11,$V$3,IF(AN11=X11,$X$3,IF(AN11=Z11,$Z$3,IF(AN11=AB11,$AB$3,IF(AN11=AD11,$AD$3,IF(AN11=AF11,$AF$3,IF(AN11=AH11,$AH$3,IF(AN11=AJ11,$AJ$3,IF(AN11=AL11,$AL$3,"")))))))))))
B12: 1.1.1 | C12: CARTEL DE IDENTIFICACIÓN OBRA 4.80 x 3.60 m. | D12: und | E12: 1 | I12: =IF(H12="","",+H12*G12) | K12: 1 | T12: 1834.78 | U12: 1834.78 | W12: =IF(K12="",IF(V12="","",E12*V12),K12*V12) -> 0 | Y12: =IF(L12="",IF(X12="","",E12*X12),L12*X12) | AA12: =IF(M12="",IF(Z12="","",E12*Z12),M12*Z12) | AC12: =IF(N12="",IF(AB12="","",E12*AB12),N12*AB12) | AE12: =IF(O12="",IF(AD12="","",E12*AD12),O12*AD12) | AG12: =IF(P12="",IF(AF12="","",E12*AF12),P12*AF12) | AI12: =IF(Q12="",IF(AH12="","",E12*AH12),Q12*AH12) | AK12: =IF(R12="",IF(AJ12="","",E12*AJ12),R12*AJ12) | AM12: =IF(S12="",IF(AL12="","",E12*AL12),S12*AL12) | AN12: =IF(AND(T12="",V12="",Z12="",AB12="",X12="",AD12="",AF12="",AH12="",AJ12="",AL12=""),"",MIN(T12,V12,Z12,AB12,X12,AD12,AF12,AH12,AJ12,AL12)) -> 1834.78 | AO12: =IF(AN12="","",IF(AP12=$T$3,IF(J12="",+AN12*E12,AN12*J12),IF(AP12=$V$3,IF(K12="",AN12*E12,AN12*K12),IF(AP12=$X$3,IF(L12="",AN12*E12,AN12*L12),IF(AP12=$Z$3,IF(M12="",AN12*E12,AN12*M12),IF(AP12=$AB$3,IF(N12="",AN12*E12,AN12*N12),IF(AP12=$AD$3,IF(O12="",AN12*E12,AN12*O12),IF(AP12=$AF$3,IF(P12="",AN12*E12,AN12*P12),IF(AP12=$AH$3,IF(Q12="",AN12*E12,AN12*Q12),IF(AP12=$AJ$3,IF(R12="",AN12*E12,AN12*R12),IF(AP12=$AL$3,IF(S12="",AN12*E12,AN12*S12),""))))))))))) -> 1834.78 | AP12: =IF(AN12="","",IF(AN12=T12,$T$3,IF(AN12=V12,$V$3,IF(AN12=X12,$X$3,IF(AN12=Z12,$Z$3,IF(AN12=AB12,$AB$3,IF(AN12=AD12,$AD$3,IF(AN12=AF12,$AF$3,IF(AN12=AH12,$AH$3,IF(AN12=AJ12,$AJ$3,IF(AN12=AL12,$AL$3,""))))))))))) -> CONSORCIO CHAQUICOCHA S.R.L. | AQ12: =IF($AQ$3="","",IF($AQ$3=$T$3,T12,IF($AQ$3=$V$3,V12,IF($AQ$3=$X$3,X12,IF($AQ$3=$Z$3,Z12,IF($AQ$3=$AB$3,AB12,IF($AQ$3=$AD$3,AD12,IF($AQ$3=$AF$3,AF12,IF($AQ$3=$AH$3,AH12,IF($AQ$3=$AJ$3,AJ12,IF($AQ$3=$AL$3,AL12,""))))))))))) -> 1834.78 | AR12: =IF(AQ12="","",IF($AQ$3=$T$3,IF(J12="",AQ12*E12,AQ12*J12),IF($AQ$3=$V$3,IF(K12="",AQ12*E12,AQ12*K12),IF($AQ$3=$X$3,IF(L12="",AQ12*E12,AQ12*L12),IF($AQ$3=$Z$3,IF(M12="",AQ12*E12,AQ12*M12),IF($AQ$3=$AB$3,IF(N12="",AQ12*E12,AQ12*N12),IF($AQ$3=$AD$3,IF(O12="",AQ12*E12,AQ12*O12),IF($AQ$3=$AF$3,IF(P12="",AQ12*E12,AQ12*P12),IF($AQ$3=$AH$3,IF(Q12="",AQ12*E12,AQ12*Q12),IF($AQ$3=$AJ$3,IF(R12="",AQ12*E12,AQ12*R12),IF($AQ$3=$AL$3,IF(S12="",AQ12*E12,AQ12*S12),""))))))))))) -> 1834.78 | AT12: Retirar esta Partida
B13: 1.1.2 | C13: INSTALACIONES PROVISIONALES PARA LA OBRA | D13: glb | E13: 1 | I13: =IF(H13="","",+H13*G13) | K13: 1 | T13: 347149.67 | U13: 347149.67 | W13: =IF(K13="",IF(V13="","",E13*V13),K13*V13) -> 0 | Y13: =IF(L13="",IF(X13="","",E13*X13),L13*X13) | AA13: =IF(M13="",IF(Z13="","",E13*Z13),M13*Z13) | AC13: =IF(N13="",IF(AB13="","",E13*AB13),N13*AB13) | AE13: =IF(O13="",IF(AD13="","",E13*AD13),O13*AD13) | AG13: =IF(P13="",IF(AF13="","",E13*AF13),P13*AF13) | AI13: =IF(Q13="",IF(AH13="","",E13*AH13),Q13*AH13) | AK13: =IF(R13="",IF(AJ13="","",E13*AJ13),R13*AJ13) | AM13: =IF(S13="",IF(AL13="","",E13*AL13),S13*AL13) | AN13: =IF(AND(T13="",V13="",Z13="",AB13="",X13="",AD13="",AF13="",AH13="",AJ13="",AL13=""),"",MIN(T13,V13,Z13,AB13,X13,AD13,AF13,AH13,AJ13,AL13)) -> 347149.67 | AO13: =IF(AN13="","",IF(AP13=$T$3,IF(J13="",+AN13*E13,AN13*J13),IF(AP13=$V$3,IF(K13="",AN13*E13,AN13*K13),IF(AP13=$X$3,IF(L13="",AN13*E13,AN13*L13),IF(AP13=$Z$3,IF(M13="",AN13*E13,AN13*M13),IF(AP13=$AB$3,IF(N13="",AN13*E13,AN13*N13),IF(AP13=$AD$3,IF(O13="",AN13*E13,AN13*O13),IF(AP13=$AF$3,IF(P13="",AN13*E13,AN13*P13),IF(AP13=$AH$3,IF(Q13="",AN13*E13,AN13*Q13),IF(AP13=$AJ$3,IF(R13="",AN13*E13,AN13*R13),IF(AP13=$AL$3,IF(S13="",AN13*E13,AN13*S13),""))))))))))) -> 347149.67 | AP13: =IF(AN13="","",IF(AN13=T13,$T$3,IF(AN13=V13,$V$3,IF(AN13=X13,$X$3,IF(AN13=Z13,$Z$3,IF(AN13=AB13,$AB$3,IF(AN13=AD13,$AD$3,IF(AN13=AF13,$AF$3,IF(AN13=AH13,$AH$3,IF(AN13=AJ13,$AJ$3,IF(AN13=AL13,$AL$3,""))))))))))) -> CONSORCIO CHAQUICOCHA S.R.L. | AQ13: =IF($AQ$3="","",IF($AQ$3=$T$3,T13,IF($AQ$3=$V$3,V13,IF($AQ$3=$X$3,X13,IF($AQ$3=$Z$3,Z13,IF($AQ$3=$AB$3,AB13,IF($AQ$3=$AD$3,AD13,IF($AQ$3=$AF$3,AF13,IF($AQ$3=$AH$3,AH13,IF($AQ$3=$AJ$3,AJ13,IF($AQ$3=$AL$3,AL13,""))))))))))) -> 347149.67 | AR13: =IF(AQ13="","",IF($AQ$3=$T$3,IF(J13="",AQ13*E13,AQ13*J13),IF($AQ$3=$V$3,IF(K13="",AQ13*E13,AQ13*K13),IF($AQ$3=$X$3,IF(L13="",AQ13*E13,AQ13*L13),IF($AQ$3=$Z$3,IF(M13="",AQ13*E13,AQ13*M13),IF($AQ$3=$AB$3,IF(N13="",AQ13*E13,AQ13*N13),IF($AQ$3=$AD$3,IF(O13="",AQ13*E13,AQ13*O13),IF($AQ$3=$AF$3,IF(P13="",AQ13*E13,AQ13*P13),IF($AQ$3=$AH$3,IF(Q13="",AQ13*E13,AQ13*Q13),IF($AQ$3=$AJ$3,IF(R13="",AQ13*E13,AQ13*R13),IF($AQ$3=$AL$3,IF(S13="",AQ13*E13,AQ13*S13),""))))))))))) -> 347149.67
B14: 1.1.3 | C14: MANTENIMIENTO DE TRÁNSITO Y SEGURIDAD VIAL | D14: mes | E14: 6.7 | I14: =IF(H14="","",+H14*G14) | K14: 6 | T14: 132765.2 | U14: 889526.84 | W14: =IF(K14="",IF(V14="","",E14*V14),K14*V14) -> 0 | Y14: =IF(L14="",IF(X14="","",E14*X14),L14*X14) | AA14: =IF(M14="",IF(Z14="","",E14*Z14),M14*Z14) | AC14: =IF(N14="",IF(AB14="","",E14*AB14),N14*AB14) | AE14: =IF(O14="",IF(AD14="","",E14*AD14),O14*AD14) | AG14: =IF(P14="",IF(AF14="","",E14*AF14),P14*AF14) | AI14: =IF(Q14="",IF(AH14="","",E14*AH14),Q14*AH14) | AK14: =IF(R14="",IF(AJ14="","",E14*AJ14),R14*AJ14) | AM14: =IF(S14="",IF(AL14="","",E14*AL14),S14*AL14) | AN14: =IF(AND(T14="",V14="",Z14="",AB14="",X14="",AD14="",AF14="",AH14="",AJ14="",AL14=""),"",MIN(T14,V14,Z14,AB14,X14,AD14,AF14,AH14,AJ14,AL14)) -> 132765.2 | AO14: =IF(AN14="","",IF(AP14=$T$3,IF(J14="",+AN14*E14,AN14*J14),IF(AP14=$V$3,IF(K14="",AN14*E14,AN14*K14),IF(AP14=$X$3,IF(L14="",AN14*E14,AN14*L14),IF(AP14=$Z$3,IF(M14="",AN14*E14,AN14*M14),IF(AP14=$AB$3,IF(N14="",AN14*E14,AN14*N14),IF(AP14=$AD$3,IF(O14="",AN14*E14,AN14*O14),IF(AP14=$AF$3,IF(P14="",AN14*E14,AN14*P14),IF(AP14=$AH$3,IF(Q14="",AN14*E14,AN14*Q14),IF(AP14=$AJ$3,IF(R14="",AN14*E14,AN14*R14),IF(AP14=$AL$3,IF(S14="",AN14*E14,AN14*S14),""))))))))))) -> 889526.84 | AP14: =IF(AN14="","",IF(AN14=T14,$T$3,IF(AN14=V14,$V$3,IF(AN14=X14,$X$3,IF(AN14=Z14,$Z$3,IF(AN14=AB14,$AB$3,IF(AN14=AD14,$AD$3,IF(AN14=AF14,$AF$3,IF(AN14=AH14,$AH$3,IF(AN14=AJ14,$AJ$3,IF(AN14=AL14,$AL$3,""))))))))))) -> CONSORCIO CHAQUICOCHA S.R.L. | AQ14: =IF($AQ$3="","",IF($AQ$3=$T$3,T14,IF($AQ$3=$V$3,V14,IF($AQ$3=$X$3,X14,IF($AQ$3=$Z$3,Z14,IF($AQ$3=$AB$3,AB14,IF($AQ$3=$AD$3,AD14,IF($AQ$3=$AF$3,AF14,IF($AQ$3=$AH$3,AH14,IF($AQ$3=$AJ$3,AJ14,IF($AQ$3=$AL$3,AL14,""))))))))))) -> 132765.2 | AR14: =IF(AQ14="","",IF($AQ$3=$T$3,IF(J14="",AQ14*E14,AQ14*J14),IF($AQ$3=$V$3,IF(K14="",AQ14*E14,AQ14*K14),IF($AQ$3=$X$3,IF(L14="",AQ14*E14,AQ14*L14),IF($AQ$3=$Z$3,IF(M14="",AQ14*E14,AQ14*M14),IF($AQ$3=$AB$3,IF(N14="",AQ14*E14,AQ14*N14),IF($AQ$3=$AD$3,IF(O14="",AQ14*E14,AQ14*O14),IF($AQ$3=$AF$3,IF(P14="",AQ14*E14,AQ14*P14),IF($AQ$3=$AH$3,IF(Q14="",AQ14*E14,AQ14*Q14),IF($AQ$3=$AJ$3,IF(R14="",AQ14*E14,AQ14*R14),IF($AQ$3=$AL$3,IF(S14="",AQ14*E14,AQ14*S14),""))))))))))) -> 889526.84
B15: 1.2 | C15: TRABAJOS PRELIMINARES | I15: =IF(H15="","",+H15*G15) | W15: =IF(K15="",IF(V15="","",E15*V15),K15*V15) | Y15: =IF(L15="",IF(X15="","",E15*X15),L15*X15) | AA15: =IF(M15="",IF(Z15="","",E15*Z15),M15*Z15) | AC15: =IF(N15="",IF(AB15="","",E15*AB15),N15*AB15) | AE15: =IF(O15="",IF(AD15="","",E15*AD15),O15*AD15) | AG15: =IF(P15="",IF(AF15="","",E15*AF15),P15*AF15) | AI15: =IF(Q15="",IF(AH15="","",E15*AH15),Q15*AH15) | AK15: =IF(R15="",IF(AJ15="","",E15*AJ15),R15*AJ15) | AM15: =IF(S15="",IF(AL15="","",E15*AL15),S15*AL15) | AN15: =IF(AND(T15="",V15="",Z15="",AB15="",X15="",AD15="",AF15="",AH15="",AJ15="",AL15=""),"",MIN(T15,V15,Z15,AB15,X15,AD15,AF15,AH15,AJ15,AL15)) | AO15: =IF(AN15="","",IF(AP15=$T$3,IF(J15="",+AN15*E15,AN15*J15),IF(AP15=$V$3,IF(K15="",AN15*E15,AN15*K15),IF(AP15=$X$3,IF(L15="",AN15*E15,AN15*L15),IF(AP15=$Z$3,IF(M15="",AN15*E15,AN15*M15),IF(AP15=$AB$3,IF(N15="",AN15*E15,AN15*N15),IF(AP15=$AD$3,IF(O15="",AN15*E15,AN15*O15),IF(AP15=$AF$3,IF(P15="",AN15*E15,AN15*P15),IF(AP15=$AH$3,IF(Q15="",AN15*E15,AN15*Q15),IF(AP15=$AJ$3,IF(R15="",AN15*E15,AN15*R15),IF(AP15=$AL$3,IF(S15="",AN15*E15,AN15*S15),""))))))))))) | AP15: =IF(AN15="","",IF(AN15=T15,$T$3,IF(AN15=V15,$V$3,IF(AN15=X15,$X$3,IF(AN15=Z15,$Z$3,IF(AN15=AB15,$AB$3,IF(AN15=AD15,$AD$3,IF(AN15=AF15,$AF$3,IF(AN15=AH15,$AH$3,IF(AN15=AJ15,$AJ$3,IF(AN15=AL15,$AL$3,"")))))))))))
B16: 1.2.1 | C16: MOVILIZACION Y DESMOVILIZACION DE EQUIPOS | D16: glb | E16: 1 | I16: =IF(H16="","",+H16*G16) | K16: 1 | T16: 825600 | U16: 825600 | W16: =IF(K16="",IF(V16="","",E16*V16),K16*V16) -> 0 | Y16: =IF(L16="",IF(X16="","",E16*X16),L16*X16) | AA16: =IF(M16="",IF(Z16="","",E16*Z16),M16*Z16) | AC16: =IF(N16="",IF(AB16="","",E16*AB16),N16*AB16) | AE16: =IF(O16="",IF(AD16="","",E16*AD16),O16*AD16) | AG16: =IF(P16="",IF(AF16="","",E16*AF16),P16*AF16) | AI16: =IF(Q16="",IF(AH16="","",E16*AH16),Q16*AH16) | AK16: =IF(R16="",IF(AJ16="","",E16*AJ16),R16*AJ16) | AM16: =IF(S16="",IF(AL16="","",E16*AL16),S16*AL16) | AN16: =IF(AND(T16="",V16="",Z16="",AB16="",X16="",AD16="",AF16="",AH16="",AJ16="",AL16=""),"",MIN(T16,V16,Z16,AB16,X16,AD16,AF16,AH16,AJ16,AL16)) -> 825600 | AO16: =IF(AN16="","",IF(AP16=$T$3,IF(J16="",+AN16*E16,AN16*J16),IF(AP16=$V$3,IF(K16="",AN16*E16,AN16*K16),IF(AP16=$X$3,IF(L16="",AN16*E16,AN16*L16),IF(AP16=$Z$3,IF(M16="",AN16*E16,AN16*M16),IF(AP16=$AB$3,IF(N16="",AN16*E16,AN16*N16),IF(AP16=$AD$3,IF(O16="",AN16*E16,AN16*O16),IF(AP16=$AF$3,IF(P16="",AN16*E16,AN16*P16),IF(AP16=$AH$3,IF(Q16="",AN16*E16,AN16*Q16),IF(AP16=$AJ$3,IF(R16="",AN16*E16,AN16*R16),IF(AP16=$AL$3,IF(S16="",AN16*E16,AN16*S16),""))))))))))) -> 825600 | AP16: =IF(AN16="","",IF(AN16=T16,$T$3,IF(AN16=V16,$V$3,IF(AN16=X16,$X$3,IF(AN16=Z16,$Z$3,IF(AN16=AB16,$AB$3,IF(AN16=AD16,$AD$3,IF(AN16=AF16,$AF$3,IF(AN16=AH16,$AH$3,IF(AN16=AJ16,$AJ$3,IF(AN16=AL16,$AL$3,""))))))))))) -> CONSORCIO CHAQUICOCHA S.R.L. | AQ16: =IF($AQ$3="","",IF($AQ$3=$T$3,T16,IF($AQ$3=$V$3,V16,IF($AQ$3=$X$3,X16,IF($AQ$3=$Z$3,Z16,IF($AQ$3=$AB$3,AB16,IF($AQ$3=$AD$3,AD16,IF($AQ$3=$AF$3,AF16,IF($AQ$3=$AH$3,AH16,IF($AQ$3=$AJ$3,AJ16,IF($AQ$3=$AL$3,AL16,""))))))))))) -> 825600 | AR16: =IF(AQ16="","",IF($AQ$3=$T$3,IF(J16="",AQ16*E16,AQ16*J16),IF($AQ$3=$V$3,IF(K16="",AQ16*E16,AQ16*K16),IF($AQ$3=$X$3,IF(L16="",AQ16*E16,AQ16*L16),IF($AQ$3=$Z$3,IF(M16="",AQ16*E16,AQ16*M16),IF($AQ$3=$AB$3,IF(N16="",AQ16*E16,AQ16*N16),IF($AQ$3=$AD$3,IF(O16="",AQ16*E16,AQ16*O16),IF($AQ$3=$AF$3,IF(P16="",AQ16*E16,AQ16*P16),IF($AQ$3=$AH$3,IF(Q16="",AQ16*E16,AQ16*Q16),IF($AQ$3=$AJ$3,IF(R16="",AQ16*E16,AQ16*R16),IF($AQ$3=$AL$3,IF(S16="",AQ16*E16,AQ16*S16),""))))))))))) -> 825600 | AT16: Evaluar la cantidad de equipos a movilizar y verificar posibilidad de optimización en el costo unitario
B17: 1.2.2 | C17: TOPOGRAFÍA Y GEOREFERENCIACIÓN | D17: mes | E17: 6.7 | I17: =IF(H17="","",+H17*G17) | K17: 6 | T17: 44120.09 | U17: 295604.6 | W17: =IF(K17="",IF(V17="","",E17*V17),K17*V17) -> 0 | Y17: =IF(L17="",IF(X17="","",E17*X17),L17*X17) | AA17: =IF(M17="",IF(Z17="","",E17*Z17),M17*Z17) | AC17: =IF(N17="",IF(AB17="","",E17*AB17),N17*AB17) | AE17: =IF(O17="",IF(AD17="","",E17*AD17),O17*AD17) | AG17: =IF(P17="",IF(AF17="","",E17*AF17),P17*AF17) | AI17: =IF(Q17="",IF(AH17="","",E17*AH17),Q17*AH17) | AK17: =IF(R17="",IF(AJ17="","",E17*AJ17),R17*AJ17) | AM17: =IF(S17="",IF(AL17="","",E17*AL17),S17*AL17) | AN17: =IF(AND(T17="",V17="",Z17="",AB17="",X17="",AD17="",AF17="",AH17="",AJ17="",AL17=""),"",MIN(T17,V17,Z17,AB17,X17,AD17,AF17,AH17,AJ17,AL17)) -> 44120.09 | AO17: =IF(AN17="","",IF(AP17=$T$3,IF(J17="",+AN17*E17,AN17*J17),IF(AP17=$V$3,IF(K17="",AN17*E17,AN17*K17),IF(AP17=$X$3,IF(L17="",AN17*E17,AN17*L17),IF(AP17=$Z$3,IF(M17="",AN17*E17,AN17*M17),IF(AP17=$AB$3,IF(N17="",AN17*E17,AN17*N17),IF(AP17=$AD$3,IF(O17="",AN17*E17,AN17*O17),IF(AP17=$AF$3,IF(P17="",AN17*E17,AN17*P17),IF(AP17=$AH$3,IF(Q17="",AN17*E17,AN17*Q17),IF(AP17=$AJ$3,IF(R17="",AN17*E17,AN17*R17),IF(AP17=$AL$3,IF(S17="",AN17*E17,AN17*S17),""))))))))))) -> 295604.6 | AP17: =IF(AN17="","",IF(AN17=T17,$T$3,IF(AN17=V17,$V$3,IF(AN17=X17,$X$3,IF(AN17=Z17,$Z$3,IF(AN17=AB17,$AB$3,IF(AN17=AD17,$AD$3,IF(AN17=AF17,$AF$3,IF(AN17=AH17,$AH$3,IF(AN17=AJ17,$AJ$3,IF(AN17=AL17,$AL$3,""))))))))))) -> CONSORCIO CHAQUICOCHA S.R.L. | AQ17: =IF($AQ$3="","",IF($AQ$3=$T$3,T17,IF($AQ$3=$V$3,V17,IF($AQ$3=$X$3,X17,IF($AQ$3=$Z$3,Z17,IF($AQ$3=$AB$3,AB17,IF($AQ$3=$AD$3,AD17,IF($AQ$3=$AF$3,AF17,IF($AQ$3=$AH$3,AH17,IF($AQ$3=$AJ$3,AJ17,IF($AQ$3=$AL$3,AL17,""))))))))))) -> 44120.09 | AR17: =IF(AQ17="","",IF($AQ$3=$T$3,IF(J17="",AQ17*E17,AQ17*J17),IF($AQ$3=$V$3,IF(K17="",AQ17*E17,AQ17*K17),IF($AQ$3=$X$3,IF(L17="",AQ17*E17,AQ17*L17),IF($AQ$3=$Z$3,IF(M17="",AQ17*E17,AQ17*M17),IF($AQ$3=$AB$3,IF(N17="",AQ17*E17,AQ17*N17),IF($AQ$3=$AD$3,IF(O17="",AQ17*E17,AQ17*O17),IF($AQ$3=$AF$3,IF(P17="",AQ17*E17,AQ17*P17),IF($AQ$3=$AH$3,IF(Q17="",AQ17*E17,AQ17*Q17),IF($AQ$3=$AJ$3,IF(R17="",AQ17*E17,AQ17*R17),IF($AQ$3=$AL$3,IF(S17="",AQ17*E17,AQ17*S17),""))))))))))) -> 295604.6
B18: 1.3 | C18: MEJORAMIENTO DE VÍAS EXISTENTES | I18: =IF(H18="","",+H18*G18) | W18: =IF(K18="",IF(V18="","",E18*V18),K18*V18) | Y18: =IF(L18="",IF(X18="","",E18*X18),L18*X18) | AA18: =IF(M18="",IF(Z18="","",E18*Z18),M18*Z18) | AC18: =IF(N18="",IF(AB18="","",E18*AB18),N18*AB18) | AE18: =IF(O18="",IF(AD18="","",E18*AD18),O18*AD18) | AG18: =IF(P18="",IF(AF18="","",E18*AF18),P18*AF18) | AI18: =IF(Q18="",IF(AH18="","",E18*AH18),Q18*AH18) | AK18: =IF(R18="",IF(AJ18="","",E18*AJ18),R18*AJ18) | AM18: =IF(S18="",IF(AL18="","",E18*AL18),S18*AL18) | AN18: =IF(AND(T18="",V18="",Z18="",AB18="",X18="",AD18="",AF18="",AH18="",AJ18="",AL18=""),"",MIN(T18,V18,Z18,AB18,X18,AD18,AF18,AH18,AJ18,AL18)) | AO18: =IF(AN18="","",IF(AP18=$T$3,IF(J18="",+AN18*E18,AN18*J18),IF(AP18=$V$3,IF(K18="",AN18*E18,AN18*K18),IF(AP18=$X$3,IF(L18="",AN18*E18,AN18*L18),IF(AP18=$Z$3,IF(M18="",AN18*E18,AN18*M18),IF(AP18=$AB$3,IF(N18="",AN18*E18,AN18*N18),IF(AP18=$AD$3,IF(O18="",AN18*E18,AN18*O18),IF(AP18=$AF$3,IF(P18="",AN18*E18,AN18*P18),IF(AP18=$AH$3,IF(Q18="",AN18*E18,AN18*Q18),IF(AP18=$AJ$3,IF(R18="",AN18*E18,AN18*R18),IF(AP18=$AL$3,IF(S18="",AN18*E18,AN18*S18),""))))))))))) | AP18: =IF(AN18="","",IF(AN18=T18,$T$3,IF(AN18=V18,$V$3,IF(AN18=X18,$X$3,IF(AN18=Z18,$Z$3,IF(AN18=AB18,$AB$3,IF(AN18=AD18,$AD$3,IF(AN18=AF18,$AF$3,IF(AN18=AH18,$AH$3,IF(AN18=AJ18,$AJ$3,IF(AN18=AL18,$AL$3,"")))))))))))
B19: 1.3.1 | C19: MOVIMIENTO DE TIERRAS | I19: =IF(H19="","",+H19*G19) | W19: =IF(K19="",IF(V19="","",E19*V19),K19*V19) | Y19: =IF(L19="",IF(X19="","",E19*X19),L19*X19) | AA19: =IF(M19="",IF(Z19="","",E19*Z19),M19*Z19) | AC19: =IF(N19="",IF(AB19="","",E19*AB19),N19*AB19) | AE19: =IF(O19="",IF(AD19="","",E19*AD19),O19*AD19) | AG19: =IF(P19="",IF(AF19="","",E19*AF19),P19*AF19) | AI19: =IF(Q19="",IF(AH19="","",E19*AH19),Q19*AH19) | AK19: =IF(R19="",IF(AJ19="","",E19*AJ19),R19*AJ19) | AM19: =IF(S19="",IF(AL19="","",E19*AL19),S19*AL19) | AN19: =IF(AND(T19="",V19="",Z19="",AB19="",X19="",AD19="",AF19="",AH19="",AJ19="",AL19=""),"",MIN(T19,V19,Z19,AB19,X19,AD19,AF19,AH19,AJ19,AL19)) | AO19: =IF(AN19="","",IF(AP19=$T$3,IF(J19="",+AN19*E19,AN19*J19),IF(AP19=$V$3,IF(K19="",AN19*E19,AN19*K19),IF(AP19=$X$3,IF(L19="",AN19*E19,AN19*L19),IF(AP19=$Z$3,IF(M19="",AN19*E19,AN19*M19),IF(AP19=$AB$3,IF(N19="",AN19*E19,AN19*N19),IF(AP19=$AD$3,IF(O19="",AN19*E19,AN19*O19),IF(AP19=$AF$3,IF(P19="",AN19*E19,AN19*P19),IF(AP19=$AH$3,IF(Q19="",AN19*E19,AN19*Q19),IF(AP19=$AJ$3,IF(R19="",AN19*E19,AN19*R19),IF(AP19=$AL$3,IF(S19="",AN19*E19,AN19*S19),""))))))))))) | AP19: =IF(AN19="","",IF(AN19=T19,$T$3,IF(AN19=V19,$V$3,IF(AN19=X19,$X$3,IF(AN19=Z19,$Z$3,IF(AN19=AB19,$AB$3,IF(AN19=AD19,$AD$3,IF(AN19=AF19,$AF$3,IF(AN19=AH19,$AH$3,IF(AN19=AJ19,$AJ$3,IF(AN19=AL19,$AL$3,"")))))))))))
B20: 1.3.1.1 | C20: ROCE Y LIMPIEZA DE MALEZA | D20: m2 | E20: 933 | I20: =IF(H20="","",+H20*G20) | K20: 933 | T20: 3.97 | U20: 3704.01 | W20: =IF(K20="",IF(V20="","",E20*V20),K20*V20) -> 0 | Y20: =IF(L20="",IF(X20="","",E20*X20),L20*X20) | AA20: =IF(M20="",IF(Z20="","",E20*Z20),M20*Z20) | AC20: =IF(N20="",IF(AB20="","",E20*AB20),N20*AB20) | AE20: =IF(O20="",IF(AD20="","",E20*AD20),O20*AD20) | AG20: =IF(P20="",IF(AF20="","",E20*AF20),P20*AF20) | AI20: =IF(Q20="",IF(AH20="","",E20*AH20),Q20*AH20) | AK20: =IF(R20="",IF(AJ20="","",E20*AJ20),R20*AJ20) | AM20: =IF(S20="",IF(AL20="","",E20*AL20),S20*AL20) | AN20: =IF(AND(T20="",V20="",Z20="",AB20="",X20="",AD20="",AF20="",AH20="",AJ20="",AL20=""),"",MIN(T20,V20,Z20,AB20,X20,AD20,AF20,AH20,AJ20,AL20)) -> 3.97 | AO20: =IF(AN20="","",IF(AP20=$T$3,IF(J20="",+AN20*E20,AN20*J20),IF(AP20=$V$3,IF(K20="",AN20*E20,AN20*K20),IF(AP20=$X$3,IF(L20="",AN20*E20,AN20*L20),IF(AP20=$Z$3,IF(M20="",AN20*E20,AN20*M20),IF(AP20=$AB$3,IF(N20="",AN20*E20,AN20*N20),IF(AP20=$AD$3,IF(O20="",AN20*E20,AN20*O20),IF(AP20=$AF$3,IF(P20="",AN20*E20,AN20*P20),IF(AP20=$AH$3,IF(Q20="",AN20*E20,AN20*Q20),IF(AP20=$AJ$3,IF(R20="",AN20*E20,AN20*R20),IF(AP20=$AL$3,IF(S20="",AN20*E20,AN20*S20),""))))))))))) -> 3704.01 | AP20: =IF(AN20="","",IF(AN20=T20,$T$3,IF(AN20=V20,$V$3,IF(AN20=X20,$X$3,IF(AN20=Z20,$Z$3,IF(AN20=AB20,$AB$3,IF(AN20=AD20,$AD$3,IF(AN20=AF20,$AF$3,IF(AN20=AH20,$AH$3,IF(AN20=AJ20,$AJ$3,IF(AN20=AL20,$AL$3,""))))))))))) -> CONSORCIO CHAQUICOCHA S.R.L. | AQ20: =IF($AQ$3="","",IF($AQ$3=$T$3,T20,IF($AQ$3=$V$3,V20,IF($AQ$3=$X$3,X20,IF($AQ$3=$Z$3,Z20,IF($AQ$3=$AB$3,AB20,IF($AQ$3=$AD$3,AD20,IF($AQ$3=$AF$3,AF20,IF($AQ$3=$AH$3,AH20,IF($AQ$3=$AJ$3,AJ20,IF($AQ$3=$AL$3,AL20,""))))))))))) -> 3.97 | AR20: =IF(AQ20="","",IF($AQ$3=$T$3,IF(J20="",AQ20*E20,AQ20*J20),IF($AQ$3=$V$3,IF(K20="",AQ20*E20,AQ20*K20),IF($AQ$3=$X$3,IF(L20="",AQ20*E20,AQ20*L20),IF($AQ$3=$Z$3,IF(M20="",AQ20*E20,AQ20*M20),IF($AQ$3=$AB$3,IF(N20="",AQ20*E20,AQ20*N20),IF($AQ$3=$AD$3,IF(O20="",AQ20*E20,AQ20*O20),IF($AQ$3=$AF$3,IF(P20="",AQ20*E20,AQ20*P20),IF($AQ$3=$AH$3,IF(Q20="",AQ20*E20,AQ20*Q20),IF($AQ$3=$AJ$3,IF(R20="",AQ20*E20,AQ20*R20),IF($AQ$3=$AL$3,IF(S20="",AQ20*E20,AQ20*S20),""))))))))))) -> 3704.01
B21: 1.3.1.2 | C21: MEJORAMIENTO DE VIAS EXISTENTES | D21: km | E21: 4.61 | I21: =IF(H21="","",+H21*G21) | K21: 4.61 | T21: 45343.29 | U21: 209032.57 | W21: =IF(K21="",IF(V21="","",E21*V21),K21*V21) -> 0 | Y21: =IF(L21="",IF(X21="","",E21*X21),L21*X21) | AA21: =IF(M21="",IF(Z21="","",E21*Z21),M21*Z21) | AC21: =IF(N21="",IF(AB21="","",E21*AB21),N21*AB21) | AE21: =IF(O21="",IF(AD21="","",E21*AD21),O21*AD21) | AG21: =IF(P21="",IF(AF21="","",E21*AF21),P21*AF21) | AI21: =IF(Q21="",IF(AH21="","",E21*AH21),Q21*AH21) | AK21: =IF(R21="",IF(AJ21="","",E21*AJ21),R21*AJ21) | AM21: =IF(S21="",IF(AL21="","",E21*AL21),S21*AL21) | AN21: =IF(AND(T21="",V21="",Z21="",AB21="",X21="",AD21="",AF21="",AH21="",AJ21="",AL21=""),"",MIN(T21,V21,Z21,AB21,X21,AD21,AF21,AH21,AJ21,AL21)) -> 45343.29 | AO21: =IF(AN21="","",IF(AP21=$T$3,IF(J21="",+AN21*E21,AN21*J21),IF(AP21=$V$3,IF(K21="",AN21*E21,AN21*K21),IF(AP21=$X$3,IF(L21="",AN21*E21,AN21*L21),IF(AP21=$Z$3,IF(M21="",AN21*E21,AN21*M21),IF(AP21=$AB$3,IF(N21="",AN21*E21,AN21*N21),IF(AP21=$AD$3,IF(O21="",AN21*E21,AN21*O21),IF(AP21=$AF$3,IF(P21="",AN21*E21,AN21*P21),IF(AP21=$AH$3,IF(Q21="",AN21*E21,AN21*Q21),IF(AP21=$AJ$3,IF(R21="",AN21*E21,AN21*R21),IF(AP21=$AL$3,IF(S21="",AN21*E21,AN21*S21),""))))))))))) -> 209032.57 | AP21: =IF(AN21="","",IF(AN21=T21,$T$3,IF(AN21=V21,$V$3,IF(AN21=X21,$X$3,IF(AN21=Z21,$Z$3,IF(AN21=AB21,$AB$3,IF(AN21=AD21,$AD$3,IF(AN21=AF21,$AF$3,IF(AN21=AH21,$AH$3,IF(AN21=AJ21,$AJ$3,IF(AN21=AL21,$AL$3,""))))))))))) -> CONSORCIO CHAQUICOCHA S.R.L. | AQ21: =IF($AQ$3="","",IF($AQ$3=$T$3,T21,IF($AQ$3=$V$3,V21,IF($AQ$3=$X$3,X21,IF($AQ$3=$Z$3,Z21,IF($AQ$3=$AB$3,AB21,IF($AQ$3=$AD$3,AD21,IF($AQ$3=$AF$3,AF21,IF($AQ$3=$AH$3,AH21,IF($AQ$3=$AJ$3,AJ21,IF($AQ$3=$AL$3,AL21,""))))))))))) -> 45343.29 | AR21: =IF(AQ21="","",IF($AQ$3=$T$3,IF(J21="",AQ21*E21,AQ21*J21),IF($AQ$3=$V$3,IF(K21="",AQ21*E21,AQ21*K21),IF($AQ$3=$X$3,IF(L21="",AQ21*E21,AQ21*L21),IF($AQ$3=$Z$3,IF(M21="",AQ21*E21,AQ21*M21),IF($AQ$3=$AB$3,IF(N21="",AQ21*E21,AQ21*N21),IF($AQ$3=$AD$3,IF(O21="",AQ21*E21,AQ21*O21),IF($AQ$3=$AF$3,IF(P21="",AQ21*E21,AQ21*P21),IF($AQ$3=$AH$3,IF(Q21="",AQ21*E21,AQ21*Q21),IF($AQ$3=$AJ$3,IF(R21="",AQ21*E21,AQ21*R21),IF($AQ$3=$AL$3,IF(S21="",AQ21*E21,AQ21*S21),""))))))))))) -> 209032.57
B22: 1.3.2 | C22: REPOSICIÓN DE ESTRUCTURAS | I22: =IF(H22="","",+H22*G22) | W22: =IF(K22="",IF(V22="","",E22*V22),K22*V22) | Y22: =IF(L22="",IF(X22="","",E22*X22),L22*X22) | AA22: =IF(M22="",IF(Z22="","",E22*Z22),M22*Z22) | AC22: =IF(N22="",IF(AB22="","",E22*AB22),N22*AB22) | AE22: =IF(O22="",IF(AD22="","",E22*AD22),O22*AD22) | AG22: =IF(P22="",IF(AF22="","",E22*AF22),P22*AF22) | AI22: =IF(Q22="",IF(AH22="","",E22*AH22),Q22*AH22) | AK22: =IF(R22="",IF(AJ22="","",E22*AJ22),R22*AJ22) | AM22: =IF(S22="",IF(AL22="","",E22*AL22),S22*AL22) | AN22: =IF(AND(T22="",V22="",Z22="",AB22="",X22="",AD22="",AF22="",AH22="",AJ22="",AL22=""),"",MIN(T22,V22,Z22,AB22,X22,AD22,AF22,AH22,AJ22,AL22)) | AO22: =IF(AN22="","",IF(AP22=$T$3,IF(J22="",+AN22*E22,AN22*J22),IF(AP22=$V$3,IF(K22="",AN22*E22,AN22*K22),IF(AP22=$X$3,IF(L22="",AN22*E22,AN22*L22),IF(AP22=$Z$3,IF(M22="",AN22*E22,AN22*M22),IF(AP22=$AB$3,IF(N22="",AN22*E22,AN22*N22),IF(AP22=$AD$3,IF(O22="",AN22*E22,AN22*O22),IF(AP22=$AF$3,IF(P22="",AN22*E22,AN22*P22),IF(AP22=$AH$3,IF(Q22="",AN22*E22,AN22*Q22),IF(AP22=$AJ$3,IF(R22="",AN22*E22,AN22*R22),IF(AP22=$AL$3,IF(S22="",AN22*E22,AN22*S22),""))))))))))) | AP22: =IF(AN22="","",IF(AN22=T22,$T$3,IF(AN22=V22,$V$3,IF(AN22=X22,$X$3,IF(AN22=Z22,$Z$3,IF(AN22=AB22,$AB$3,IF(AN22=AD22,$AD$3,IF(AN22=AF22,$AF$3,IF(AN22=AH22,$AH$3,IF(AN22=AJ22,$AJ$3,IF(AN22=AL22,$AL$3,"")))))))))))
B23: 1.3.2.1 | C23: DEMOLICIÓN DE ESTRUCTURAS EXISTENTES | D23: m3 | E23: 5.6 | I23: =IF(H23="","",+H23*G23) | K23: 5.6 | T23: 394.9 | U23: 2211.44 | W23: =IF(K23="",IF(V23="","",E23*V23),K23*V23) -> 0 | Y23: =IF(L23="",IF(X23="","",E23*X23),L23*X23) | AA23: =IF(M23="",IF(Z23="","",E23*Z23),M23*Z23) | AC23: =IF(N23="",IF(AB23="","",E23*AB23),N23*AB23) | AE23: =IF(O23="",IF(AD23="","",E23*AD23),O23*AD23) | AG23: =IF(P23="",IF(AF23="","",E23*AF23),P23*AF23) | AI23: =IF(Q23="",IF(AH23="","",E23*AH23),Q23*AH23) | AK23: =IF(R23="",IF(AJ23="","",E23*AJ23),R23*AJ23) | AM23: =IF(S23="",IF(AL23="","",E23*AL23),S23*AL23) | AN23: =IF(AND(T23="",V23="",Z23="",AB23="",X23="",AD23="",AF23="",AH23="",AJ23="",AL23=""),"",MIN(T23,V23,Z23,AB23,X23,AD23,AF23,AH23,AJ23,AL23)) -> 394.9 | AO23: =IF(AN23="","",IF(AP23=$T$3,IF(J23="",+AN23*E23,AN23*J23),IF(AP23=$V$3,IF(K23="",AN23*E23,AN23*K23),IF(AP23=$X$3,IF(L23="",AN23*E23,AN23*L23),IF(AP23=$Z$3,IF(M23="",AN23*E23,AN23*M23),IF(AP23=$AB$3,IF(N23="",AN23*E23,AN23*N23),IF(AP23=$AD$3,IF(O23="",AN23*E23,AN23*O23),IF(AP23=$AF$3,IF(P23="",AN23*E23,AN23*P23),IF(AP23=$AH$3,IF(Q23="",AN23*E23,AN23*Q23),IF(AP23=$AJ$3,IF(R23="",AN23*E23,AN23*R23),IF(AP23=$AL$3,IF(S23="",AN23*E23,AN23*S23),""))))))))))) -> 2211.44 | AP23: =IF(AN23="","",IF(AN23=T23,$T$3,IF(AN23=V23,$V$3,IF(AN23=X23,$X$3,IF(AN23=Z23,$Z$3,IF(AN23=AB23,$AB$3,IF(AN23=AD23,$AD$3,IF(AN23=AF23,$AF$3,IF(AN23=AH23,$AH$3,IF(AN23=AJ23,$AJ$3,IF(AN23=AL23,$AL$3,""))))))))))) -> CONSORCIO CHAQUICOCHA S.R.L. | AQ23: =IF($AQ$3="","",IF($AQ$3=$T$3,T23,IF($AQ$3=$V$3,V23,IF($AQ$3=$X$3,X23,IF($AQ$3=$Z$3,Z23,IF($AQ$3=$AB$3,AB23,IF($AQ$3=$AD$3,AD23,IF($AQ$3=$AF$3,AF23,IF($AQ$3=$AH$3,AH23,IF($AQ$3=$AJ$3,AJ23,IF($AQ$3=$AL$3,AL23,""))))))))))) -> 394.9 | AR23: =IF(AQ23="","",IF($AQ$3=$T$3,IF(J23="",AQ23*E23,AQ23*J23),IF($AQ$3=$V$3,IF(K23="",AQ23*E23,AQ23*K23),IF($AQ$3=$X$3,IF(L23="",AQ23*E23,AQ23*L23),IF($AQ$3=$Z$3,IF(M23="",AQ23*E23,AQ23*M23),IF($AQ$3=$AB$3,IF(N23="",AQ23*E23,AQ23*N23),IF($AQ$3=$AD$3,IF(O23="",AQ23*E23,AQ23*O23),IF($AQ$3=$AF$3,IF(P23="",AQ23*E23,AQ23*P23),IF($AQ$3=$AH$3,IF(Q23="",AQ23*E23,AQ23*Q23),IF($AQ$3=$AJ$3,IF(R23="",AQ23*E23,AQ23*R23),IF($AQ$3=$AL$3,IF(S23="",AQ23*E23,AQ23*S23),""))))))))))) -> 2211.44
B24: 1.3.2.2 | C24: REPOSICIÓN DE PASE DE AGUA TUBO HDPE Ø=18" | D24: m | E24: 5 | I24: =IF(H24="","",+H24*G24) | K24: 5 | T24: 773.62 | U24: 3868.1 | W24: =IF(K24="",IF(V24="","",E24*V24),K24*V24) -> 0 | Y24: =IF(L24="",IF(X24="","",E24*X24),L24*X24) | AA24: =IF(M24="",IF(Z24="","",E24*Z24),M24*Z24) | AC24: =IF(N24="",IF(AB24="","",E24*AB24),N24*AB24) | AE24: =IF(O24="",IF(AD24="","",E24*AD24),O24*AD24) | AG24: =IF(P24="",IF(AF24="","",E24*AF24),P24*AF24) | AI24: =IF(Q24="",IF(AH24="","",E24*AH24),Q24*AH24) | AK24: =IF(R24="",IF(AJ24="","",E24*AJ24),R24*AJ24) | AM24: =IF(S24="",IF(AL24="","",E24*AL24),S24*AL24) | AN24: =IF(AND(T24="",V24="",Z24="",AB24="",X24="",AD24="",AF24="",AH24="",AJ24="",AL24=""),"",MIN(T24,V24,Z24,AB24,X24,AD24,AF24,AH24,AJ24,AL24)) -> 773.62 | AO24: =IF(AN24="","",IF(AP24=$T$3,IF(J24="",+AN24*E24,AN24*J24),IF(AP24=$V$3,IF(K24="",AN24*E24,AN24*K24),IF(AP24=$X$3,IF(L24="",AN24*E24,AN24*L24),IF(AP24=$Z$3,IF(M24="",AN24*E24,AN24*M24),IF(AP24=$AB$3,IF(N24="",AN24*E24,AN24*N24),IF(AP24=$AD$3,IF(O24="",AN24*E24,AN24*O24),IF(AP24=$AF$3,IF(P24="",AN24*E24,AN24*P24),IF(AP24=$AH$3,IF(Q24="",AN24*E24,AN24*Q24),IF(AP24=$AJ$3,IF(R24="",AN24*E24,AN24*R24),IF(AP24=$AL$3,IF(S24="",AN24*E24,AN24*S24),""))))))))))) -> 3868.1 | AP24: =IF(AN24="","",IF(AN24=T24,$T$3,IF(AN24=V24,$V$3,IF(AN24=X24,$X$3,IF(AN24=Z24,$Z$3,IF(AN24=AB24,$AB$3,IF(AN24=AD24,$AD$3,IF(AN24=AF24,$AF$3,IF(AN24=AH24,$AH$3,IF(AN24=AJ24,$AJ$3,IF(AN24=AL24,$AL$3,""))))))))))) -> CONSORCIO CHAQUICOCHA S.R.L. | AQ24: =IF($AQ$3="","",IF($AQ$3=$T$3,T24,IF($AQ$3=$V$3,V24,IF($AQ$3=$X$3,X24,IF($AQ$3=$Z$3,Z24,IF($AQ$3=$AB$3,AB24,IF($AQ$3=$AD$3,AD24,IF($AQ$3=$AF$3,AF24,IF($AQ$3=$AH$3,AH24,IF($AQ$3=$AJ$3,AJ24,IF($AQ$3=$AL$3,AL24,""))))))))))) -> 773.62 | AR24: =IF(AQ24="","",IF($AQ$3=$T$3,IF(J24="",AQ24*E24,AQ24*J24),IF($AQ$3=$V$3,IF(K24="",AQ24*E24,AQ24*K24),IF($AQ$3=$X$3,IF(L24="",AQ24*E24,AQ24*L24),IF($AQ$3=$Z$3,IF(M24="",AQ24*E24,AQ24*M24),IF($AQ$3=$AB$3,IF(N24="",AQ24*E24,AQ24*N24),IF($AQ$3=$AD$3,IF(O24="",AQ24*E24,AQ24*O24),IF($AQ$3=$AF$3,IF(P24="",AQ24*E24,AQ24*P24),IF($AQ$3=$AH$3,IF(Q24="",AQ24*E24,AQ24*Q24),IF($AQ$3=$AJ$3,IF(R24="",AQ24*E24,AQ24*R24),IF($AQ$3=$AL$3,IF(S24="",AQ24*E24,AQ24*S24),""))))))))))) -> 3868.1
B25: 1.3.2.3 | C25: REPOSICIÓN DE PASE DE AGUA TUBO HDPE Ø=36" | D25: m | E25: 5 | I25: =IF(H25="","",+H25*G25) | K25: 5 | T25: 983.62 | U25: 4918.1 | W25: =IF(K25="",IF(V25="","",E25*V25),K25*V25) -> 0 | Y25: =IF(L25="",IF(X25="","",E25*X25),L25*X25) | AA25: =IF(M25="",IF(Z25="","",E25*Z25),M25*Z25) | AC25: =IF(N25="",IF(AB25="","",E25*AB25),N25*AB25) | AE25: =IF(O25="",IF(AD25="","",E25*AD25),O25*AD25) | AG25: =IF(P25="",IF(AF25="","",E25*AF25),P25*AF25) | AI25: =IF(Q25="",IF(AH25="","",E25*AH25),Q25*AH25) | AK25: =IF(R25="",IF(AJ25="","",E25*AJ25),R25*AJ25) | AM25: =IF(S25="",IF(AL25="","",E25*AL25),S25*AL25) | AN25: =IF(AND(T25="",V25="",Z25="",AB25="",X25="",AD25="",AF25="",AH25="",AJ25="",AL25=""),"",MIN(T25,V25,Z25,AB25,X25,AD25,AF25,AH25,AJ25,AL25)) -> 983.62 | AO25: =IF(AN25="","",IF(AP25=$T$3,IF(J25="",+AN25*E25,AN25*J25),IF(AP25=$V$3,IF(K25="",AN25*E25,AN25*K25),IF(AP25=$X$3,IF(L25="",AN25*E25,AN25*L25),IF(AP25=$Z$3,IF(M25="",AN25*E25,AN25*M25),IF(AP25=$AB$3,IF(N25="",AN25*E25,AN25*N25),IF(AP25=$AD$3,IF(O25="",AN25*E25,AN25*O25),IF(AP25=$AF$3,IF(P25="",AN25*E25,AN25*P25),IF(AP25=$AH$3,IF(Q25="",AN25*E25,AN25*Q25),IF(AP25=$AJ$3,IF(R25="",AN25*E25,AN25*R25),IF(AP25=$AL$3,IF(S25="",AN25*E25,AN25*S25),""))))))))))) -> 4918.1 | AP25: =IF(AN25="","",IF(AN25=T25,$T$3,IF(AN25=V25,$V$3,IF(AN25=X25,$X$3,IF(AN25=Z25,$Z$3,IF(AN25=AB25,$AB$3,IF(AN25=AD25,$AD$3,IF(AN25=AF25,$AF$3,IF(AN25=AH25,$AH$3,IF(AN25=AJ25,$AJ$3,IF(AN25=AL25,$AL$3,""))))))))))) -> CONSORCIO CHAQUICOCHA S.R.L. | AQ25: =IF($AQ$3="","",IF($AQ$3=$T$3,T25,IF($AQ$3=$V$3,V25,IF($AQ$3=$X$3,X25,IF($AQ$3=$Z$3,Z25,IF($AQ$3=$AB$3,AB25,IF($AQ$3=$AD$3,AD25,IF($AQ$3=$AF$3,AF25,IF($AQ$3=$AH$3,AH25,IF($AQ$3=$AJ$3,AJ25,IF($AQ$3=$AL$3,AL25,""))))))))))) -> 983.62 | AR25: =IF(AQ25="","",IF($AQ$3=$T$3,IF(J25="",AQ25*E25,AQ25*J25),IF($AQ$3=$V$3,IF(K25="",AQ25*E25,AQ25*K25),IF($AQ$3=$X$3,IF(L25="",AQ25*E25,AQ25*L25),IF($AQ$3=$Z$3,IF(M25="",AQ25*E25,AQ25*M25),IF($AQ$3=$AB$3,IF(N25="",AQ25*E25,AQ25*N25),IF($AQ$3=$AD$3,IF(O25="",AQ25*E25,AQ25*O25),IF($AQ$3=$AF$3,IF(P25="",AQ25*E25,AQ25*P25),IF($AQ$3=$AH$3,IF(Q25="",AQ25*E25,AQ25*Q25),IF($AQ$3=$AJ$3,IF(R25="",AQ25*E25,AQ25*R25),IF($AQ$3=$AL$3,IF(S25="",AQ25*E25,AQ25*S25),""))))))))))) -> 4918.1
B26: 1.3.2.4 | C26: SUMINISTRO Y MONTAJE DE PANELES DE C°A° 1.6mx1.0mx0.20m EN PASE DE AGUA | D26: und | E26: 7 | I26: =IF(H26="","",+H26*G26) | K26: 7 | T26: 619.92 | U26: 4339.44 | W26: =IF(K26="",IF(V26="","",E26*V26),K26*V26) -> 0 | Y26: =IF(L26="",IF(X26="","",E26*X26),L26*X26) | AA26: =IF(M26="",IF(Z26="","",E26*Z26),M26*Z26) | AC26: =IF(N26="",IF(AB26="","",E26*AB26),N26*AB26) | AE26: =IF(O26="",IF(AD26="","",E26*AD26),O26*AD26) | AG26: =IF(P26="",IF(AF26="","",E26*AF26),P26*AF26) | AI26: =IF(Q26="",IF(AH26="","",E26*AH26),Q26*AH26) | AK26: =IF(R26="",IF(AJ26="","",E26*AJ26),R26*AJ26) | AM26: =IF(S26="",IF(AL26="","",E26*AL26),S26*AL26) | AN26: =IF(AND(T26="",V26="",Z26="",AB26="",X26="",AD26="",AF26="",AH26="",AJ26="",AL26=""),"",MIN(T26,V26,Z26,AB26,X26,AD26,AF26,AH26,AJ26,AL26)) -> 619.92 | AO26: =IF(AN26="","",IF(AP26=$T$3,IF(J26="",+AN26*E26,AN26*J26),IF(AP26=$V$3,IF(K26="",AN26*E26,AN26*K26),IF(AP26=$X$3,IF(L26="",AN26*E26,AN26*L26),IF(AP26=$Z$3,IF(M26="",AN26*E26,AN26*M26),IF(AP26=$AB$3,IF(N26="",AN26*E26,AN26*N26),IF(AP26=$AD$3,IF(O26="",AN26*E26,AN26*O26),IF(AP26=$AF$3,IF(P26="",AN26*E26,AN26*P26),IF(AP26=$AH$3,IF(Q26="",AN26*E26,AN26*Q26),IF(AP26=$AJ$3,IF(R26="",AN26*E26,AN26*R26),IF(AP26=$AL$3,IF(S26="",AN26*E26,AN26*S26),""))))))))))) -> 4339.44 | AP26: =IF(AN26="","",IF(AN26=T26,$T$3,IF(AN26=V26,$V$3,IF(AN26=X26,$X$3,IF(AN26=Z26,$Z$3,IF(AN26=AB26,$AB$3,IF(AN26=AD26,$AD$3,IF(AN26=AF26,$AF$3,IF(AN26=AH26,$AH$3,IF(AN26=AJ26,$AJ$3,IF(AN26=AL26,$AL$3,""))))))))))) -> CONSORCIO CHAQUICOCHA S.R.L. | AQ26: =IF($AQ$3="","",IF($AQ$3=$T$3,T26,IF($AQ$3=$V$3,V26,IF($AQ$3=$X$3,X26,IF($AQ$3=$Z$3,Z26,IF($AQ$3=$AB$3,AB26,IF($AQ$3=$AD$3,AD26,IF($AQ$3=$AF$3,AF26,IF($AQ$3=$AH$3,AH26,IF($AQ$3=$AJ$3,AJ26,IF($AQ$3=$AL$3,AL26,""))))))))))) -> 619.92 | AR26: =IF(AQ26="","",IF($AQ$3=$T$3,IF(J26="",AQ26*E26,AQ26*J26),IF($AQ$3=$V$3,IF(K26="",AQ26*E26,AQ26*K26),IF($AQ$3=$X$3,IF(L26="",AQ26*E26,AQ26*L26),IF($AQ$3=$Z$3,IF(M26="",AQ26*E26,AQ26*M26),IF($AQ$3=$AB$3,IF(N26="",AQ26*E26,AQ26*N26),IF($AQ$3=$AD$3,IF(O26="",AQ26*E26,AQ26*O26),IF($AQ$3=$AF$3,IF(P26="",AQ26*E26,AQ26*P26),IF($AQ$3=$AH$3,IF(Q26="",AQ26*E26,AQ26*Q26),IF($AQ$3=$AJ$3,IF(R26="",AQ26*E26,AQ26*R26),IF($AQ$3=$AL$3,IF(S26="",AQ26*E26,AQ26*S26),""))))))))))) -> 4339.44
B27: 1.3.2.5 | C27: SUMINISTRO Y MONTAJE DE PANELES DE C°A° 2.20mx1.0mx0.20m EN PASE DE AGUA | D27: und | E27: 5 | I27: =IF(H27="","",+H27*G27) | K27: 5 | T27: 669.92 | U27: 3349.6 | W27: =IF(K27="",IF(V27="","",E27*V27),K27*V27) -> 0 | Y27: =IF(L27="",IF(X27="","",E27*X27),L27*X27) | AA27: =IF(M27="",IF(Z27="","",E27*Z27),M27*Z27) | AC27: =IF(N27="",IF(AB27="","",E27*AB27),N27*AB27) | AE27: =IF(O27="",IF(AD27="","",E27*AD27),O27*AD27) | AG27: =IF(P27="",IF(AF27="","",E27*AF27),P27*AF27) | AI27: =IF(Q27="",IF(AH27="","",E27*AH27),Q27*AH27) | AK27: =IF(R27="",IF(AJ27="","",E27*AJ27),R27*AJ27) | AM27: =IF(S27="",IF(AL27="","",E27*AL27),S27*AL27) | AN27: =IF(AND(T27="",V27="",Z27="",AB27="",X27="",AD27="",AF27="",AH27="",AJ27="",AL27=""),"",MIN(T27,V27,Z27,AB27,X27,AD27,AF27,AH27,AJ27,AL27)) -> 669.92 | AO27: =IF(AN27="","",IF(AP27=$T$3,IF(J27="",+AN27*E27,AN27*J27),IF(AP27=$V$3,IF(K27="",AN27*E27,AN27*K27),IF(AP27=$X$3,IF(L27="",AN27*E27,AN27*L27),IF(AP27=$Z$3,IF(M27="",AN27*E27,AN27*M27),IF(AP27=$AB$3,IF(N27="",AN27*E27,AN27*N27),IF(AP27=$AD$3,IF(O27="",AN27*E27,AN27*O27),IF(AP27=$AF$3,IF(P27="",AN27*E27,AN27*P27),IF(AP27=$AH$3,IF(Q27="",AN27*E27,AN27*Q27),IF(AP27=$AJ$3,IF(R27="",AN27*E27,AN27*R27),IF(AP27=$AL$3,IF(S27="",AN27*E27,AN27*S27),""))))))))))) -> 3349.6 | AP27: =IF(AN27="","",IF(AN27=T27,$T$3,IF(AN27=V27,$V$3,IF(AN27=X27,$X$3,IF(AN27=Z27,$Z$3,IF(AN27=AB27,$AB$3,IF(AN27=AD27,$AD$3,IF(AN27=AF27,$AF$3,IF(AN27=AH27,$AH$3,IF(AN27=AJ27,$AJ$3,IF(AN27=AL27,$AL$3,""))))))))))) -> CONSORCIO CHAQUICOCHA S.R.L. | AQ27: =IF($AQ$3="","",IF($AQ$3=$T$3,T27,IF($AQ$3=$V$3,V27,IF($AQ$3=$X$3,X27,IF($AQ$3=$Z$3,Z27,IF($AQ$3=$AB$3,AB27,IF($AQ$3=$AD$3,AD27,IF($AQ$3=$AF$3,AF27,IF($AQ$3=$AH$3,AH27,IF($AQ$3=$AJ$3,AJ27,IF($AQ$3=$AL$3,AL27,""))))))))))) -> 669.92 | AR27: =IF(AQ27="","",IF($AQ$3=$T$3,IF(J27="",AQ27*E27,AQ27*J27),IF($AQ$3=$V$3,IF(K27="",AQ27*E27,AQ27*K27),IF($AQ$3=$X$3,IF(L27="",AQ27*E27,AQ27*L27),IF($AQ$3=$Z$3,IF(M27="",AQ27*E27,AQ27*M27),IF($AQ$3=$AB$3,IF(N27="",AQ27*E27,AQ27*N27),IF($AQ$3=$AD$3,IF(O27="",AQ27*E27,AQ27*O27),IF($AQ$3=$AF$3,IF(P27="",AQ27*E27,AQ27*P27),IF($AQ$3=$AH$3,IF(Q27="",AQ27*E27,AQ27*Q27),IF($AQ$3=$AJ$3,IF(R27="",AQ27*E27,AQ27*R27),IF($AQ$3=$AL$3,IF(S27="",AQ27*E27,AQ27*S27),""))))))))))) -> 3349.6
B28: 1.3.3 | C28: CABEZAL DE ENTRADA Y SALIDA | I28: =IF(H28="","",+H28*G28) | W28: =IF(K28="",IF(V28="","",E28*V28),K28*V28) | Y28: =IF(L28="",IF(X28="","",E28*X28),L28*X28) | AA28: =IF(M28="",IF(Z28="","",E28*Z28),M28*Z28) | AC28: =IF(N28="",IF(AB28="","",E28*AB28),N28*AB28) | AE28: =IF(O28="",IF(AD28="","",E28*AD28),O28*AD28) | AG28: =IF(P28="",IF(AF28="","",E28*AF28),P28*AF28) | AI28: =IF(Q28="",IF(AH28="","",E28*AH28),Q28*AH28) | AK28: =IF(R28="",IF(AJ28="","",E28*AJ28),R28*AJ28) | AM28: =IF(S28="",IF(AL28="","",E28*AL28),S28*AL28) | AN28: =IF(AND(T28="",V28="",Z28="",AB28="",X28="",AD28="",AF28="",AH28="",AJ28="",AL28=""),"",MIN(T28,V28,Z28,AB28,X28,AD28,AF28,AH28,AJ28,AL28)) | AO28: =IF(AN28="","",IF(AP28=$T$3,IF(J28="",+AN28*E28,AN28*J28),IF(AP28=$V$3,IF(K28="",AN28*E28,AN28*K28),IF(AP28=$X$3,IF(L28="",AN28*E28,AN28*L28),IF(AP28=$Z$3,IF(M28="",AN28*E28,AN28*M28),IF(AP28=$AB$3,IF(N28="",AN28*E28,AN28*N28),IF(AP28=$AD$3,IF(O28="",AN28*E28,AN28*O28),IF(AP28=$AF$3,IF(P28="",AN28*E28,AN28*P28),IF(AP28=$AH$3,IF(Q28="",AN28*E28,AN28*Q28),IF(AP28=$AJ$3,IF(R28="",AN28*E28,AN28*R28),IF(AP28=$AL$3,IF(S28="",AN28*E28,AN28*S28),""))))))))))) | AP28: =IF(AN28="","",IF(AN28=T28,$T$3,IF(AN28=V28,$V$3,IF(AN28=X28,$X$3,IF(AN28=Z28,$Z$3,IF(AN28=AB28,$AB$3,IF(AN28=AD28,$AD$3,IF(AN28=AF28,$AF$3,IF(AN28=AH28,$AH$3,IF(AN28=AJ28,$AJ$3,IF(AN28=AL28,$AL$3,"")))))))))))
B29: 1.3.3.1 | C29: CONCRETOS | D29: m3 | E29: 3.0164 | I29: =IF(H29="","",+H29*G29) | K29: 3.0164 | T29: 455.18 | U29: 1374.6436 | W29: =IF(K29="",IF(V29="","",E29*V29),K29*V29) -> 0 | Y29: =IF(L29="",IF(X29="","",E29*X29),L29*X29) | AA29: =IF(M29="",IF(Z29="","",E29*Z29),M29*Z29) | AC29: =IF(N29="",IF(AB29="","",E29*AB29),N29*AB29) | AE29: =IF(O29="",IF(AD29="","",E29*AD29),O29*AD29) | AG29: =IF(P29="",IF(AF29="","",E29*AF29),P29*AF29) | AI29: =IF(Q29="",IF(AH29="","",E29*AH29),Q29*AH29) | AK29: =IF(R29="",IF(AJ29="","",E29*AJ29),R29*AJ29) | AM29: =IF(S29="",IF(AL29="","",E29*AL29),S29*AL29) | AN29: =IF(AND(T29="",V29="",Z29="",AB29="",X29="",AD29="",AF29="",AH29="",AJ29="",AL29=""),"",MIN(T29,V29,Z29,AB29,X29,AD29,AF29,AH29,AJ29,AL29)) -> 455.18 | AO29: =IF(AN29="","",IF(AP29=$T$3,IF(J29="",+AN29*E29,AN29*J29),IF(AP29=$V$3,IF(K29="",AN29*E29,AN29*K29),IF(AP29=$X$3,IF(L29="",AN29*E29,AN29*L29),IF(AP29=$Z$3,IF(M29="",AN29*E29,AN29*M29),IF(AP29=$AB$3,IF(N29="",AN29*E29,AN29*N29),IF(AP29=$AD$3,IF(O29="",AN29*E29,AN29*O29),IF(AP29=$AF$3,IF(P29="",AN29*E29,AN29*P29),IF(AP29=$AH$3,IF(Q29="",AN29*E29,AN29*Q29),IF(AP29=$AJ$3,IF(R29="",AN29*E29,AN29*R29),IF(AP29=$AL$3,IF(S29="",AN29*E29,AN29*S29),""))))))))))) -> 1373.005 | AP29: =IF(AN29="","",IF(AN29=T29,$T$3,IF(AN29=V29,$V$3,IF(AN29=X29,$X$3,IF(AN29=Z29,$Z$3,IF(AN29=AB29,$AB$3,IF(AN29=AD29,$AD$3,IF(AN29=AF29,$AF$3,IF(AN29=AH29,$AH$3,IF(AN29=AJ29,$AJ$3,IF(AN29=AL29,$AL$3,""))))))))))) -> CONSORCIO CHAQUICOCHA S.R.L. | AQ29: =IF($AQ$3="","",IF($AQ$3=$T$3,T29,IF($AQ$3=$V$3,V29,IF($AQ$3=$X$3,X29,IF($AQ$3=$Z$3,Z29,IF($AQ$3=$AB$3,AB29,IF($AQ$3=$AD$3,AD29,IF($AQ$3=$AF$3,AF29,IF($AQ$3=$AH$3,AH29,IF($AQ$3=$AJ$3,AJ29,IF($AQ$3=$AL$3,AL29,""))))))))))) -> 455.18 | AR29: =IF(AQ29="","",IF($AQ$3=$T$3,IF(J29="",AQ29*E29,AQ29*J29),IF($AQ$3=$V$3,IF(K29="",AQ29*E29,AQ29*K29),IF($AQ$3=$X$3,IF(L29="",AQ29*E29,AQ29*L29),IF($AQ$3=$Z$3,IF(M29="",AQ29*E29,AQ29*M29),IF($AQ$3=$AB$3,IF(N29="",AQ29*E29,AQ29*N29),IF($AQ$3=$AD$3,IF(O29="",AQ29*E29,AQ29*O29),IF($AQ$3=$AF$3,IF(P29="",AQ29*E29,AQ29*P29),IF($AQ$3=$AH$3,IF(Q29="",AQ29*E29,AQ29*Q29),IF($AQ$3=$AJ$3,IF(R29="",AQ29*E29,AQ29*R29),IF($AQ$3=$AL$3,IF(S29="",AQ29*E29,AQ29*S29),""))))))))))) -> 1373.005
B30: 1.3.3.2 | C30: ENCOFRADO Y DESENCOFRADO RECTO | D30: m2 | E30: 21.176 | I30: =IF(H30="","",+H30*G30) | K30: 21.176 | T30: 67.84 | U30: 1436.8512 | W30: =IF(K30="",IF(V30="","",E30*V30),K30*V30) -> 0 | Y30: =IF(L30="",IF(X30="","",E30*X30),L30*X30) | AA30: =IF(M30="",IF(Z30="","",E30*Z30),M30*Z30) | AC30: =IF(N30="",IF(AB30="","",E30*AB30),N30*AB30) | AE30: =IF(O30="",IF(AD30="","",E30*AD30),O30*AD30) | AG30: =IF(P30="",IF(AF30="","",E30*AF30),P30*AF30) | AI30: =IF(Q30="",IF(AH30="","",E30*AH30),Q30*AH30) | AK30: =IF(R30="",IF(AJ30="","",E30*AJ30),R30*AJ30) | AM30: =IF(S30="",IF(AL30="","",E30*AL30),S30*AL30) | AN30: =IF(AND(T30="",V30="",Z30="",AB30="",X30="",AD30="",AF30="",AH30="",AJ30="",AL30=""),"",MIN(T30,V30,Z30,AB30,X30,AD30,AF30,AH30,AJ30,AL30)) -> 67.84 | AO30: =IF(AN30="","",IF(AP30=$T$3,IF(J30="",+AN30*E30,AN30*J30),IF(AP30=$V$3,IF(K30="",AN30*E30,AN30*K30),IF(AP30=$X$3,IF(L30="",AN30*E30,AN30*L30),IF(AP30=$Z$3,IF(M30="",AN30*E30,AN30*M30),IF(AP30=$AB$3,IF(N30="",AN30*E30,AN30*N30),IF(AP30=$AD$3,IF(O30="",AN30*E30,AN30*O30),IF(AP30=$AF$3,IF(P30="",AN30*E30,AN30*P30),IF(AP30=$AH$3,IF(Q30="",AN30*E30,AN30*Q30),IF(AP30=$AJ$3,IF(R30="",AN30*E30,AN30*R30),IF(AP30=$AL$3,IF(S30="",AN30*E30,AN30*S30),""))))))))))) -> 1436.5798 | AP30: =IF(AN30="","",IF(AN30=T30,$T$3,IF(AN30=V30,$V$3,IF(AN30=X30,$X$3,IF(AN30=Z30,$Z$3,IF(AN30=AB30,$AB$3,IF(AN30=AD30,$AD$3,IF(AN30=AF30,$AF$3,IF(AN30=AH30,$AH$3,IF(AN30=AJ30,$AJ$3,IF(AN30=AL30,$AL$3,""))))))))))) -> CONSORCIO CHAQUICOCHA S.R.L. | AQ30: =IF($AQ$3="","",IF($AQ$3=$T$3,T30,IF($AQ$3=$V$3,V30,IF($AQ$3=$X$3,X30,IF($AQ$3=$Z$3,Z30,IF($AQ$3=$AB$3,AB30,IF($AQ$3=$AD$3,AD30,IF($AQ$3=$AF$3,AF30,IF($AQ$3=$AH$3,AH30,IF($AQ$3=$AJ$3,AJ30,IF($AQ$3=$AL$3,AL30,""))))))))))) -> 67.84 | AR30: =IF(AQ30="","",IF($AQ$3=$T$3,IF(J30="",AQ30*E30,AQ30*J30),IF($AQ$3=$V$3,IF(K30="",AQ30*E30,AQ30*K30),IF($AQ$3=$X$3,IF(L30="",AQ30*E30,AQ30*L30),IF($AQ$3=$Z$3,IF(M30="",AQ30*E30,AQ30*M30),IF($AQ$3=$AB$3,IF(N30="",AQ30*E30,AQ30*N30),IF($AQ$3=$AD$3,IF(O30="",AQ30*E30,AQ30*O30),IF($AQ$3=$AF$3,IF(P30="",AQ30*E30,AQ30*P30),IF($AQ$3=$AH$3,IF(Q30="",AQ30*E30,AQ30*Q30),IF($AQ$3=$AJ$3,IF(R30="",AQ30*E30,AQ30*R30),IF($AQ$3=$AL$3,IF(S30="",AQ30*E30,AQ30*S30),""))))))))))) -> 1436.5798 | AT30: Evaluar rendimiento de partida de encofrado para optimizar costos
B31: 1.4 | C31: DESCOLMATACIÓN DE CAUCE y OBRAS AUXILIARES | I31: =IF(H31="","",+H31*G31) | W31: =IF(K31="",IF(V31="","",E31*V31),K31*V31) | Y31: =IF(L31="",IF(X31="","",E31*X31),L31*X31) | AA31: =IF(M31="",IF(Z31="","",E31*Z31),M31*Z31) | AC31: =IF(N31="",IF(AB31="","",E31*AB31),N31*AB31) | AE31: =IF(O31="",IF(AD31="","",E31*AD31),O31*AD31) | AG31: =IF(P31="",IF(AF31="","",E31*AF31),P31*AF31) | AI31: =IF(Q31="",IF(AH31="","",E31*AH31),Q31*AH31) | AK31: =IF(R31="",IF(AJ31="","",E31*AJ31),R31*AJ31) | AM31: =IF(S31="",IF(AL31="","",E31*AL31),S31*AL31) | AN31: =IF(AND(T31="",V31="",Z31="",AB31="",X31="",AD31="",AF31="",AH31="",AJ31="",AL31=""),"",MIN(T31,V31,Z31,AB31,X31,AD31,AF31,AH31,AJ31,AL31)) | AO31: =IF(AN31="","",IF(AP31=$T$3,IF(J31="",+AN31*E31,AN31*J31),IF(AP31=$V$3,IF(K31="",AN31*E31,AN31*K31),IF(AP31=$X$3,IF(L31="",AN31*E31,AN31*L31),IF(AP31=$Z$3,IF(M31="",AN31*E31,AN31*M31),IF(AP31=$AB$3,IF(N31="",AN31*E31,AN31*N31),IF(AP31=$AD$3,IF(O31="",AN31*E31,AN31*O31),IF(AP31=$AF$3,IF(P31="",AN31*E31,AN31*P31),IF(AP31=$AH$3,IF(Q31="",AN31*E31,AN31*Q31),IF(AP31=$AJ$3,IF(R31="",AN31*E31,AN31*R31),IF(AP31=$AL$3,IF(S31="",AN31*E31,AN31*S31),""))))))))))) | AP31: =IF(AN31="","",IF(AN31=T31,$T$3,IF(AN31=V31,$V$3,IF(AN31=X31,$X$3,IF(AN31=Z31,$Z$3,IF(AN31=AB31,$AB$3,IF(AN31=AD31,$AD$3,IF(AN31=AF31,$AF$3,IF(AN31=AH31,$AH$3,IF(AN31=AJ31,$AJ$3,IF(AN31=AL31,$AL$3,"")))))))))))
B32: 1.4.1 | C32: DESBROCE Y LIMPIEZA EN ZONA NO BOSCOSA | D32: m2 | E32: 304613 | I32: =IF(H32="","",+H32*G32) | K32: 304613 | T32: 1.2 | U32: 365535.6 | W32: =IF(K32="",IF(V32="","",E32*V32),K32*V32) -> 0 | Y32: =IF(L32="",IF(X32="","",E32*X32),L32*X32) | AA32: =IF(M32="",IF(Z32="","",E32*Z32),M32*Z32) | AC32: =IF(N32="",IF(AB32="","",E32*AB32),N32*AB32) | AE32: =IF(O32="",IF(AD32="","",E32*AD32),O32*AD32) | AG32: =IF(P32="",IF(AF32="","",E32*AF32),P32*AF32) | AI32: =IF(Q32="",IF(AH32="","",E32*AH32),Q32*AH32) | AK32: =IF(R32="",IF(AJ32="","",E32*AJ32),R32*AJ32) | AM32: =IF(S32="",IF(AL32="","",E32*AL32),S32*AL32) | AN32: =IF(AND(T32="",V32="",Z32="",AB32="",X32="",AD32="",AF32="",AH32="",AJ32="",AL32=""),"",MIN(T32,V32,Z32,AB32,X32,AD32,AF32,AH32,AJ32,AL32)) -> 1.2 | AO32: =IF(AN32="","",IF(AP32=$T$3,IF(J32="",+AN32*E32,AN32*J32),IF(AP32=$V$3,IF(K32="",AN32*E32,AN32*K32),IF(AP32=$X$3,IF(L32="",AN32*E32,AN32*L32),IF(AP32=$Z$3,IF(M32="",AN32*E32,AN32*M32),IF(AP32=$AB$3,IF(N32="",AN32*E32,AN32*N32),IF(AP32=$AD$3,IF(O32="",AN32*E32,AN32*O32),IF(AP32=$AF$3,IF(P32="",AN32*E32,AN32*P32),IF(AP32=$AH$3,IF(Q32="",AN32*E32,AN32*Q32),IF(AP32=$AJ$3,IF(R32="",AN32*E32,AN32*R32),IF(AP32=$AL$3,IF(S32="",AN32*E32,AN32*S32),""))))))))))) -> 365535.6 | AP32: =IF(AN32="","",IF(AN32=T32,$T$3,IF(AN32=V32,$V$3,IF(AN32=X32,$X$3,IF(AN32=Z32,$Z$3,IF(AN32=AB32,$AB$3,IF(AN32=AD32,$AD$3,IF(AN32=AF32,$AF$3,IF(AN32=AH32,$AH$3,IF(AN32=AJ32,$AJ$3,IF(AN32=AL32,$AL$3,""))))))))))) -> CONSORCIO CHAQUICOCHA S.R.L. | AQ32: =IF($AQ$3="","",IF($AQ$3=$T$3,T32,IF($AQ$3=$V$3,V32,IF($AQ$3=$X$3,X32,IF($AQ$3=$Z$3,Z32,IF($AQ$3=$AB$3,AB32,IF($AQ$3=$AD$3,AD32,IF($AQ$3=$AF$3,AF32,IF($AQ$3=$AH$3,AH32,IF($AQ$3=$AJ$3,AJ32,IF($AQ$3=$AL$3,AL32,""))))))))))) -> 1.2 | AR32: =IF(AQ32="","",IF($AQ$3=$T$3,IF(J32="",AQ32*E32,AQ32*J32),IF($AQ$3=$V$3,IF(K32="",AQ32*E32,AQ32*K32),IF($AQ$3=$X$3,IF(L32="",AQ32*E32,AQ32*L32),IF($AQ$3=$Z$3,IF(M32="",AQ32*E32,AQ32*M32),IF($AQ$3=$AB$3,IF(N32="",AQ32*E32,AQ32*N32),IF($AQ$3=$AD$3,IF(O32="",AQ32*E32,AQ32*O32),IF($AQ$3=$AF$3,IF(P32="",AQ32*E32,AQ32*P32),IF($AQ$3=$AH$3,IF(Q32="",AQ32*E32,AQ32*Q32),IF($AQ$3=$AJ$3,IF(R32="",AQ32*E32,AQ32*R32),IF($AQ$3=$AL$3,IF(S32="",AQ32*E32,AQ32*S32),""))))))))))) -> 365535.6 | AT32: Evaluar optimización de cuadrilla de mano de obra
B33: 1.4.2 | C33: DESCOLMATACIÓN DE CAUCE NATURAL DEL RÍO LACRAMARCA | D33: m3 | E33: 116188.11 | I33: =IF(H33="","",+H33*G33) | K33: 116188.11 | T33: 6.25 | U33: 726175.69 | W33: =IF(K33="",IF(V33="","",E33*V33),K33*V33) -> 0 | Y33: =IF(L33="",IF(X33="","",E33*X33),L33*X33) | AA33: =IF(M33="",IF(Z33="","",E33*Z33),M33*Z33) | AC33: =IF(N33="",IF(AB33="","",E33*AB33),N33*AB33) | AE33: =IF(O33="",IF(AD33="","",E33*AD33),O33*AD33) | AG33: =IF(P33="",IF(AF33="","",E33*AF33),P33*AF33) | AI33: =IF(Q33="",IF(AH33="","",E33*AH33),Q33*AH33) | AK33: =IF(R33="",IF(AJ33="","",E33*AJ33),R33*AJ33) | AM33: =IF(S33="",IF(AL33="","",E33*AL33),S33*AL33) | AN33: =IF(AND(T33="",V33="",Z33="",AB33="",X33="",AD33="",AF33="",AH33="",AJ33="",AL33=""),"",MIN(T33,V33,Z33,AB33,X33,AD33,AF33,AH33,AJ33,AL33)) -> 6.25 | AO33: =IF(AN33="","",IF(AP33=$T$3,IF(J33="",+AN33*E33,AN33*J33),IF(AP33=$V$3,IF(K33="",AN33*E33,AN33*K33),IF(AP33=$X$3,IF(L33="",AN33*E33,AN33*L33),IF(AP33=$Z$3,IF(M33="",AN33*E33,AN33*M33),IF(AP33=$AB$3,IF(N33="",AN33*E33,AN33*N33),IF(AP33=$AD$3,IF(O33="",AN33*E33,AN33*O33),IF(AP33=$AF$3,IF(P33="",AN33*E33,AN33*P33),IF(AP33=$AH$3,IF(Q33="",AN33*E33,AN33*Q33),IF(AP33=$AJ$3,IF(R33="",AN33*E33,AN33*R33),IF(AP33=$AL$3,IF(S33="",AN33*E33,AN33*S33),""))))))))))) -> 726175.7 | AP33: =IF(AN33="","",IF(AN33=T33,$T$3,IF(AN33=V33,$V$3,IF(AN33=X33,$X$3,IF(AN33=Z33,$Z$3,IF(AN33=AB33,$AB$3,IF(AN33=AD33,$AD$3,IF(AN33=AF33,$AF$3,IF(AN33=AH33,$AH$3,IF(AN33=AJ33,$AJ$3,IF(AN33=AL33,$AL$3,""))))))))))) -> CONSORCIO CHAQUICOCHA S.R.L. | AQ33: =IF($AQ$3="","",IF($AQ$3=$T$3,T33,IF($AQ$3=$V$3,V33,IF($AQ$3=$X$3,X33,IF($AQ$3=$Z$3,Z33,IF($AQ$3=$AB$3,AB33,IF($AQ$3=$AD$3,AD33,IF($AQ$3=$AF$3,AF33,IF($AQ$3=$AH$3,AH33,IF($AQ$3=$AJ$3,AJ33,IF($AQ$3=$AL$3,AL33,""))))))))))) -> 6.25 | AR33: =IF(AQ33="","",IF($AQ$3=$T$3,IF(J33="",AQ33*E33,AQ33*J33),IF($AQ$3=$V$3,IF(K33="",AQ33*E33,AQ33*K33),IF($AQ$3=$X$3,IF(L33="",AQ33*E33,AQ33*L33),IF($AQ$3=$Z$3,IF(M33="",AQ33*E33,AQ33*M33),IF($AQ$3=$AB$3,IF(N33="",AQ33*E33,AQ33*N33),IF($AQ$3=$AD$3,IF(O33="",AQ33*E33,AQ33*O33),IF($AQ$3=$AF$3,IF(P33="",AQ33*E33,AQ33*P33),IF($AQ$3=$AH$3,IF(Q33="",AQ33*E33,AQ33*Q33),IF($AQ$3=$AJ$3,IF(R33="",AQ33*E33,AQ33*R33),IF($AQ$3=$AL$3,IF(S33="",AQ33*E33,AQ33*S33),""))))))))))) -> 726175.7
B34: 1.4.3 | C34: CONFORMACIÓN DE DESVIO EN CAUCE DE RÍO | D34: m3 | E34: 57167 | I34: =IF(H34="","",+H34*G34) | K34: 57167 | T34: 4.37 | U34: 249819.79 | W34: =IF(K34="",IF(V34="","",E34*V34),K34*V34) -> 0 | Y34: =IF(L34="",IF(X34="","",E34*X34),L34*X34) | AA34: =IF(M34="",IF(Z34="","",E34*Z34),M34*Z34) | AC34: =IF(N34="",IF(AB34="","",E34*AB34),N34*AB34) | AE34: =IF(O34="",IF(AD34="","",E34*AD34),O34*AD34) | AG34: =IF(P34="",IF(AF34="","",E34*AF34),P34*AF34) | AI34: =IF(Q34="",IF(AH34="","",E34*AH34),Q34*AH34) | AK34: =IF(R34="",IF(AJ34="","",E34*AJ34),R34*AJ34) | AM34: =IF(S34="",IF(AL34="","",E34*AL34),S34*AL34) | AN34: =IF(AND(T34="",V34="",Z34="",AB34="",X34="",AD34="",AF34="",AH34="",AJ34="",AL34=""),"",MIN(T34,V34,Z34,AB34,X34,AD34,AF34,AH34,AJ34,AL34)) -> 4.37 | AO34: =IF(AN34="","",IF(AP34=$T$3,IF(J34="",+AN34*E34,AN34*J34),IF(AP34=$V$3,IF(K34="",AN34*E34,AN34*K34),IF(AP34=$X$3,IF(L34="",AN34*E34,AN34*L34),IF(AP34=$Z$3,IF(M34="",AN34*E34,AN34*M34),IF(AP34=$AB$3,IF(N34="",AN34*E34,AN34*N34),IF(AP34=$AD$3,IF(O34="",AN34*E34,AN34*O34),IF(AP34=$AF$3,IF(P34="",AN34*E34,AN34*P34),IF(AP34=$AH$3,IF(Q34="",AN34*E34,AN34*Q34),IF(AP34=$AJ$3,IF(R34="",AN34*E34,AN34*R34),IF(AP34=$AL$3,IF(S34="",AN34*E34,AN34*S34),""))))))))))) -> 249819.79 | AP34: =IF(AN34="","",IF(AN34=T34,$T$3,IF(AN34=V34,$V$3,IF(AN34=X34,$X$3,IF(AN34=Z34,$Z$3,IF(AN34=AB34,$AB$3,IF(AN34=AD34,$AD$3,IF(AN34=AF34,$AF$3,IF(AN34=AH34,$AH$3,IF(AN34=AJ34,$AJ$3,IF(AN34=AL34,$AL$3,""))))))))))) -> CONSORCIO CHAQUICOCHA S.R.L. | AQ34: =IF($AQ$3="","",IF($AQ$3=$T$3,T34,IF($AQ$3=$V$3,V34,IF($AQ$3=$X$3,X34,IF($AQ$3=$Z$3,Z34,IF($AQ$3=$AB$3,AB34,IF($AQ$3=$AD$3,AD34,IF($AQ$3=$AF$3,AF34,IF($AQ$3=$AH$3,AH34,IF($AQ$3=$AJ$3,AJ34,IF($AQ$3=$AL$3,AL34,""))))))))))) -> 4.37 | AR34: =IF(AQ34="","",IF($AQ$3=$T$3,IF(J34="",AQ34*E34,AQ34*J34),IF($AQ$3=$V$3,IF(K34="",AQ34*E34,AQ34*K34),IF($AQ$3=$X$3,IF(L34="",AQ34*E34,AQ34*L34),IF($AQ$3=$Z$3,IF(M34="",AQ34*E34,AQ34*M34),IF($AQ$3=$AB$3,IF(N34="",AQ34*E34,AQ34*N34),IF($AQ$3=$AD$3,IF(O34="",AQ34*E34,AQ34*O34),IF($AQ$3=$AF$3,IF(P34="",AQ34*E34,AQ34*P34),IF($AQ$3=$AH$3,IF(Q34="",AQ34*E34,AQ34*Q34),IF($AQ$3=$AJ$3,IF(R34="",AQ34*E34,AQ34*R34),IF($AQ$3=$AL$3,IF(S34="",AQ34*E34,AQ34*S34),""))))))))))) -> 249819.79
B35: 1.4.4 | C35: RELLENO NO ESTRUCTURAL CON MATERIAL PROPIO | D35: m3 | E35: 57377 | I35: =IF(H35="","",+H35*G35) | K35: 57377 | T35: 3.94 | U35: 226065.38 | W35: =IF(K35="",IF(V35="","",E35*V35),K35*V35) -> 0 | Y35: =IF(L35="",IF(X35="","",E35*X35),L35*X35) | AA35: =IF(M35="",IF(Z35="","",E35*Z35),M35*Z35) | AC35: =IF(N35="",IF(AB35="","",E35*AB35),N35*AB35) | AE35: =IF(O35="",IF(AD35="","",E35*AD35),O35*AD35) | AG35: =IF(P35="",IF(AF35="","",E35*AF35),P35*AF35) | AI35: =IF(Q35="",IF(AH35="","",E35*AH35),Q35*AH35) | AK35: =IF(R35="",IF(AJ35="","",E35*AJ35),R35*AJ35) | AM35: =IF(S35="",IF(AL35="","",E35*AL35),S35*AL35) | AN35: =IF(AND(T35="",V35="",Z35="",AB35="",X35="",AD35="",AF35="",AH35="",AJ35="",AL35=""),"",MIN(T35,V35,Z35,AB35,X35,AD35,AF35,AH35,AJ35,AL35)) -> 3.94 | AO35: =IF(AN35="","",IF(AP35=$T$3,IF(J35="",+AN35*E35,AN35*J35),IF(AP35=$V$3,IF(K35="",AN35*E35,AN35*K35),IF(AP35=$X$3,IF(L35="",AN35*E35,AN35*L35),IF(AP35=$Z$3,IF(M35="",AN35*E35,AN35*M35),IF(AP35=$AB$3,IF(N35="",AN35*E35,AN35*N35),IF(AP35=$AD$3,IF(O35="",AN35*E35,AN35*O35),IF(AP35=$AF$3,IF(P35="",AN35*E35,AN35*P35),IF(AP35=$AH$3,IF(Q35="",AN35*E35,AN35*Q35),IF(AP35=$AJ$3,IF(R35="",AN35*E35,AN35*R35),IF(AP35=$AL$3,IF(S35="",AN35*E35,AN35*S35),""))))))))))) -> 226065.38 | AP35: =IF(AN35="","",IF(AN35=T35,$T$3,IF(AN35=V35,$V$3,IF(AN35=X35,$X$3,IF(AN35=Z35,$Z$3,IF(AN35=AB35,$AB$3,IF(AN35=AD35,$AD$3,IF(AN35=AF35,$AF$3,IF(AN35=AH35,$AH$3,IF(AN35=AJ35,$AJ$3,IF(AN35=AL35,$AL$3,""))))))))))) -> CONSORCIO CHAQUICOCHA S.R.L. | AQ35: =IF($AQ$3="","",IF($AQ$3=$T$3,T35,IF($AQ$3=$V$3,V35,IF($AQ$3=$X$3,X35,IF($AQ$3=$Z$3,Z35,IF($AQ$3=$AB$3,AB35,IF($AQ$3=$AD$3,AD35,IF($AQ$3=$AF$3,AF35,IF($AQ$3=$AH$3,AH35,IF($AQ$3=$AJ$3,AJ35,IF($AQ$3=$AL$3,AL35,""))))))))))) -> 3.94 | AR35: =IF(AQ35="","",IF($AQ$3=$T$3,IF(J35="",AQ35*E35,AQ35*J35),IF($AQ$3=$V$3,IF(K35="",AQ35*E35,AQ35*K35),IF($AQ$3=$X$3,IF(L35="",AQ35*E35,AQ35*L35),IF($AQ$3=$Z$3,IF(M35="",AQ35*E35,AQ35*M35),IF($AQ$3=$AB$3,IF(N35="",AQ35*E35,AQ35*N35),IF($AQ$3=$AD$3,IF(O35="",AQ35*E35,AQ35*O35),IF($AQ$3=$AF$3,IF(P35="",AQ35*E35,AQ35*P35),IF($AQ$3=$AH$3,IF(Q35="",AQ35*E35,AQ35*Q35),IF($AQ$3=$AJ$3,IF(R35="",AQ35*E35,AQ35*R35),IF($AQ$3=$AL$3,IF(S35="",AQ35*E35,AQ35*S35),""))))))))))) -> 226065.38
B36: 1.5 | C36: DIQUES DE TIERRA COMPACTADA CON ENROCADO | I36: =IF(H36="","",+H36*G36) | W36: =IF(K36="",IF(V36="","",E36*V36),K36*V36) | Y36: =IF(L36="",IF(X36="","",E36*X36),L36*X36) | AA36: =IF(M36="",IF(Z36="","",E36*Z36),M36*Z36) | AC36: =IF(N36="",IF(AB36="","",E36*AB36),N36*AB36) | AE36: =IF(O36="",IF(AD36="","",E36*AD36),O36*AD36) | AG36: =IF(P36="",IF(AF36="","",E36*AF36),P36*AF36) | AI36: =IF(Q36="",IF(AH36="","",E36*AH36),Q36*AH36) | AK36: =IF(R36="",IF(AJ36="","",E36*AJ36),R36*AJ36) | AM36: =IF(S36="",IF(AL36="","",E36*AL36),S36*AL36) | AN36: =IF(AND(T36="",V36="",Z36="",AB36="",X36="",AD36="",AF36="",AH36="",AJ36="",AL36=""),"",MIN(T36,V36,Z36,AB36,X36,AD36,AF36,AH36,AJ36,AL36)) | AO36: =IF(AN36="","",IF(AP36=$T$3,IF(J36="",+AN36*E36,AN36*J36),IF(AP36=$V$3,IF(K36="",AN36*E36,AN36*K36),IF(AP36=$X$3,IF(L36="",AN36*E36,AN36*L36),IF(AP36=$Z$3,IF(M36="",AN36*E36,AN36*M36),IF(AP36=$AB$3,IF(N36="",AN36*E36,AN36*N36),IF(AP36=$AD$3,IF(O36="",AN36*E36,AN36*O36),IF(AP36=$AF$3,IF(P36="",AN36*E36,AN36*P36),IF(AP36=$AH$3,IF(Q36="",AN36*E36,AN36*Q36),IF(AP36=$AJ$3,IF(R36="",AN36*E36,AN36*R36),IF(AP36=$AL$3,IF(S36="",AN36*E36,AN36*S36),""))))))))))) | AP36: =IF(AN36="","",IF(AN36=T36,$T$3,IF(AN36=V36,$V$3,IF(AN36=X36,$X$3,IF(AN36=Z36,$Z$3,IF(AN36=AB36,$AB$3,IF(AN36=AD36,$AD$3,IF(AN36=AF36,$AF$3,IF(AN36=AH36,$AH$3,IF(AN36=AJ36,$AJ$3,IF(AN36=AL36,$AL$3,"")))))))))))
B37: 1.5.1 | C37: DIQUE DE TIERRA COMPACTADA A3-D-01 | I37: =IF(H37="","",+H37*G37) | W37: =IF(K37="",IF(V37="","",E37*V37),K37*V37) | Y37: =IF(L37="",IF(X37="","",E37*X37),L37*X37) | AA37: =IF(M37="",IF(Z37="","",E37*Z37),M37*Z37) | AC37: =IF(N37="",IF(AB37="","",E37*AB37),N37*AB37) | AE37: =IF(O37="",IF(AD37="","",E37*AD37),O37*AD37) | AG37: =IF(P37="",IF(AF37="","",E37*AF37),P37*AF37) | AI37: =IF(Q37="",IF(AH37="","",E37*AH37),Q37*AH37) | AK37: =IF(R37="",IF(AJ37="","",E37*AJ37),R37*AJ37) | AM37: =IF(S37="",IF(AL37="","",E37*AL37),S37*AL37) | AN37: =IF(AND(T37="",V37="",Z37="",AB37="",X37="",AD37="",AF37="",AH37="",AJ37="",AL37=""),"",MIN(T37,V37,Z37,AB37,X37,AD37,AF37,AH37,AJ37,AL37)) | AO37: =IF(AN37="","",IF(AP37=$T$3,IF(J37="",+AN37*E37,AN37*J37),IF(AP37=$V$3,IF(K37="",AN37*E37,AN37*K37),IF(AP37=$X$3,IF(L37="",AN37*E37,AN37*L37),IF(AP37=$Z$3,IF(M37="",AN37*E37,AN37*M37),IF(AP37=$AB$3,IF(N37="",AN37*E37,AN37*N37),IF(AP37=$AD$3,IF(O37="",AN37*E37,AN37*O37),IF(AP37=$AF$3,IF(P37="",AN37*E37,AN37*P37),IF(AP37=$AH$3,IF(Q37="",AN37*E37,AN37*Q37),IF(AP37=$AJ$3,IF(R37="",AN37*E37,AN37*R37),IF(AP37=$AL$3,IF(S37="",AN37*E37,AN37*S37),""))))))))))) | AP37: =IF(AN37="","",IF(AN37=T37,$T$3,IF(AN37=V37,$V$3,IF(AN37=X37,$X$3,IF(AN37=Z37,$Z$3,IF(AN37=AB37,$AB$3,IF(AN37=AD37,$AD$3,IF(AN37=AF37,$AF$3,IF(AN37=AH37,$AH$3,IF(AN37=AJ37,$AJ$3,IF(AN37=AL37,$AL$3,"")))))))))))
