Workbook
Name costeIndirecto: [9]Resumen!$N$2
Name gastosGenerales: [9]Resumen!$N$3
Name noDefinido: [9]Resumen!$N$1
Name numero: #REF!
Name numero: #REF!
Name opex: [9]Resumen!$N$4
Name REVISION: [12]Portada!$H$39

Sheet Resumen
C2: FORMATO DE LISTA DE CANTIDADES | D2: CO-PE-1PE326-CO-LA-001
D3: Revisión 0
C4: “ENTREGA DE LAS DEFENSAS RIBEREÑAS DE LOS RÍOS CHICAMA Y VIRÚ (PAQUETE 9R-06)" | D4: Fecha: 18-01-23
B6: Cuenca Chicama : Paquete: 1-C Canteras de Roca
B9: Item | C9: Descripción | D9: Unidad | E9: Total | G9: Comentarios
B10: 1 | C10: OBRAS PROVISIONALES
B11: 1.01 | C11: Tramite, gestión y obtención de permisos para uso y adquisición de explosivos | D11: Glb | E11: 1 | G11: Incluye todos los gastos para obtener el permiso respectivo
B12: 1.02 | C12: Tramite, gestión y obtención de permisos para manipulación de explosivos | D12: Glb | E12: 1 | G12: Incluye todos los gastos para obtener el permiso respectivo
B13: 1.03 | C13: Tramite, gestión y obtención de permisos para almacenamiento y uso de polvorín | D13: Glb | E13: 1 | G13: Incluye todos los gastos para obtener el permiso respectivo
B14: 1.04 | C14: Tramite, gestión y obtención de permisos para explotación de canteras | D14: Glb | E14: 1 | G14: Incluye todos los gastos para obtener el permiso respectivo
B15: 2 | C15: OBRAS PRELIMINARES
B16: 2.01 | C16: Trazo y replanteo
B17: 2.0101 | C17: Trazo y replanteo topográfico al inicio de obra | D17: mes | E17: 0.5 | G17: Incluye equipos con certificado de calibración vigente, precisión de 2" y equipo de stand by
B18: 2.0102 | C18: Trazo y replanteo topográfico durante la ejecución de la obra | D18: mes | E18: 18.5 | G18: Incluye equipos con certificado de calibración vigente, precisión de 2" y equipo de stand by
B19: 2.0103 | C19: Levantamiento Topográfico final de obra | D19: mes | E19: 0.5 | G19: Incluye equipos con certificado de calibración vigente, precisión de 2" y equipo de stand by
B20: 2.02 | C20: Construcción de acceso nuevo
B21: 2.0201 | C21: Desbroce y remoción de suelo vegetal con equipo | D21: m2 | E21: 0 | G21: Incluye el carguío a volquete (no inc. Transporte)
B22: 2.0202 | C22: Transporte de material excedente a DMO, d≤1km | D22: m3xkm | E22: 0 | G22: Incluye el carguío a volquete (no inc. Transporte)
B23: 2.0203 | C23: Transporte de material excedente a DMO, d>1km | D23: m3xkm | E23: 0 | G23: Incluye el carguío a volquete (no inc. Transporte)
B24: 2.0204 | C24: Excavación en material común | D24: m3 | E24: 133392 | G24: Incluye el carguío a volquete (no inc. Transporte), no requiere pruebas QC/QA
B25: 2.0205 | C25: Excavación en roca fracturada | D25: m3 | E25: 5310.7 | G25: Incluye el carguío a volquete (no inc. Transporte), no requiere pruebas QC/QA
B26: 2.0206 | C26: Excavación en roca fija con martillo hidráulico | D26: m3 | E26: 11450.5 | G26: Incluye el carguío a volquete (no inc. Transporte), no requiere pruebas QC/QA
B27: 2.0207 | C27: Relleno compactado con equipo pesado para accesos | D27: m3 | E27: 12818 | G27: No incluye el material
B28: 2.0208 | C28: Proceso y selección de material propio | D28: m3 | E28: 12818 | G28: Incluye el procesamiento y el carguío a volquete (no inc. Transporte). El material será del cauce del rio
B29: 2.0209 | C29: Transporte de material propio para relleno, d≤1km | D29: m3xkm | E29: 12818 | G29: No incluye carguío. Considerar vigías y posibles interferencias
B30: 2.021 | C30: Transporte de material propio para relleno, d>1km | D30: m3xkm | E30: 12818 | G30: No incluye carguío. Considerar vigías y posibles interferencias
B31: 2.0211 | C31: Producción de material de préstamo | D31: m3 | E31: 0 | G31: No incluye carguío. Considerar vigías y posibles interferencias
B32: 2.0212 | C32: Transporte de material de préstamo, d≤1km | D32: m3xkm | E32: 0 | G32: No incluye carguío. Considerar vigías y posibles interferencias
... B39: 2.06 | C39: Desmovilización de equipos de obra | D39: Glb | E39: 1 | G39: Incluye desmovilización de equipos, contenedores, estructuras, etc. El APU debe contener el detalle de los equipos, estructuras, contenerdores y otros, así como el punto de llegada del transporte para la desmovilización
B40: 2.07 | C40: Construcción de campamentos, zonas de acopio e instalación de polvorín
B41: 2.0701 | C41: Conformación de terraplén para campamentos | D41: m2 | E41: 58225.5 | G41: Incluye nivelación y compactación de terreno
B42: 2.0702 | C42: Construcción de campamentos | D42: Glb | E42: 1 | G42: Incluye nivelación y compactación de terreno
B43: 2.0703 | C43: Mantenimiento de campamentos | D43: mes | E43: 19.5 | G43: Incluye la instalación de contenedores y todos los suministros que se requieran, deben de cumplir con todos los requisitos para polvorin según RS N° 123-2020-SUCAMEC.
B44: 2.0704 | C44: Desbroce y remoción de suelo vegetal con equipo | D44: m2 | E44: 0 | G44: Incluye suministro e instalación de contenedores, estructuras, servicios, tanques, agua, desague, comunicaciones, acopio de residuos, etc.
B45: 2.0705 | C45: Transporte de material excedente a DMO, d≤1km | D45: m3xkm | E45: 0 | G45: incluye suministro electrico, de agua, servicios, limpieza, etc.
B46: 2.0706 | C46: Transporte de material excedente a DMO, d>1km | D46: m3xkm | E46: 0 | G46: Incluye el carguío a volquete (no inc. Transporte)
B47: 2.0707 | C47: Construcción e implementación de polvorin | D47: Glb | E47: 1 | G47: Incluye todas las facilidades para el funcionmiento y otorgamiento del permiso de funcionamiento
B48: 2.0708 | C48: Transporte de material excedente a DME, d≤1km | D48: m3xkm | E48: 76192.6 | G48: No incluye carguío. Considerar vigías y posibles interferencias
B49: 2.0709 | C49: Transporte de material excedente a DME, d>1km | D49: m3xkm | E49: 76192.6 | G49: No incluye carguío. Considerar vigías y posibles interferencias
B50: 2.08 | C50: Conformación de plataforma para zonas de acopio
B51: 2.0801 | C51: Desbroce y remoción de suelo vegetal con equipo | D51: m2 | E51: 0 | G51: Incluye de conformación y nivelación
B52: 2.0802 | C52: Excavación en material común | D52: m3 | E52: 56215.6 | G52: Incluye el carguío a volquete (no inc. Transporte), no requiere pruebas QC/QA
B53: 2.0803 | C53: Relleno compactado con equipo pesado para plataforma de acopio | D53: m3 | E53: 134917.4 | G53: No incluye el material
B54: 2.0804 | C54: Suministro, construcción e instalación de cerco perímetrico | D54: m | E54: 9912.5 | G54: Incluye transporte a pie de obra y transporte interno.
B55: 2.0805 | C55: Suministro, construcción e instalación de garita de control de ingreso y salida | D55: Glb | E55: 1 | G55: Incluye transporte a pie de obra y transporte interno.
B56: 2.09 | C56: Implementación de controles ambientales durante la construcción | D56: mes | E56: 19.5 | G56: Incluye todo lo solicitado en el Anexo 02
B57: 2.1 | C57: Conformación de material excedente en DME y DMO | D57: m3 | E57: 2071672.3 | G57: Incluye la construcción de bermas perimetrales
B58: 2.11 | C58: Restauración y revegetación de áreas intervenidas | D58: m2 | E58: 0 | G58: Incluye trasnporte de top soil y semillas propias de la zona que estan dentro del top soil
B59: 3 | C59: EXPLOTACIÓN DE CANTERAS
B60: 3.01 | C60: Habilitación de cantera
B61: 3.0101 | C61: Desbroce y remoción de suelo vegetal con equipo | D61: m2 | E61: 0 | G61: Incluye corte de excedente de relleno en talud con excavadora
B62: 3.0102 | C62: Transporte de material excedente a DMO, d≤1km | D62: m3xkm | E62: 0 | G62: No incluye carguío. Considerar vigías y posibles interferencias
B63: 3.0103 | C63: Transporte de material excedente a DMO, d>1km | D63: m3xkm | E63: 0 | G63: No incluye carguío. Considerar vigías y posibles interferencias
B64: 3.0104 | C64: Excavación en material suelto | D64: m3 | E64: 99254.1 | G64: Incluye el carguío a volquete (no inc. Transporte), no requiere pruebas QC/QA
B65: 3.0105 | C65: Excavación en roca fracturada | D65: m3 | E65: 96895.4 | G65: Incluye el carguío a volquete (no inc. Transporte), no requiere pruebas QC/QA
B66: 3.0106 | C66: Perforación manual y voladura (habilitación de área de perforación para Rockdrill) | D66: m3 | E66: 190362.9 | G66: Considerar vigías
B67: 3.0107 | C67: Transporte de material excedente a DME, d≤1km | D67: m3xkm | E67: 386512.4 | G67: No incluye carguío. Considerar vigías y posibles interferencias
B68: 3.0108 | C68: Transporte de material excedente a DME, d>1km | D68: m3xkm | E68: 0 | G68: No incluye carguío. Considerar vigías y posibles interferencias
B69: 3.02 | C69: Producción material en cantera de cerro (macizo rocoso) | G69: Todas las áreas intervenidas
B70: 3.0201 | C70: Perforación, voladura, remoción, transporte y selección para Roca de 0.80 - 1.50 m | D70: ton | E70: 3072456.4 | G70: Considerar vigías
B71: 3.0202 | C71: Fracturación y selección de roca para gaviones de 0.15 - 0.20 m | D71: ton | E71: 540323.5 | G71: Incluye acopio de material
B72: 3.0203 | C72: Carguio de material remanente en acopio para eliminación | D72: m3 | E72: 1408015.3 | G72: No inlcuye el traslado.
B73: 3.0204 | C73: Transporte de material excedente a DME, d≤1km | D73: m3xkm | E73: 1408015.3 | G73: No incluye carguío. Considerar vigías y posibles interferencias
B74: 3.0205 | C74: Transporte de material excedente a DME, d>1km | D74: m3xkm | E74: 0 | G74: No incluye carguío. Considerar vigías y posibles interferencias
B75: 3.03 | C75: Producción material en cantera de cauce (boloneria suelta)
B76: 3.0301 | C76: Fracturación y selección de roca con martillo hidráulico | D76: ton | E76: 302043.1 | G76: Considerar vigías
B77: 3.0302 | C77: Carguio de material remanente en acopio para eliminación | D77: m3 | E77: 63616.8 | G77: Incluye acopio de material
B78: 3.0303 | C78: Transporte de material excedente a DME, d≤1km | D78: m3xkm | E78: 63616.8 | G78: No inlcuye el traslado.
B79: 3.0304 | C79: Transporte de material excedente a DME, d>1km | D79: m3xkm | E79: 0 | G79: No incluye carguío. Considerar vigías y posibles interferencias
B80: 3.04 | C80: Carguio de material acopiado
B81: 3.0401 | C81: Carguio de material acopiado | D81: ton | E81: 3914823 | G81: Incluye acopio de material
B82: 4 | C82: IMPLEMENTACION PARA CONTROL Y PESAJE DE ROCA
B83: 4.01 | C83: Instalación de Sistema de Pesaje
B84: 4.0101 | C84: Suministro, construcción, montaje e instalación de balanza, caseta y tablero de control de Pesaje | D84: Glb | E84: 1 | G84: Incluye todo los equipos y materiales para la construcción de la balanza
B85: 4.0102 | C85: Operación y control de Sistema de pesaje (Inc energia electrica e iluminacion de plataforma de acopio y Balanza) | D85: mes | E85: 19.5 | G85: Incluye todos los recursos para operar la balanza durante la jornada laboral propuesta.
B86: 5 | C86: PRUEBAS DE CONTROL DE CALIDAD
B87: 5.01 | C87: Ensayos de Roca | D87: Glb | E87: 1 | G87: Incluye todo lo inidcado en las Especificaciones Técnicas

Sheet Lista de partidas
B2: Lista de partidas | C2: Unidad
B3: Acondicionamiento de terrenos para DME y DMO | C3: =VLOOKUP(B3,Resumen!$C$15:$E$73,2,FALSE) -> #N/A
B4: Carguío de material seleccionado a zona de enrocado | C4: =VLOOKUP(B4,Resumen!$C$15:$E$73,2,FALSE) -> #N/A
B5: Carguío y Transporte de cantera a zona de acopio, d<=1km | C5: =VLOOKUP(B5,Resumen!$C$15:$E$73,2,FALSE) -> #N/A
B6: Carguío y Transporte de cantera a zona de acopio, d>1km | C6: =VLOOKUP(B6,Resumen!$C$15:$E$73,2,FALSE) -> #N/A
B7: Carguío y Transporte de material de descarte, d<=1km | C7: =VLOOKUP(B7,Resumen!$C$15:$E$73,2,FALSE) -> #N/A
B8: Carguío y Transporte de material de descarte, d>1km | C8: =VLOOKUP(B8,Resumen!$C$15:$E$73,2,FALSE) -> #N/A
B9: Conformación de material excedente en DME y DMO | C9: =VLOOKUP(B9,Resumen!$C$15:$E$73,2,FALSE) -> m3
B10: Conformación de plataforma para zonas de acopio | C10: =VLOOKUP(B10,Resumen!$C$15:$E$73,2,FALSE) -> 0
B11: Conformación de terraplén para campamentos y polvorin | C11: =VLOOKUP(B11,Resumen!$C$15:$E$73,2,FALSE) -> #N/A
B12: Construcción de campamentos | C12: =VLOOKUP(B12,Resumen!$C$15:$E$73,2,FALSE) -> #N/A
B13: Desbroce y remoción de suelo vegetal con equipo | C13: =VLOOKUP(B13,Resumen!$C$15:$E$73,2,FALSE) -> m2
B14: Desmovilización de equipos a obra | C14: =VLOOKUP(B14,Resumen!$C$15:$E$73,2,FALSE) -> #N/A
... B43: Trazo y replanteo topográfico durante la ejecución de obra | C43: =VLOOKUP(B43,Resumen!$C$15:$E$73,2,FALSE) -> #N/A
