Workbook
Name numero: #REF!
Name numero: #REF!
Name REVISION: [11]Portada!$H$39

Sheet EAP Chicama
A1: CHICAMA | B1: CUENCA CHICAMA
A2: 1 | B2: Estructura típica
A3: 1A-01 | B3: Dique de Retención (de concreto ciclópeo)
A4: 1A-01 -01 01 | B4: Construcción, mejoramiento y/o rehabilitación de acceso hasta dique de relleno | C4: km
A5: 1A-01 -01 02 | B5: Construcción de campamento provisional de obra
A6: 1A-01 -01 02.01 | B6: Terraplén para campamento provisional | C6: m2
A7: 1A-01 -01 02.02 | B7: Campamento | C7: m2
A8: 1A-01 -01 03 | B8: Desbroce y limpieza con equipo de suelo vegetal h=0.3m (área de influencia PIP) | C8: m2
A9: 1A-01 -01 04 | B9: Acopio de material orgánico en DMO distancia media …km | C9: m3
A10: 1A-01 -01 05 | B10: Excavación para fundación y empotramiento de dique de concreto (indicar el tipo de material y Fw)
A11: 1A-01 -01 05.01 | B11: Excavación hasta nivel de plataforma (indicar si incluye carguío o no dependiendo de la condición) | C11: m3
A12: 1A-01 -01 05.02 | B12: Excavación de base de dique | C12: m3
A13: 1A-01 -01 05.03 | B13: Excavación de uñas de empotramiento de dique h=2m | C13: m3
A14: 1A-01 -01 05.04 | B14: Excavación de uña de colchón de enrocado | C14: m3
A15: 1A-01 -01 05.05 | B15: Excavación en roca/material suelto en estribos de dique profundidad >=1m | C15: m3
A16: 1A-01 -01 05.06 | B16: Excavación para contradique | C16: m3
A17: 1A-01 -01 06 | B17: Conformación y compactación de superficie para fundación
A18: 1A-01 -01 06.01 | B18: Conformación y compactación de superficie para uñas y dique | C18: m2
A19: 1A-01 -01 06.02 | B19: Conformación y compactación de superficie para losa de disipación | C19: m2
A20: 1A-01 -01 06.03 | B20: Conformación y compactación de superficie para colchón de enrocado | C20: m2
A21: 1A-01 -01 07 | B21: Eliminación de material excedente | C21: m3
A22: 1A-01 -01 08 | B22: Colocación de concreto de solados y concreto de regularización
A23: 1A-01 -01 08.01 | B23: Colocación de concreto de regularización para uñas de empotramiento de dique | C23: m3
A24: 1A-01 -01 08.02 | B24: Solado para contradique | C24: m2
A25: 1A-01 -01 09 | B25: Encofrado y Desencofrado
A26: 1A-01 -01 09.01 | B26: Encofrado y desencofrado vertical de uñas de dique | C26: m2
A27: 1A-01 -01 09.02 | B27: Encofrado y desencofrado vertical de escalones de vertedero de dique | C27: m2
A28: 1A-01 -01 09.03 | B28: Encofrado y desencofrado de taludes de dique (1:2) | C28: m2
A29: 1A-01 -01 09.04 | B29: Encofrado y desencofrado vertical de corona de dique | C29: m2
A30: 1A-01 -01 09.05 | B30: Encofrado y desencofrado de contradique | C30: m2
A31: 1A-01 -01 09.06 | B31: Encofrado y desencofrado de muros guías del vertedero | C31: m2
A32: 1A-01 -01 10 | B32: Acero de refuerzo para concreto estructural
A33: 1A-01 -01 10.01 | B33: Habilitación de acero y/o suministro de acero habilitado puesto en obra | C33: kg
A34: 1A-01 -01 10.02 | B34: Colocación de acero estructural fy=4200kgf/cm2 para contradique | C34: kg
A35: 1A-01 -01 10.03 | B35: Colocación de acero estructural fy=4200kgf/cm2 para muros guías del vertedero | C35: kg
A36: 1A-01 -01 11 | B36: Concreto ciclópeo f´c=175kgf/cm2 + 30% PG
A37: 1A-01 -01 11.01 | B37: Colocación de C° Ciclópeo en uñas y base hasta Z1 | C37: m3
A38: 1A-01 -01 11.02 | B38: Colocación de C° Ciclópeo en cuerpo de dique hasta Z3 | C38: m3
A39: 1A-01 -01 11.03 | B39: Colocación de C° Ciclópeo de corona de dique hasta Z4 | C39: m3
A40: 1A-01 -01 11.04 | B40: Colocación de C° Ciclópeo de losa de disipación de energía | C40: m3
...

Sheet EAP Virú
A2: Paquete | B2: Descripición del paquete | C2: Und.
A3: VIRÚ | B3: CUENCA VIRÚ
A4: 1A | B4: Estructura típica de Quebradas Virú: Protección y Encauzamiento (DIQUES LONGITUDINALES)
B5: Construcción de defensas ribereñas en río/quebrada y encauzamiento
B6: Diques de encauzamiento y protección del río Carabamba Prog. 0+220 a. abajo @ 2+920 a. arriba
B7: Construcción, mejoramiento y/o rehabilitación de acceso hasta diques de relleno
B8: Construcción de campamento provisional de obra
B9: Terraplén para campamento provisional
B10: Campamento
B11: Desbroce y limpieza 110m de ancho | C11: m2
B12: Acopio de material orgánico en DMO
B13: Encauzamiento de aguas superficiales
B14: Descolmatación, limpieza y conformación del cauce | C14: m3
B15: Conformación y compactación de superficie para fundación | C15: m2
B16: Conformación de dique con material propio y material de préstamo | C16: m3
B17: Adecuación de depósito de material excedente (temporal) | C17: m3
B18: Eliminación de material excedente | C18: m3
B19: Perfilado de talud de cara húmeda de dique | C19: m2
B20: Excavación de uña antisocavante | C20: m3
B21: Conformación y perfilado de uña antisocavante
B22: Excavación de zanja para anclaje de geotextil
B23: Colocación de geotextil 400g/m2 en uña antisocavante y cara de dique | C23: m2
B24: Colocación de enrocado de protección en uña antisocavante (D=1.5m) | C24: m3
B25: Extracción y procesamiento de material para filtro | C25: m3
B26: Transporte de filtro desde cantera xxx (Dist. …km) | C26: m3
B27: Colocación de filtro (material de cantera) | C27: m3
B28: Producción en cantera para Enrocado de protección de diques con voladura | C28: m3
B29: Selección de material enrocado y acopio temporal
B30: Transporte de enrocado desde cantera yyy (Dist. …km) | C30: m3
B31: Colocación de enrocado de protección de dique (D=1m, e de 1m a 0.50m) | C31: m3
B32: Perfilado de talud de cara seca de dique | C32: m2
B33: Limpieza y entrega de obra
A35: 2 | B35: Estructura típica: Diques de Retención con GAVIONES
B36: Diques de encauzamiento y protección del río Carabamba Ciudad Prog. 0+000 @ 1+080
B37: Construcción, mejoramiento y/o rehabilitación de acceso hasta diques de relleno
B38: Construcción de campamento provisional de obra
B39: Terraplén para campamento provisional
B40: Campamento
B41: Desbroce y limpieza 30m de ancho | C41: m2
B42: Acopio de material orgánico en DMO
...

Sheet Resumen
C2: FORMATO C1- PROPUESTA ECONÓMICA | F2: CO-PE-1PE326-CM-HA-004
F3: Revisión 0
C4: “ENTREGA DE LAS DEFENSAS RIBEREÑAS DE LOS RÍOS CHICAMA Y VIRÚ (PAQUETE 9R-06)" | F4: Fecha: 09/03/2022
F5: Página 1 de 3
B9: Referencia: TDR-Anexo 13
C11: Proyecto: | D11: [Consignar número y nombre del proyecto]
C13: Paquete: | D13: [Consignar número y nombre del paquete]
C15: Río: | D15: [Consignar río Chicama o Virú]
C17: Cliente: | D17: OHLA
C19: Postor:
C21: Lugar:
C24: Plazo: | E24: días calendario
C27: Fecha de oferta:
C30: Fecha de inicio para la ejecución:
B34: A. | C34: TOTAL COSTO DIRECTO | F34: 0
B35: B. | C35: GASTOS GENERALES | F35: ='Gastos Generales'!I218 -> 14686432
B36: C. | C36: UTILIDAD | F36: 0
B37: D. | C37: TOTAL COSTO DETERMINADO (A+B+C) | F37: =F34+F35+F36 -> 14686432
B39: E. | C39: IGV (18% D) | E39: 0.18 | F39: =(F37+F38)*E39 -> 2643557.8
B41: F. | C41: TOTAL PRESUPUESTO INICIAL INCLUYE IGV (D+E) | F41: =F37+F38+F39 -> 17329990

Sheet Costo Directo
C2: FORMATO C1: PROPUESTA ECONÓMICA | F2: CO-PE-1PE326-CM-HA-004
F3: Revisión 0
C4: “ENTREGA DE LAS DEFENSAS RIBEREÑAS DE LOS RÍOS CHICAMA Y VIRÚ (PAQUETE 9R-06)" | F4: Fecha: 09/03/2022
F5: Página 2 de 3
B7: Proyecto: | C7: Mejoramiento y Ampliación del Servicio de protección contra inundaciones, en ambas márgenes del río Chicama, tramo de la desembocadura al Oceano Pacífico hasta el Puente Punta Moreno, distritos de Ascope, Chicama, Magdalena de Cao, Casa Grande, Santiago de Cao y San Benito, de la Provincia de Ascope del Departamento de la Libertad y la Provincia de Contumazá del Departamento de Cajamarca
B8: Río: | C8: Río Chicama
B9: N° del Paquete: | C9: Paquete N°06
B10: Nombre del Paquete: | C10: PY 03 - PQT 06 - Río Chicama - Tramo 01: Descolmatación y Encauzamiento 45+000 - 64+022
B12: Referencia: | C12: TDR Anexo 13
B13: PLANILLA DE COSTO DIRECTO
B15: Item | C15: Descripción | D15: Unidad | E15: Total | F15: P.U. (S/) | G15: Total (S/)
B16: 1 | C16: OBRAS PRELIMINARES
B17: 1.01 | C17: Trazo y replanteo topográfico al inicio de obra | D17: mes | E17: 0.5 | F17: 7543.31 | G17: =+ROUND(E17*F17,2) -> 3771.66
B18: 1.02 | C18: Trazo y replanteo topográfico durante la ejecución de obra | D18: mes | E18: 17.33 | F18: 7566.55 | G18: =+ROUND(E18*F18,2) -> 131128.31
B19: 1.03 | C19: Levantamiento topografico final de obra | D19: mes | E19: 0.5 | F19: 14449.31 | G19: =+ROUND(E19*F19,2) -> 7224.66
B20: 1.04 | C20: Cartel de Obra de 4.80 x 3.60 m | D20: und | E20: 1 | F20: 2926.5 | G20: =+ROUND(E20*F20,2) -> 2926.5
B21: 1.05 | C21: Construcción de acceso nuevo
B22: 1.0501 | C22: Excavación en material común para accesos | D22: m3 | E22: 4955.23 | F22: 8.97 | G22: =+ROUND(E22*F22,2) -> 44448.41
B23: 1.0502 | C23: Excavación en roca fracturada | D23: m3 | E23: 0 | F23: 26.91 | G23: =+ROUND(E23*F23,2) -> 0
B24: 1.0503 | C24: Excavación en roca fija con martillo hidráulico | D24: m3 | E24: 0 | F24: 56.06 | G24: =+ROUND(E24*F24,2) -> 0
B25: 1.0504 | C25: Relleno compactado con equipo pesado para accesos | D25: m3 | E25: 1238.81 | F25: 36.75 | G25: =+ROUND(E25*F25,2) -> 45526.27
B26: 1.0505 | C26: Proceso y selección de material propio | D26: m3 | E26: 1238.81 | F26: 9.7 | G26: =+ROUND(E26*F26,2) -> 12016.46
B27: 1.0506 | C27: Transporte de material propio para relleno, d≤1km | D27: m3xkm | E27: 1952.46 | F27: 4.39 | G27: =+ROUND(E27*F27,2) -> 8571.3
B28: 1.0507 | C28: Transporte de material propio para relleno, d>1km | D28: m3xkm | E28: 0 | F28: 2.19 | G28: =+ROUND(E28*F28,2) -> 0
B29: 1.0508 | C29: Producción de material de préstamo | D29: m3 | E29: 0 | F29: 9.7 | G29: =+ROUND(E29*F29,2) -> 0
B30: 1.0509 | C30: Transporte de material de préstamo, d≤1km | D30: m3xkm | E30: 0 | F30: 4.39 | G30: =+ROUND(E30*F30,2) -> 0
B31: 1.051 | C31: Transporte de material de préstamo, d>1km | D31: m3xkm | E31: 0 | F31: 2.19 | G31: =+ROUND(E31*F31,2) -> 0
B32: 1.0511 | C32: Transporte de material excedente a DME, d≤1km | D32: m3xkm | E32: 3716.42 | F32: 4.39 | G32: =+ROUND(E32*F32,2) -> 16315.08
B33: 1.0512 | C33: Transporte de material excedente a DME, d>1km | D33: m3xkm | E33: 148.66 | F33: 2.19 | G33: =+ROUND(E33*F33,2) -> 325.57
... B38: 1.0517 | C38: Habilitación de acceso temporal en cauce de río. (Inc. Colocación y Retiro de alcantarilla) | D38: mes | E38: 18.33 | F38: 15091.3 | G38: =+ROUND(E38*F38,2) -> 276623.53
B39: 1.06 | C39: Rehabilitación de accesos existentes
B40: 1.0601 | C40: Rehabilitación de accesos existentes | D40: km | E40: 39.37 | F40: 6502 | G40: =+ROUND(E40*F40,2) -> 255983.74
B41: 1.0602 | C41: Suministro, transporte de alcantarillas HDPE corrugada para cruce sobre canal | D41: und | E41: 2 | F41: 1854.36 | G41: =+ROUND(E41*F41,2) -> 3708.72
B42: 1.0603 | C42: Suministro, transporte de alcantarillas MCA para cruce sobre canal | D42: und | E42: 11 | F42: 3791.82 | G42: =+ROUND(E42*F42,2) -> 41710.02
B43: 1.07 | C43: Mantenimiento de accesos (L<15 km) | D43: mes | E43: 18.33 | F43: 9615.38 | G43: =+ROUND(E43*F43,2) -> 176249.92
B44: 1.08 | C44: Conformación de ataguía para desvío temporal de cauce de río | D44: m3 | E44: 133448.7 | F44: 5.29 | G44: =+ROUND(E44*F44,2) -> 705943.62
B45: 1.09 | C45: Señalización de obra | D45: mes | E45: 18.33 | F45: 6300 | G45: =+ROUND(E45*F45,2) -> 115479
B46: 1.1 | C46: Movilización de equipos a obra | D46: Glb | E46: 1 | F46: 202000 | G46: =+ROUND(E46*F46,2) -> 202000
B47: 1.11 | C47: Desmovilización de equipos a obra | D47: Glb | E47: 1 | F47: 202000 | G47: =+ROUND(E47*F47,2) -> 202000
B48: 1.12 | C48: Construcción de campamentos (talleres, almacenes y oficinas)
...

Sheet Gastos Generales
C1: FORMATO C1- PROPUESTA ECONÓMICA | H1: CO-PE-1PE326-CM-HA-004
H2: Revisión 0
C3: “ENTREGA DE LAS DEFENSAS RIBEREÑAS DE LOS RÍOS CHICAMA Y VIRÚ (PAQUETE 9R-06)" | H3: Fecha: 09/03/2022
H4: Página 3 de 3
A6: Proyecto: | C6: =+'Costo Directo'!C7 -> Mejoramiento y Ampliación del Servicio de protección contra inundaciones, en ambas márgenes del río Chicama, tramo de la desembocadura al Oceano Pacífico hasta el Puente Punta Moreno, distritos de Ascope, Chicama, Magdalena de Cao, Casa Grande, Santiago de Cao y San Benito, de la Provincia de Ascope del Departamento de la Libertad y la Provincia de Contumazá del Departamento de Cajamarca
A7: Río: | C7: =+'Costo Directo'!C8 -> Río Chicama
A8: N° del Paquete: | C8: =+'Costo Directo'!C9 -> Paquete N°06
A9: Nombre del Paquete: | C9: PY 03 - PQT 06 - Río Chicama - Tramo 01: Descolmatación y Encauzamiento 45+000 - 64+022
A11: Referencia: | B11: TDR Anexo 13
C12: PLANILLA DE GASTOS GENERALES - GESTIÓN
A13: Instrucciones para el llenado de la planilla: El Postor deberá llenar cada concepto de acuerdo a su estructura, considerando su personal clave, personal administrativo, personal indirecto de todas las áreas y los gastos no contemplados en el costo directo de suministro y construcción, incluidos gastos financieros, seguros, fianzas, etc. La planilla a continuación puede modificarse de acuerdo a las premisas que el Postor considere necesarias, las mismas que deben estar específicadas por área y con unidad de medida mensual o en porcentaje para el caso de gastos financieros. Se sugiere evitar costos globales y verificar que los gastos generales no dupliquen gastos considerados en la planilla de costo directo.
C15: GASTOS VARIABLES | H15: COSTO DIRECTO | I15: =+'Costo Directo'!G698 -> 1.0914526e+08
C17: GASTOS DE DIRECCION Y ADMINISTRACION DEL PROYECTO
A18: Item | B18: Descripción | D18: Unidad | E18: Personas | F18: % incidencia | G18: Tiempo (mes) | H18: Costo mensual (S/) | I18: Costo parcial (S/)
B19: Gerente de obra/Ingeniero Residente de obra | D19: mes | E19: 1 | F19: 1 | G19: 13 | H19: 15000 | I19: =E19*F19*G19*H19 -> 195000
B20: Administrador de Contrato (Abogado) | D20: mes | E20: 1 | F20: 1 | G20: 13 | H20: 12500 | I20: =E20*F20*G20*H20 -> 162500
B21: Administrador de Obra | D21: mes | E21: 1 | F21: 1 | G21: 13 | H21: 12500 | I21: =E21*F21*G21*H21 -> 162500
B22: Jefe de Oficina Técnica | D22: mes | E22: 1 | F22: 1 | G22: 13 | H22: 13000 | I22: =E22*F22*G22*H22 -> 169000
B23: Beneficios sociales | D23: glb | E23: 1 | F23: 0.42 | G23: 1 | H23: =+SUM(I19:I22) -> 689000 | I23: =E23*F23*G23*H23 -> 289380
B24: Alimentación y alojamiento Staff | D24: pers *mes | E24: 4 | F24: 1 | G24: 13 | H24: 1600 | I24: =+H24*G24*E24 -> 83200
B25: Viajes avión staff | D25: Unidad | E25: 1 | F25: 2 | G25: 13 | H25: 1100 | I25: =+H25*G25*E25 -> 14300
B26: Camionetas | D26: mes | E26: 1 | F26: 1 | G26: 13 | H26: 4500 | I26: =+H26*G26*E26 -> 58500
B27: Combustible vehículos para personal | D27: mes | E27: 1 | F27: 1 | G27: 13 | H27: 2800 | I27: =+H27*G27*E27 -> 36400
B28: Compra de agua | D28: mes | E28: 4 | F28: 1 | G28: 13 | H28: 150 | I28: =+H28*G28*E28 -> 7800
B29: Compra de material de oficina | D29: mes | E29: 4 | F29: 1 | G29: 13 | H29: 450 | I29: =+H29*G29*E29 -> 23400
B30: Equipo de computo | D30: mes | E30: 4 | F30: 1 | G30: 13 | H30: 500 | I30: =+H30*G30*E30 -> 26000
B31: Examenes medicos ocupacionales | D31: glb | E31: 1 | F31: 1 | G31: 1 | H31: =4*350 -> 1400 | I31: =+H31*G31*E31 -> 1400
H32: SUB TOTAL S/ | I32: =SUM(I19:I31) -> 1229380
C34: GASTOS DE OPERACIÓN - CONSTRUCCIÓN
A35: Item | B35: Descripción | D35: Unidad | E35: Personas | F35: % incidencia | G35: Tiempo (mes) | H35: Costo mensual (S/) | I35: Costo parcial (S/)
B36: Jefe de Frente | D36: mes | E36: 3 | F36: 1 | G36: 13 | H36: 9500 | I36: =E36*F36*G36*H36 -> 370500
B37: Jefe de Frente | D37: mes | E37: 1 | F37: 1 | G37: 10 | H37: 9500 | I37: =E37*F37*G37*H37 -> 95000
B38: Jefe de Frente | D38: mes | E38: 1 | F38: 1 | G38: 5 | H38: 9500 | I38: =E38*F38*G38*H38 -> 47500
B39: Supervisor Mov. Tierras (Turno Noche) | D39: mes | E39: 1 | F39: 1 | G39: 4 | H39: 9500 | I39: =E39*F39*G39*H39 -> 38000
B40: Control Documentario | D40: mes | E40: 1 | F40: 1 | G40: 13 | H40: 5500 | I40: =E40*F40*G40*H40 -> 71500
B41: Ingeniero Hidraulico | D41: mes | E41: 1 | F41: 1 | G41: 13 | H41: 9500 | I41: =E41*F41*G41*H41 -> 123500
B42: Ingeniero Control de Costos y Valorizaciones | D42: mes | E42: 1 | F42: 1 | G42: 13 | H42: 9500 | I42: =E42*F42*G42*H42 -> 123500
B43: Ingeniero Planeamiento | D43: mes | E43: 1 | F43: 1 | G43: 13 | H43: 9500 | I43: =E43*F43*G43*H43 -> 123500
B44: Cadista | D44: mes | E44: 1 | F44: 1 | G44: 13 | H44: 5500 | I44: =E44*F44*G44*H44 -> 71500
B45: Cadista | D45: mes | E45: 1 | F45: 1 | G45: 8 | H45: 5500 | I45: =E45*F45*G45*H45 -> 44000
...
