Workbook
Name foreign: #REF!
Name foreign: #REF!
Name foreign: #REF!
Name foreign: #REF!
Name foreign: #REF!
Name foreign: #REF!
Name foreign: #REF!
Name foreign: #REF!
Name foreign: #REF!
Name foreign: #REF!
Name foreign: #REF!
Name foreign: #REF!
Name foreign: #REF!
Name foreign: #REF!
Name foreign: #REF!
Name foreign: #REF!
Name foreign: #REF!
Name foreign: #REF!
Name foreign: #REF!
Name foreign: #REF!
Name foreign: #REF!
Name holydays: '[1]Data Set'!$A$2:$A$17

Sheet EV-07 y EV-08
E2: PROPUESTA ECONÓMICA
H8: FECHA: | I8: =TODAY() -> 45435
C9: EV-07 y EV-08
C10: ESTUDIO DE GEOLOGIA Y GEOTECNIA
C12: Ítem | D12: Actividad | G12: Unidad | H12: Cantidad | I12: Precio Tarifa (S/.) | J12: Sub Total Tarifa (S/.) | K12: Total Tarifa (S/.)
C15: 1.0. | D15: HONORARIOS PERSONAL PROFESIONAL | K15: =SUM(J16:J21) -> 33950
C17: 1.0.1 | D17: Técnico de suelos (supervisor de las calicatas) | G17: día | H17: 0 | I17: 120 | J17: =I17*H17 -> 0
C18: 1.0.2 | D18: Ingeniero Geólogo (supervisor máquina 1 - turno dia) | G18: día | H18: 35 | I18: 250 | J18: =I18*H18 -> 8750
C19: 1.0.3 | D19: Ingeniero Geólogo (supervisor máquina 2 - turno dia) | G19: día | H19: 35 | I19: 250 | J19: =I19*H19 -> 8750
C20: 1.0.4 | D20: Ingeniero Geólogo (supervisor máquina 3 - turno dia) | G20: día | H20: 35 | I20: 250 | J20: =I20*H20 -> 8750
C21: 1.0.5 | D21: Ingeniero de seguridad | G21: día | H21: 35 | I21: 220 | J21: =I21*H21 -> 7700
C22: 2.0. | D22: GASTOS OPERATIVOS | K22: =SUM(J23:J44) -> 405710
C24: 2.1.0 | D24: INVESTIGACIONES DE CAMPO GEOLOGICO-GEOTECNICO
C25: 2.1.1 | D25: Excavaciones a cielo abierto (Prof. 3.00 m) Inc. Logueo y muestra alterada. | G25: Und. | H25: 0 | I25: 500 | J25: =H25*I25 -> 0
C26: 2.1.2 | D26: Perforacion Diamantina vertical (HQ-NQ) - Incluye revestimiento. (24 perf. de prof variables) | G26: m. | H26: =270+320 -> 590 | I26: 400 | J26: =H26*I26 -> 236000
C27: 2.1.3 | D27: Ensayos de SPT o Cono Tipo Peck (cada 1.50 m.) | G27: Und. | H27: 390 | I27: 150 | J27: =H27*I27 -> 58500
C28: 2.1.4 | D28: Muestras Inalteradas, Shelby (incluye el parafinado, 1 Shellby por perforación) | G28: Und. | H28: 30 | I28: 200 | J28: =H28*I28 -> 6000
C29: 2.1.5 | D29: Suministro de agua a sondeos | G29: Und. | H29: 30 | I29: 500 | J29: =H29*I29 -> 15000
C30: 2.1.6 | D30: Cajas Portatestigos de polipropileno | G30: Und. | H30: 148 | I30: 50 | J30: =H30*I30 -> 7400
C31: 2.1.7 | D31: Estaciones geomecánicas | G31: Und. | H31: 0 | I31: 80 | J31: =H31*I31 -> 0
C32: 2.2.0 | D32: INVESTIGACIONES GEOFISICA
C33: 2.2.1 | D33: Refraccion Sismica | G33: m. | H33: =4*75+4*75+2*80+2*80 -> 920 | I33: 8 | J33: =H33*I33 -> 7360
C34: 2.2.2 | D34: MASW | G34: Und. | H34: 30 | I34: 900 | J34: =H34*I34 -> 27000
C35: 2.2.3 | D35: SEV | G35: Und. | H35: 0 | I35: 450 | J35: =H35*I35 -> 0
C36: 2.3.0 | D36: ENSAYOS DE LABORATORIO
C37: 2.3.1 | D37: Ensayos estándares (inc. granulometría por tamizado, clasificación SUCS, AASHTO, contenido de humedad y límites de Attemberg) | G37: Und. | H37: 90 | I37: 160 | J37: =H37*I37 -> 14400
C38: 2.3.2 | D38: Ensayos químicos (contenido de sulfatos y cloruros) | G38: Und | H38: 30 | I38: 140 | J38: =H38*I38 -> 4200
C39: 2.3.3 | D39: Corte directo | G39: Und | H39: =2*30 -> 60 | I39: 250 | J39: =H39*I39 -> 15000
C40: 2.3.4 | D40: Triaxial CU en suelo | G40: Und | H40: 3 | I40: 2200 | J40: =H40*I40 -> 6600
C41: 2.3.5 | D41: Compresión uniaxial en suelo | G41: Und. | H41: 10 | I41: 250 | J41: =H41*I41 -> 2500
C42: 2.3.6 | D42: Consolidación unidimensional | G42: Und | H42: 5 | I42: 600 | J42: =H42*I42 -> 3000
C43: 2.3.7 | D43: Compresión uniaxial en roca | G43: Und | H43: 5 | I43: 300 | J43: =H43*I43 -> 1500
C44: 2.3.8 | D44: Peso unitario, Absorción y Porosidad en roca | G44: Und. | H44: 5 | I44: 250 | J44: =H44*I44 -> 1250
C45: 3.0. | D45: GASTOS VARIOS | K45: =SUM(J46:J51) -> 101100 | N45: perforaciones
C47: 3.0.1 | D47: Camioneta o van, dos unidades (Combustible, Inc. Mantenimiento y Chofer) | G47: Dia | H47: 35 | I47: 600 | J47: =H47*I47 -> 21000 | N47: 590 m de perforacion
C48: 3.0.2 | D48: Alimentacion, Hospedaje (todos los frentes de trabajo) | G48: Glb | H48: 1 | I48: 24000 | J48: =H48*I48 -> 24000 | N48: avanzando una maquina 6m por dia
C49: 3.0.3 | D49: Traslados entre punto de perforaciones | G49: Und. | H49: 27 | I49: 500 | J49: =H49*I49 -> 13500 | N49: resulta 98 dias para una maquina
C50: 3.0.4 | D50: Vigilancia (3 personas ) | G50: Und. | H50: 35 | I50: 360 | J50: =H50*I50 -> 12600 | N50: entonces con 2 maquinas 50 dias
C51: 3.0.5 | D51: Movilizacion y desmovilizacion de equipos y personal (Lima-Obra-Lima) | G51: Und. | H51: 3 | I51: 10000 | J51: =H51*I51 -> 30000 | N51: entonces con 3 maquinas 35 dias
C52: 4.0. | D52: ELABORACION DE INFORMES DE INGENIERIA | K52: =SUM(J53:J55) -> 46000 | N52: trabajando una maquina se considera 6 dias de campo
...

Sheet Propuesta Económica
B2: PROPUESTA ECONÓMICA
B9: SERVICIO DE INVESTIGACIÓN GEOFISICA Y PERFORACIÓN DIAMANTINA EN CANTERAS DE ROCA VIRU Y CHICAMA
B11: Ítem | C11: Actividad | D11: Total S/
B13: 1 | C13: PAQUETE 1C - CANTERAS RIO VIRU
B14: 1.01 | C14: CERRO BLANCO 1-2 | D14: =+'ITEMIZADO CB 1-2'!J35 -> 0
B15: 1.02 | C15: CARABAMBA 1 | D15: =+'ITEMIZADO CARABAMBA1'!J24 -> 0
B16: 1.03 | C16: NIÑO BAJO | D16: =+'ITEMIZADO NIÑO BAJO'!J35 -> 0
B17: 1.04 | C17: TOMABAL 5 | D17: =+'ITEMIZADO TOMABAL 5'!J35 -> 0
B18: 1.05 | C18: CERRO BLANCO 3 | D18: =+'ITEMIZADO CB-3'!J35 -> 0
B19: 2 | C19: PAQ 1C - CANTERAS RIO CHICAMA
B20: 2.01 | C20: SAN BARTOLO 1 | D20: =+'ITEMIZADO SB1'!K35 -> 0
B21: 2.02 | C21: NUEVO ALTO PERU 3 | D21: =+'ITEMIZADO NAP3'!J35 -> 0
B22: 2.03 | C22: OSO 3 | D22: =+'ITEMIZADO OSO 3'!J35 -> 0
B23: 2.04 | C23: SANTANERO 1 | D23: =+'ITEMIZADO SANTANERO 1'!J35 -> 0
B24: 2.05 | C24: CALVAYUNQUE | D24: =+'ITEMIZADO CALVAYUNQUE'!J35 -> 0
B25: TOTAL S/ | D25: =+D14+D15+D16+D17+D18+D20+D21+D22+D23+D24 -> 0

Sheet METRADOS
B4: SERVICIO DE INVESTIGACIÓN GEOFISICA Y PERFORACIÓN DIAMANTINA EN CANTERAS DE ROCA VIRU Y CHICAMA
B5: ACTIVIDADES | C5: CANTIDADES | E5: PAQUETE 1C - CANTERAS RIO VIRU | J5: PAQUETE 1C - CANTERAS RIO CHICAMA
C6: UND | D6: TOTALES | E6: CERRO BLANCO 1-2 | F6: CARABAMBA 1 | G6: NIÑO BAJO | H6: TOMABAL 5 | I6: CERRO BLANCO 3 | J6: SAN BARTOLO 1 | K6: NUEVO ALTO PERU 3 | L6: OSO 3 | M6: SANTANERO 1 | N6: CALVAYUNQUE
B7: INVESTIGACIONES GEOFÍSICAS
B8: Refraccion Sismica | C8: ml | D8: =SUM(E8:N8) -> 7310 | E8: ='CB 1-2'!D8 -> 660 | F8: =CARABAMBA1!D8 -> 210 | G8: ='NIÑO BAJO'!D8 -> 360 | H8: ='TOMABAL 5'!$D$8 -> 420 | I8: ='CB-3'!D8 -> 870 | J8: ='SB1'!D8 -> 660 | K8: ='NAP 3'!D8 -> 1470 | L8: ='OSO 3'!D8 -> 980 | M8: ='SANTANERO 1'!D8 -> 720 | N8: =CALVAYUNQUE!D8 -> 960
B9: MASW -2D | C9: ml | D9: =SUM(E9:N9) -> 4320 | E9: ='CB 1-2'!D12 -> 480 | F9: =CARABAMBA1!D10 -> 240 | G9: ='NIÑO BAJO'!D11 -> 360 | H9: ='TOMABAL 5'!$D$11 -> 360 | I9: ='CB-3'!D13 -> 480 | J9: ='SB1'!D13 -> 480 | K9: ='NAP 3'!D16 -> 720 | L9: ='OSO 3'!D14 -> 480 | M9: ='SANTANERO 1'!D13 -> 240 | N9: =CALVAYUNQUE!D14 -> 480
B10: MASW | C10: Unid | D10: =SUM(E10:N10) -> 30 | E10: ='CB 1-2'!D17 -> 2 | F10: - | G10: ='NIÑO BAJO'!D15 -> 2 | H10: ='TOMABAL 5'!D15 -> 2 | I10: ='CB-3'!D18 -> 4 | J10: ='SB1'!D18 -> 4 | K10: ='NAP 3'!D23 -> 7 | L10: ='OSO 3'!D19 -> 3 | M10: ='SANTANERO 1'!D16 -> 2 | N10: =CALVAYUNQUE!D19 -> 4
B11: MAM | C11: Unid | D11: =SUM(E11:N11) -> 30 | E11: ='CB 1-2'!D17 -> 2 | F11: - | G11: ='NIÑO BAJO'!D15 -> 2 | H11: ='TOMABAL 5'!D15 -> 2 | I11: ='CB-3'!D18 -> 4 | J11: ='SB1'!D18 -> 4 | K11: ='NAP 3'!D23 -> 7 | L11: ='OSO 3'!D19 -> 3 | M11: ='SANTANERO 1'!D16 -> 2 | N11: =CALVAYUNQUE!D19 -> 4
B12: Perforación Diamantina
B13: Accesos a puntos de perforación
B14: Accesos de puntos de perforación | C14: Und. | D14: =SUM(E14:N14) -> 20 | E14: ='CB 1-2'!D25 -> 2 | G14: ='NIÑO BAJO'!D23 -> 2 | H14: ='TOMABAL 5'!D23 -> 2 | I14: ='CB-3'!D28 -> 2 | J14: ='SB1'!D28 -> 2 | K14: ='NAP 3'!D38 -> 4 | L14: ='OSO 3'!D28 -> 2 | M14: ='SANTANERO 1'!D24 -> 2 | N14: =CALVAYUNQUE!D29 -> 2
B15: Cambio de puntos de perforación | C15: Und. | D15: =SUM(E15:N15) -> 11 | E15: ='CB 1-2'!D26 -> 1 | G15: ='NIÑO BAJO'!D24 -> 1 | H15: ='TOMABAL 5'!D24 -> 1 | I15: ='CB-3'!D29 -> 1 | J15: ='SB1'!D29 -> 1 | K15: ='NAP 3'!D39 -> 3 | L15: ='OSO 3'!D29 -> 1 | M15: ='SANTANERO 1'!D25 -> 1 | N15: =CALVAYUNQUE!D30 -> 1
B16: Movilización y desmovilización de equipos de perforación | C16: Und. | D16: =SUM(E16:N16) -> 9 | E16: ='CB 1-2'!D27 -> 1 | G16: ='NIÑO BAJO'!D25 -> 1 | H16: ='TOMABAL 5'!D25 -> 1 | I16: ='CB-3'!D30 -> 1 | J16: ='SB1'!D30 -> 1 | K16: ='NAP 3'!D40 -> 1 | L16: ='OSO 3'!D30 -> 1 | M16: ='SANTANERO 1'!D26 -> 1 | N16: =CALVAYUNQUE!D31 -> 1
B17: Sondajes | C17: ml | D17: =SUM(E17:N17) -> 715 | E17: ='CB 1-2'!D21 -> 70 | G17: ='NIÑO BAJO'!D19 -> 70 | H17: ='TOMABAL 5'!D19 -> 60 | I17: ='CB-3'!D24 -> 70 | J17: ='SB1'!D24 -> 75 | K17: ='NAP 3'!D32 -> 150 | L17: ='OSO 3'!D24 -> 70 | M17: ='SANTANERO 1'!D20 -> 70 | N17: =CALVAYUNQUE!D25 -> 80
B18: Ensayos de Laboratorio de Mecanica de Rocas
B19: Propiedades físicas (Gravedad especifica, absorción y densidad) | C19: Und | D19: =SUM(E19:N19) -> 44 | E19: ='CB 1-2'!D29 -> 4 | G19: ='NIÑO BAJO'!D27 -> 4 | H19: ='TOMABAL 5'!D27 -> 4 | I19: ='CB-3'!D32 -> 4 | J19: ='SB1'!D32 -> 4 | K19: ='NAP 3'!D42 -> 9 | L19: ='OSO 3'!D32 -> 5 | M19: ='SANTANERO 1'!D28 -> 4 | N19: =CALVAYUNQUE!D33 -> 6
B20: Estudio petrográfico de la roca | C20: Und | D20: =SUM(E20:N20) -> 21 | E20: ='CB 1-2'!D30 -> 2 | F20: 0 | G20: ='NIÑO BAJO'!D28 -> 2 | H20: ='TOMABAL 5'!D28 -> 2 | I20: ='CB-3'!D33 -> 2 | J20: ='SB1'!D33 -> 2 | K20: ='NAP 3'!D43 -> 4 | L20: ='OSO 3'!D33 -> 2 | M20: ='SANTANERO 1'!D29 -> 2 | N20: =CALVAYUNQUE!D34 -> 3
B21: Ensayo de compresión simple (UCS) | C21: Und | D21: =SUM(E21:N21) -> 59 | E21: ='CB 1-2'!D31 -> 6 | F21: 0 | G21: ='NIÑO BAJO'!D29 -> 6 | H21: ='TOMABAL 5'!D29 -> 6 | I21: ='CB-3'!D34 -> 6 | J21: ='SB1'!D34 -> 6 | K21: ='NAP 3'!D44 -> 10 | L21: ='OSO 3'!D34 -> 6 | M21: ='SANTANERO 1'!D30 -> 7 | N21: =CALVAYUNQUE!D35 -> 6
B22: Ensayo de Abrasion (incluye rotura) | C22: Und | D22: =SUM(E22:N22) -> 59 | E22: ='CB 1-2'!D32 -> 6 | F22: 0 | G22: ='NIÑO BAJO'!D30 -> 6 | H22: ='TOMABAL 5'!D30 -> 6 | I22: ='CB-3'!D35 -> 6 | J22: ='SB1'!D35 -> 6 | K22: ='NAP 3'!D45 -> 10 | L22: ='OSO 3'!D35 -> 6 | M22: ='SANTANERO 1'!D31 -> 7 | N22: =CALVAYUNQUE!D36 -> 6
B23: Durabilidad | C23: Und | D23: =SUM(E23:N23) -> 59 | E23: ='CB 1-2'!D33 -> 6 | F23: 0 | G23: ='NIÑO BAJO'!D31 -> 6 | H23: ='TOMABAL 5'!D31 -> 6 | I23: ='CB-3'!D36 -> 6 | J23: ='SB1'!D36 -> 6 | K23: ='NAP 3'!D46 -> 10 | L23: ='OSO 3'!D36 -> 6 | M23: ='SANTANERO 1'!D32 -> 7 | N23: =CALVAYUNQUE!D37 -> 6

Sheet ITEMIZADO CB 1-2
B2: PROPUESTA ECONÓMICA VIRU: CANTERA CERRO BLANCO 1-2
B8: Ítem | C8: Actividad | F8: Unidad | G8: Cantidad | H8: Precio (S/) | I8: Sub Total (S/) | J8: Total (S/)
B11: 1 | C11: TRABAJOS PRELIMINARES | J11: =+I12 -> 0
C12: Movilización y desmovilización de equipos de perforación | F12: Und. | G12: ='CB 1-2'!D27 -> 1 | H12: 0 | I12: =+G12*H12 -> 0
B13: 2 | C13: TRABAJO DE CAMPO | J13: =+J14+J19+J24 -> 0
B14: 2.1 | C14: Investigacion geofísicas | J14: =+I15+I16+I17+I18 -> 0
B15: 2.1.1. | C15: Refraccion Sismica | F15: ml | G15: ='CB 1-2'!D8 -> 660 | H15: 0 | I15: =+G15*H15 -> 0
B16: 2.1.2. | C16: MASW -2D | F16: ml | G16: ='CB 1-2'!D12 -> 480 | H16: 0 | I16: =+G16*H16 -> 0
B17: 2.1.3. | C17: MASW | F17: Und | G17: ='CB 1-2'!D17 -> 2 | H17: 0 | I17: =+G17*H17 -> 0
B18: 2.1.4. | C18: MAM | F18: Und | G18: ='CB 1-2'!D17 -> 2 | H18: 0 | I18: =+G18*H18 -> 0
B19: 2.2 | C19: Perforación Diamantina | J19: =+I21+I22+I23 -> 0
B20: 2.2.1. | C20: Accesos a puntos de perforación
B21: 2.2.1.1. | C21: Accesos de puntos de perforación | F21: Und. | G21: ='CB 1-2'!D25 -> 2 | H21: 0 | I21: =+G21*H21 -> 0
B22: 2.2.1.2. | C22: Cambio de puntos de perforación | F22: Und. | G22: ='CB 1-2'!D26 -> 1 | H22: 0 | I22: =+G22*H22 -> 0
B23: 2.2.1.3. | C23: Sondajes | F23: ml | G23: ='CB 1-2'!D21 -> 70 | H23: 0 | I23: =+G23*H23 -> 0
B24: 2.3 | C24: Ensayos de Laboratorio de Mecanica de Rocas | J24: =+I25+I26+I27+I28+I29 -> 0
B25: 2.3.1. | C25: Propiedades físicas (Gravedad especifica, absorción y densidad) | F25: Und. | G25: ='CB 1-2'!D29 -> 4 | H25: 0 | I25: =+G25*H25 -> 0
B26: 2.3.2. | C26: Estudio petrográfico de la roca | F26: Und. | G26: ='CB 1-2'!D30 -> 2 | H26: 0 | I26: =+G26*H26 -> 0
B27: 2.3.3. | C27: Ensayo de compresión simple (UCS) | F27: Und. | G27: ='CB 1-2'!D31 -> 6 | H27: 0 | I27: =+G27*H27 -> 0
B28: 2.3.4. | C28: Ensayo de Abrasion (incluye rotura) | F28: Und. | G28: ='CB 1-2'!D32 -> 6 | H28: 0 | I28: =+G28*H28 -> 0
B29: 2.3.5. | C29: Durabilidad | F29: Und. | G29: ='CB 1-2'!D33 -> 6 | H29: 0 | I29: =+G29*H29 -> 0
B30: A. SUB TOTAL 1.0 + 2.0 | J30: =+J11+J13 -> 0
B31: B. GASTOS GENERALES | I31: 0 | J31: =+J30*I31 -> 0
B32: C. UTILIDAD | I32: 0 | J32: =+J30*I32 -> 0
B33: D. SUB TOTAL A+B+C | J33: =SUM(J30:J32) -> 0
B34: E. IGV | I34: 0.18 | J34: =+J33*I34 -> 0
B35: TOTAL (D+E) | J35: =SUM(J33+J34) -> 0

Sheet CB 1-2
B4: INVESTIGACIÓN GEOFISICA Y PERFORACIÓN DIAMANTINA EN CANTERAS DE CERRO BLANCO 1-2 - VIRÚ
B6: ACTIVIDADES | C6: CANTIDADES
B7: Investigaciones geofísicas | C7: und | D7: Longitud
B8: Refracción Sismica | C8: ml | D8: =SUM(D9:D11) -> 660
B9: LS-CB12-01 | D9: 240
B10: LS-CB12-02 | D10: 210
B11: LS-CB12-03 | D11: 210
B12: MASW -2D | C12: ml | D12: =SUM(D13:D16) -> 480
B13: MASW2D-CB12-01 | D13: 120
B14: MASW2D-CB12-02 | D14: 120
B15: MASW2D-CB12-03 | D15: 120
B16: MASW2D-CB12-04 | D16: 120
B17: MASW-MAM | C17: Unid | D17: =SUM(D18:D20) -> 2
B18: MASW-MAM-CB12-01 | D18: 1
B19: MASW-MAM-CB12-02 | D19: 1
B20: Perforación Diamantina
B21: Sondajes | C21: ml | D21: =SUM(D22:D23) -> 70
B22: SCB12-01 | D22: 30
B23: SCB12-02 | D23: 40
B24: Accesos a puntos de perforación
B25: Accesos de puntos de perforación | C25: Und. | D25: 2
B26: Cambio de puntos de perforación | C26: Und. | D26: 1
B27: Movilización y desmovilización de equipos de perforación | C27: Und. | D27: 1
B28: Ensayos de Laboratorio de Mecanica de Rocas
B29: Propiedades físicas (Gravedad especifica, absorción y densidad) | C29: Und. | D29: 4
B30: Estudio petrográfico de la roca | C30: Und. | D30: 2
B31: Ensayo de compresión simple (UCS) | C31: Und. | D31: 6
B32: Ensayo de Abrasion (incluye rotura) | C32: Und. | D32: 6
B33: Durabilidad | C33: Und. | D33: 6

Sheet ITEMIZADO CARABAMBA1
B2: PROPUESTA ECONÓMICA VIRU: CANTERA CARABAMBA 1
B8: Ítem | C8: Actividad | F8: Unidad | G8: Cantidad | H8: Precio (S/) | I8: Sub Total (S/) | J8: Total (S/)
B11: 1 | C11: TRABAJOS PRELIMINARES | J11: =+I12 -> 0
B12: 1.1 | C12: Movilización y desmovilización de equipos de perforación | F12: Und. | G12: 1 | H12: 0 | I12: =+G12*H12 -> 0
B13: 2 | C13: TRABAJO DE CAMPO | J13: =+J14 -> 0
B14: 2.1 | C14: Investigacion geofísicas | J14: =SUM(I15+I16) -> 0
B15: 2.1.1. | C15: Refraccion Sismica | F15: ml | G15: =CARABAMBA1!D8 -> 210 | H15: 0 | I15: =+G15*H15 -> 0
B16: 2.1.2. | C16: MASW -2D | F16: ml | G16: =CARABAMBA1!D10 -> 240 | H16: 0 | I16: =+G16*H16 -> 0
B17: 2.1.3. | C17: MASW | F17: Und
B18: 2.1.4. | C18: MAM | F18: Und
B19: A. SUB TOTAL 1.0 + 2.0 | J19: =SUM(J11+J13) -> 0
B20: B. GASTOS GENERALES | I20: 0 | J20: =+J19*I20 -> 0
B21: C. UTILIDAD | I21: 0 | J21: =+J19*I21 -> 0
B22: D. SUB TOTAL (A+B+C) | J22: =SUM(J19:J21) -> 0
B23: E. IGV | I23: 0.18 | J23: =+J22*I23 -> 0
B24: TOTAL (D+E) | J24: =SUM(J22+J23) -> 0

Sheet CARABAMBA1
B4: INVESTIGACIÓN GEOFISICA Y PERFORACIÓN DIAMANTINA EN CANTERAS DE CARABAMBA 1 - VIRÚ
B6: ACTIVIDADES | C6: CANTIDADES
B7: INVESTIGACIONES GEOFÍSICAS | C7: und | D7: Longitud
B8: Refracción Sismica | C8: ml | D8: =SUM(D9:D9) -> 210
B9: LS-C1-01 | D9: 210
B10: MASW -2D | C10: ml | D10: =SUM(D11:D12) -> 240
B11: MASW2D-C1-01 | D11: 120
B12: MASW2D-C1-01 | D12: 120

Sheet ITEMIZADO NIÑO BAJO
B2: PROPUESTA ECONÓMICA VIRU: CANTERA NIÑO BAJO
B8: Ítem | C8: Actividad | F8: Unidad | G8: Cantidad | H8: Precio (S/) | I8: Sub Total (S/) | J8: Total (S/)
B11: 1 | C11: TRABAJOS PRELIMINARES | J11: =+I12 -> 0
B12: 1.1. | C12: Movilización y desmovilización de equipos de perforación | F12: Und. | G12: ='NIÑO BAJO'!D25 -> 1 | H12: 0 | I12: =+G12*H12 -> 0
B13: 2 | C13: TRABAJO DE CAMPO | J13: =+J14+J19+J24 -> 0
B14: 2.1 | C14: Investigacion geofísicas | J14: =+I15+I16+I17+I18 -> 0
B15: 2.1.1. | C15: Refraccion Sismica | F15: ml | G15: ='NIÑO BAJO'!D8 -> 360 | H15: 0 | I15: =+G15*H15 -> 0
B16: 2.1.2. | C16: MASW -2D | F16: ml | G16: ='NIÑO BAJO'!D11 -> 360 | H16: 0 | I16: =+G16*H16 -> 0
B17: 2.1.3. | C17: MASW | F17: Und | G17: ='NIÑO BAJO'!D15 -> 2 | H17: 0 | I17: =+G17*H17 -> 0
B18: 2.1.4. | C18: MAM | F18: Und | G18: ='NIÑO BAJO'!D15 -> 2 | H18: 0 | I18: =+G18*H18 -> 0
B19: 2.2 | C19: Perforación Diamantina | J19: =+I21+I22+I23 -> 0
B20: 2.2.1. | C20: Accesos a puntos de perforación
B21: 2.2.2. | C21: Accesos de puntos de perforación | F21: Und. | G21: ='NIÑO BAJO'!D23 -> 2 | H21: 0 | I21: =+G21*H21 -> 0
B22: 2.2.3. | C22: Cambio de puntos de perforación | F22: Und. | G22: ='NIÑO BAJO'!D24 -> 1 | H22: 0 | I22: =+G22*H22 -> 0
B23: 2.2.4. | C23: Sondajes | F23: ml | G23: ='NIÑO BAJO'!D19 -> 70 | H23: 0 | I23: =+G23*H23 -> 0
B24: 2.3 | C24: Ensayos de Laboratorio de Mecanica de Rocas | J24: =+I25+I26+I27+I28+I29 -> 0
B25: 2.3.1. | C25: Propiedades físicas (Gravedad especifica, absorción y densidad) | F25: Und. | G25: ='NIÑO BAJO'!D27 -> 4 | H25: 0 | I25: =+G25*H25 -> 0
B26: 2.3.2. | C26: Estudio petrográfico de la roca | F26: Und. | G26: ='NIÑO BAJO'!D28 -> 2 | H26: 0 | I26: =+G26*H26 -> 0
B27: 2.3.3. | C27: Ensayo de compresión simple (UCS) | F27: Und. | G27: ='NIÑO BAJO'!D29 -> 6 | H27: 0 | I27: =+G27*H27 -> 0
B28: 2.3.4. | C28: Ensayo de Abrasion (incluye rotura) | F28: Und. | G28: ='NIÑO BAJO'!D30 -> 6 | H28: 0 | I28: =+G28*H28 -> 0
B29: 2.3.5. | C29: Durabilidad | F29: Und. | G29: ='NIÑO BAJO'!D31 -> 6 | H29: 0 | I29: =+G29*H29 -> 0
B30: A. SUB TOTAL 1.0 + 2.0 | J30: =SUM(J11+J13) -> 0
B31: B. GASTOS GENERALES | I31: 0 | J31: =+J30*I31 -> 0
B32: C. UTILIDAD | I32: 0 | J32: =+J30*I32 -> 0
B33: D. SUB TOTAL (A+B+C) | J33: =+J30+J31+J32 -> 0
B34: E. IGV | I34: 0.18 | J34: =+J33*I34 -> 0
B35: TOTAL (D+E) | J35: =+J33+J34 -> 0

Sheet NIÑO BAJO
B4: INVESTIGACIÓN GEOFISICA Y PERFORACIÓN DIAMANTINA EN CANTERAS DE ROCA - NIÑO BAJO - VIRÚ
B6: ACTIVIDADES | C6: CANTIDADES
B7: INVESTIGACIONES GEOFÍSICAS | C7: und | D7: Longitud
B8: Refracción Sismica | C8: ml | D8: =SUM(D9:D10) -> 360
B9: LS-NB-01 | D9: 240
B10: LS-NB-02 | D10: 120
B11: MASW -2D | C11: ml | D11: =SUM(D12:D14) -> 360
B12: MASW2D-NB-01 | D12: 120
B13: MASW2D-NB-02 | D13: 120
B14: MASW2D-NB-03 | D14: 120
B15: MASW-MAM | D15: =SUM(D16:D17) -> 2
B16: MASW-MAM-NB-01 | D16: 1
B17: MASW-MAM-NB-02 | D17: 1
B18: Perforación Diamantina
B19: Sondajes | C19: ml | D19: =SUM(D20:D21) -> 70
B20: SNB-01 | D20: 40
B21: SNB-02 | D21: 30
B22: Accesos a puntos de perforación
B23: Accesos de puntos de perforación | C23: Und. | D23: 2
B24: Cambio de puntos de perforación | C24: Und. | D24: 1
B25: Movilización y desmovilización de equipos de perforación | C25: Und. | D25: 1
B26: Ensayos de Laboratorio de Mecanica de Rocas
B27: Propiedades físicas (Gravedad especifica, absorción y densidad) | C27: Und. | D27: 4
B28: Estudio petrográfico de la roca | C28: Und. | D28: 2
B29: Ensayo de compresión simple (UCS) | C29: Und. | D29: 6
B30: Ensayo de Abrasion (incluye rotura) | C30: Und. | D30: 6
B31: Durabilidad | C31: Und. | D31: 6

Sheet ITEMIZADO TOMABAL 5
B2: PROPUESTA ECONÓMICA VIRU: CANTERA TOMABAL 5
B8: Ítem | C8: Actividad | F8: Unidad | G8: Cantidad | H8: Precio (S/) | I8: Sub Total (S/) | J8: Total (S/)
B11: 1 | C11: TRABAJOS PRELIMINARES | J11: =+I12 -> 0
C12: Movilización y desmovilización de equipos de perforación | F12: Und. | G12: ='TOMABAL 5'!D25 -> 1 | H12: 0 | I12: =+G12*H12 -> 0
B13: 2 | C13: TRABAJO DE CAMPO | J13: =+J14+J19+J24 -> 0
B14: 2.1 | C14: Investigacion geofísicas | J14: =+I15+I16+I17+I18 -> 0
B15: 2.1.1. | C15: Refraccion Sismica | F15: ml | G15: ='TOMABAL 5'!D8 -> 420 | H15: 0 | I15: =+G15*H15 -> 0
B16: 2.1.2. | C16: MASW -2D | F16: ml | G16: ='TOMABAL 5'!D11 -> 360 | H16: 0 | I16: =+G16*H16 -> 0
B17: 2.1.3. | C17: MASW | F17: Und | G17: ='TOMABAL 5'!D15 -> 2 | H17: 0 | I17: =+G17*H17 -> 0
B18: 2.1.4. | C18: MAM | F18: Und | G18: ='TOMABAL 5'!D15 -> 2 | H18: 0 | I18: =+G18*H18 -> 0
B19: 2.2 | C19: Perforación Diamantina | J19: =+I21+I22+I23 -> 0
B20: 2.2.1. | C20: Accesos a puntos de perforación
B21: 2.2.2. | C21: Accesos de puntos de perforación | F21: Und. | G21: ='TOMABAL 5'!D23 -> 2 | H21: 0 | I21: =+G21*H21 -> 0
B22: 2.2.3. | C22: Cambio de puntos de perforación | F22: Und. | G22: ='TOMABAL 5'!D24 -> 1 | H22: 0 | I22: =+G22*H22 -> 0
B23: 2.2.4. | C23: Sondajes | F23: ml | G23: ='TOMABAL 5'!D19 -> 60 | H23: 0 | I23: =+G23*H23 -> 0
B24: 2.3 | C24: Ensayos de Laboratorio de Mecanica de Rocas | J24: =+I25+I26+I27+I28+I29 -> 0
B25: 2.3.1. | C25: Propiedades físicas (Gravedad especifica, absorción y densidad) | F25: Und. | G25: ='TOMABAL 5'!D27 -> 4 | H25: 0 | I25: =+G25*H25 -> 0
B26: 2.3.2. | C26: Estudio petrográfico de la roca | F26: Und. | G26: ='TOMABAL 5'!D28 -> 2 | H26: 0 | I26: =+G26*H26 -> 0
B27: 2.3.3. | C27: Ensayo de compresión simple (UCS) | F27: Und. | G27: ='TOMABAL 5'!D29 -> 6 | H27: 0 | I27: =+G27*H27 -> 0
B28: 2.3.4. | C28: Ensayo de Abrasion (incluye rotura) | F28: Und. | G28: ='TOMABAL 5'!D30 -> 6 | H28: 0 | I28: =+G28*H28 -> 0
B29: 2.3.5. | C29: Durabilidad | F29: Und. | G29: ='TOMABAL 5'!D31 -> 6 | H29: 0 | I29: =+G29*H29 -> 0
B30: A. SUB TOTAL 1.0 + 2.0 | J30: =+J11+J13 -> 0
B31: B. GASTOS GENERALES | I31: 0 | J31: =+J30*I31 -> 0
B32: C. UTILIDAD | I32: 0 | J32: =+J30*I32 -> 0
B33: D. SUB TOTAL (A+B+C) | J33: =+J30+J31+J32 -> 0
B34: E. IGV | I34: 0.18 | J34: =+J33*I34 -> 0
B35: TOTAL (D+E) | J35: =+J33+J34 -> 0

Sheet TOMABAL 5
B4: INVESTIGACIÓN GEOFISICA Y PERFORACIÓN DIAMANTINA EN CANTERAS DE ROCA - TOMABAL 5 - VIRÚ
B6: ACTIVIDADES | C6: CANTIDADES
B7: INVESTIGACIONES GEOFÍSICAS | C7: und | D7: Longitud
B8: Refracción Sismica | C8: ml | D8: =SUM(D9:D10) -> 420
B9: LS-T5-01 | D9: 210
B10: LS-T5-02 | D10: 210
B11: MASW-2D | C11: ml | D11: =SUM(D12:D14) -> 360
B12: MASW2D-T5-01 | D12: 120
B13: MASW2D-T5-02 | D13: 120
B14: MASW2D-T5-03 | D14: 120
B15: MASW - MAM | C15: Unid | D15: =SUM(D16:D17) -> 2
B16: MASW-MAM-T5-01 | D16: 1
B17: MASW-MAM-T5-02 | D17: 1
B18: Perforación Diamantina
B19: Sondajes | C19: ml | D19: =SUM(D20:D21) -> 60
B20: ST5-01 | D20: 30
B21: ST5-02 | D21: 30
B22: Accesos a puntos de perforación
B23: Accesos de puntos de perforación | C23: Und. | D23: 2
B24: Cambio de puntos de perforación | C24: Und. | D24: 1
B25: Movilización y desmovilización de equipos de perforación | C25: Und. | D25: 1
B26: Ensayos de Laboratorio de Mecanica de Rocas
B27: Propiedades físicas (Gravedad especifica, absorción y densidad) | C27: Und. | D27: 4
B28: Estudio petrográfico de la roca | C28: Und. | D28: 2
B29: Ensayo de compresión simple (UCS) | C29: Und. | D29: 6
B30: Ensayo de Abrasion (incluye rotura) | C30: Und. | D30: 6
B31: Durabilidad | C31: Und. | D31: 6

Sheet ITEMIZADO CB-3
B2: PROPUESTA ECONÓMICA VIRU: CERRO BLANCO 3
B8: Ítem | C8: Actividad | F8: Unidad | G8: Cantidad | H8: Precio (S/) | I8: Sub Total (S/) | J8: Total (S/)
B11: 1 | C11: TRABAJOS PRELIMINARES | J11: =+I12 -> 0
C12: Movilización y desmovilización de equipos de perforación | F12: Und. | G12: ='CB-3'!D30 -> 1 | I12: =+G12*H12 -> 0
B13: 2 | C13: TRABAJO DE CAMPO | J13: =+J14+J19+J24 -> 0
B14: 2.1 | C14: Investigacion geofísicas | J14: =+I15+I16+I17+I18 -> 0
B15: 2.1. | C15: Refraccion Sismica | F15: ml | G15: ='CB-3'!D8 -> 870 | H15: 0 | I15: =+G15*H15 -> 0
B16: 2.2. | C16: MASW -2D | F16: ml | G16: ='CB-3'!D13 -> 480 | H16: 0 | I16: =+G16*H16 -> 0
B17: 2.3. | C17: MASW | F17: Und | G17: ='CB-3'!D18 -> 4 | H17: 0 | I17: =+G17*H17 -> 0
B18: 2.4. | C18: MAM | F18: Und | G18: ='CB-3'!D18 -> 4 | H18: 0 | I18: =+G18*H18 -> 0
B19: 2.2 | C19: Perforación Diamantina | J19: =+I21+I22+I23 -> 0
B20: 2.2.1. | C20: Accesos a puntos de perforación
B21: 2.2.2 | C21: Accesos de puntos de perforación | F21: Und. | G21: ='CB-3'!D28 -> 2 | H21: 0 | I21: =+G21*H21 -> 0
B22: 2.2.3. | C22: Cambio de puntos de perforación | F22: Und. | G22: ='CB-3'!D29 -> 1 | H22: 0 | I22: =+G22*H22 -> 0
B23: 2.2.4. | C23: Sondajes | F23: ml | G23: ='CB-3'!D24 -> 70 | H23: 0 | I23: =+G23*H23 -> 0
B24: 2.3 | C24: Ensayos de Laboratorio de Mecanica de Rocas | J24: =+I25+I26+I27+I28+I29 -> 0
B25: 2.3.1. | C25: Propiedades físicas (Gravedad especifica, absorción y densidad) | F25: Und. | G25: ='CB-3'!D32 -> 4 | H25: 0 | I25: =+G25*H25 -> 0
B26: 2.3.2. | C26: Estudio petrográfico de la roca | F26: Und. | G26: ='CB-3'!D33 -> 2 | H26: 0 | I26: =+G26*H26 -> 0
B27: 2.3.3. | C27: Ensayo de compresión simple (UCS) | F27: Und. | G27: ='CB-3'!D34 -> 6 | H27: 0 | I27: =+G27*H27 -> 0
B28: 2.3.4. | C28: Ensayo de Abrasion (incluye rotura) | F28: Und. | G28: ='CB-3'!D35 -> 6 | H28: 0 | I28: =+G28*H28 -> 0
B29: 2.3.5. | C29: Durabilidad | F29: Und. | G29: ='CB-3'!D36 -> 6 | H29: 0 | I29: =+G29*H29 -> 0
B30: A. SUB TOTAL 1.0 + 2.0 | J30: =+J11+J13 -> 0
B31: B. GASTOS GENERALES | I31: 0 | J31: =+J30*I31 -> 0
B32: C. UTILIDAD | I32: 0 | J32: =+J30*I32 -> 0
B33: D. SUB TOTAL (A+B+C) | J33: =+J30+J31+J32 -> 0
B34: E. IGV | I34: 0.18 | J34: =+J33*I34 -> 0
B35: TOTAL (D+E) | J35: =+J33+J34 -> 0

Sheet CB-3
B4: INVESTIGACIÓN GEOFISICA Y PERFORACIÓN DIAMANTINA EN CANTERAS DE ROCA - CERRO BLANCO 3 - VIRÚ
B6: ACTIVIDADES | C6: CANTIDADES
B7: INVESTIGACIONES GEOFÍSICAS | C7: und | D7: Longitud
B8: Refracción Sismica | C8: ml | D8: =SUM(D9:D12) -> 870
B9: LS-CB3-01 | D9: 240
B10: LS-CB3-02 | D10: 240
B11: LS-CB3-03 | D11: 240
B12: LS-CB3-04 | D12: 150
B13: MASW -2D | C13: ml | D13: =SUM(D14:D17) -> 480
B14: MASW2D-CB3-01 | D14: 120
B15: MASW2D-CB3-02 | D15: 120
B16: MASW2D-CB3-03 | D16: 120
B17: MASW2D-CB3-04 | D17: 120
B18: MASW - MAM | C18: und | D18: =SUM(D19:D22) -> 4
B19: MAM-MASW-CB3-01 | D19: 1
B20: MAM-MASW-CB3-02 | D20: 1
B21: MAM-MASW-CB3-03 | D21: 1
B22: MAM-MASW-CB3-04 | D22: 1
B23: Perforación Diamantina
B24: Sondajes | C24: ml | D24: =SUM(D25:D26) -> 70
B25: SCB3-01 | D25: 30
B26: SCB3-02 | D26: 40
B27: Accesos a puntos de perforación
B28: Accesos de puntos de perforación | C28: Und. | D28: 2
B29: Cambio de puntos de perforación | C29: Und. | D29: 1
B30: Movilización y desmovilización de equipos de perforación | C30: Und. | D30: 1
B31: Ensayos de Laboratorio de Mecanica de Rocas
B32: Propiedades físicas (Gravedad especifica, absorción y densidad) | C32: Und. | D32: 4
B33: Estudio petrográfico de la roca | C33: Und. | D33: 2
B34: Ensayo de compresión simple (UCS) | C34: Und. | D34: 6
B35: Ensayo de Abrasion (incluye rotura) | C35: Und. | D35: 6
B36: Durabilidad | C36: Und. | D36: 6

Sheet ITEMIZADO SB1
C2: PROPUESTA ECONÓMICA CHICAMA: CANTERA SAN BARTOLO 1
C8: Ítem | D8: Actividad | G8: Unidad | H8: Cantidad | I8: Precio (S/) | J8: Sub Total (S/) | K8: Total (S/)
C11: 1 | D11: TRABAJOS PRELIMINARES | K11: =+J12 -> 0
D12: Movilización y desmovilización de equipos de perforación | G12: Und. | H12: ='SB1'!D30 -> 1 | J12: =+H12*I12 -> 0
C13: 2 | D13: TRABAJO DE CAMPO | K13: =+K14+K19+K24 -> 0
C14: 2.1 | D14: Investigacion geofísicas | K14: =+J15+J16+J17+J18 -> 0
D15: Refraccion Sismica | G15: ml | H15: ='SB1'!D8 -> 660 | I15: 0 | J15: =+H15*I15 -> 0
D16: MASW -2D | G16: ml | H16: ='SB1'!D13 -> 480 | I16: 0 | J16: =+H16*I16 -> 0
D17: MASW | G17: Und | H17: ='SB1'!D18 -> 4 | I17: 0 | J17: =+H17*I17 -> 0
D18: MAM | G18: Und | H18: ='SB1'!D18 -> 4 | I18: 0 | J18: =+H18*I18 -> 0
C19: 2.2 | D19: Perforación Diamantina | K19: =+J20+J21+J22+J23 -> 0
D20: Accesos a puntos de perforación
D21: Accesos de puntos de perforación | G21: Und. | H21: ='SB1'!D28 -> 2 | I21: 0 | J21: =+H21*I21 -> 0
D22: Cambio de puntos de perforación | G22: Und. | H22: ='SB1'!D29 -> 1 | I22: 0 | J22: =+H22*I22 -> 0
D23: Sondajes | G23: ml | H23: ='SB1'!D24 -> 75 | I23: 0 | J23: =+H23*I23 -> 0
C24: 2.3 | D24: Ensayos de Laboratorio de Mecanica de Rocas | K24: =+J25+J26+J27+J28+J29 -> 0
D25: Propiedades físicas (Gravedad especifica, absorción y densidad) | G25: Und. | H25: ='SB1'!D32 -> 4 | I25: 0 | J25: =+H25*I25 -> 0
D26: Estudio petrográfico de la roca | G26: Und. | H26: ='SB1'!D33 -> 2 | I26: 0 | J26: =+H26*I26 -> 0
D27: Ensayo de compresión simple (UCS) | G27: Und. | H27: ='SB1'!D34 -> 6 | I27: 0 | J27: =+H27*I27 -> 0
D28: Ensayo de Abrasion (incluye rotura) | G28: Und. | H28: ='SB1'!D35 -> 6 | I28: 0 | J28: =+H28*I28 -> 0
D29: Durabilidad | G29: Und. | H29: ='SB1'!D36 -> 6 | I29: 0 | J29: =+H29*I29 -> 0
C30: A. SUB TOTAL 1.0 + 2.0 | K30: =+K11+K13 -> 0
C31: B. GASTOS GENERALES | J31: 0 | K31: =+K30*J31 -> 0
C32: C. UTILIDAD | J32: 0 | K32: =+K30*J32 -> 0
C33: D. SUB TOTAL (A+B+C) | K33: =+K30+K31+K32 -> 0
C34: E. IGV | J34: 0.18 | K34: =+K33*J34 -> 0
C35: TOTAL (D+E) | K35: =+K33+K34 -> 0

Sheet SB1
B4: INVESTIGACIÓN GEOFISICA Y PERFORACIÓN DIAMANTINA EN CANTERAS DE ROCA SAN BARTOLO 1 - CHICAMA
B6: ACTIVIDADES | C6: CANTIDADES
B7: INVESTIGACIONES GEOFÍSICAS | C7: und | D7: Longitud
B8: Refracción Sismica | C8: ml | D8: =SUM(D9:D12) -> 660
B9: LS-SB1-01 | D9: 240
B10: LS-SB1-02 | D10: 150
B11: LS-SB1-03 | D11: 150
B12: LS-SB1-04 | D12: 120
B13: MASW -2D | C13: ml | D13: =SUM(D14:D17) -> 480
B14: MASW2D-SB1-01 | D14: 120
B15: MASW2D-SB1-02 | D15: 120
B16: MASW2D-SB1-03 | D16: 120
B17: MASW2D-SB1-04 | D17: 120
B18: MASW-MAM | C18: Unid | D18: =SUM(D19:D22) -> 4
B19: MASW-MAM-SB1-01 | D19: 1
B20: MASW-MAM-SB1-02 | D20: 1
B21: MASW-MAM-SB1-03 | D21: 1
B22: MASW-MAM-SB1-04 | D22: 1
B23: Perforación Diamantina
B24: Sondajes | C24: ml | D24: =SUM(D25:D26) -> 75
B25: SSB1-01 | D25: 35
B26: SSB1-02 | D26: 40
B27: Accesos a puntos de perforación
B28: Accesos de puntos de perforación | C28: Und. | D28: 2
B29: Cambio de puntos de perforación | C29: Und. | D29: 1
B30: Movilización y desmovilización de equipos de perforación | C30: Und. | D30: 1
B31: Ensayos de Laboratorio de Mecanica de Rocas
B32: Propiedades físicas (Gravedad especifica, absorción y densidad) | C32: Und. | D32: 4
B33: Estudio petrográfico de la roca | C33: Und. | D33: 2
B34: Ensayo de compresión simple (UCS) | C34: Und. | D34: 6
B35: Ensayo de Abrasion (incluye rotura) | C35: Und. | D35: 6
B36: Durabilidad | C36: Und. | D36: 6

Sheet ITEMIZADO NAP3
B2: PROPUESTA ECONÓMICA CHICAMA: CANTERA NUEVO ALTO PERU 3
B8: Ítem | C8: Actividad | F8: Unidad | G8: Cantidad | H8: Precio (S/) | I8: Sub Total (S/) | J8: Total (S/)
B11: 1 | C11: TRABAJOS PRELIMINARES | J11: =+I12 -> 0
C12: Movilización y desmovilización de equipos de perforación | F12: Und. | G12: ='NAP 3'!D40 -> 1 | H12: 0 | I12: =+G12*H12 -> 0
B13: 2 | C13: TRABAJO DE CAMPO | J13: =+J14+J19+J24 -> 0
B14: 2.1 | C14: Investigacion geofísicas | J14: =+I15+I16+I17+I18 -> 0
C15: Refraccion Sismica | F15: ml | G15: ='NAP 3'!D8 -> 1470 | H15: 0 | I15: =+G15*H15 -> 0
C16: MASW -2D | F16: ml | G16: ='NAP 3'!D16 -> 720 | H16: 0 | I16: =+G16*H16 -> 0
C17: MASW | F17: Und | G17: ='NAP 3'!D23 -> 7 | H17: 0 | I17: =+G17*H17 -> 0
C18: MAM | F18: Und | G18: ='NAP 3'!D23 -> 7 | H18: 0 | I18: =+G18*H18 -> 0
B19: 2.2 | C19: Perforación Diamantina | J19: =+I20+I21+I22+I23 -> 0
C20: Accesos a puntos de perforación
C21: Accesos de puntos de perforación | F21: Und. | G21: ='NAP 3'!D38 -> 4 | H21: 0 | I21: =+G21*H21 -> 0
C22: Cambio de puntos de perforación | F22: Und. | G22: ='NAP 3'!D39 -> 3 | H22: 0 | I22: =+G22*H22 -> 0
C23: Sondajes | F23: ml | G23: ='NAP 3'!D32 -> 150 | H23: 0 | I23: =+G23*H23 -> 0
B24: 2.3 | C24: Ensayos de Laboratorio de Mecanica de Rocas | J24: =+I25+I26+I27+I28+I29 -> 0
C25: Propiedades físicas (Gravedad especifica, absorción y densidad) | F25: Und. | G25: ='NAP 3'!D42 -> 9 | H25: 0 | I25: =+G25*H25 -> 0
C26: Estudio petrográfico de la roca | F26: Und. | G26: ='NAP 3'!D43 -> 4 | H26: 0 | I26: =+G26*H26 -> 0
C27: Ensayo de compresión simple (UCS) | F27: Und. | G27: ='NAP 3'!D44 -> 10 | H27: 0 | I27: =+G27*H27 -> 0
C28: Ensayo de Abrasion (incluye rotura) | F28: Und. | G28: ='NAP 3'!D45 -> 10 | H28: 0 | I28: =+G28*H28 -> 0
C29: Durabilidad | F29: Und. | G29: ='NAP 3'!D46 -> 10 | H29: 0 | I29: =+G29*H29 -> 0
B30: A. SUB TOTAL 1.0 + 2.0 | J30: =+J11+J13 -> 0
B31: B. GASTOS GENERALES | I31: 0 | J31: =+J30*I31 -> 0
B32: C. UTILIDAD | I32: 0 | J32: =+J30*I32 -> 0
B33: D. SUB TOTAL (A+B+C) | J33: =+J30+J31+J32 -> 0
B34: E. IGV | I34: 0.18 | J34: =+J33*I34 -> 0
B35: TOTAL (D+E) | J35: =+J33+J34 -> 0

Sheet NAP 3
B4: INVESTIGACIÓN GEOFISICA Y PERFORACIÓN DIAMANTINA EN CANTERAS DE ROCA NUEVO ALTO PERU 3 - CHICAMA
B6: ACTIVIDADES | C6: CANTIDADES
B7: INVESTIGACIONES GEOFÍSICAS | C7: und | D7: Longitud
B8: Refracción Sismica | C8: ml | D8: =SUM(D9:D15) -> 1470
B9: LS-NAP3-01 | D9: 240
B10: LS-NAP3-02 | D10: 180
B11: LS-NAP3-03 | D11: 240
B12: LS-NAP3-04 | D12: 210
B13: LS-NAP3-05 | D13: 180
B14: LS-NAP3-06 | D14: 210
B15: LS-NAP3-07 | D15: 210
B16: MASW -2D | C16: ml | D16: =SUM(D17:D22) -> 720
B17: MASW2D-NAP3-01 | D17: 120
B18: MASW2D-NAP3-02 | D18: 120
B19: MASW2D-NAP3-03 | D19: 120
B20: MASW2D-NAP3-04 | D20: 120
B21: MASW2D-NAP3-05 | D21: 120
B22: MASW2D-NAP3-06 | D22: 120
B23: MASW-MAM | C23: Und | D23: =SUM(D24:D30) -> 7
B24: MASW-MAM-NAP3-01 | D24: 1
B25: MASW-MAM-NAP3-02 | D25: 1
B26: MASW-MAM-NAP3-03 | D26: 1
B27: MASW-MAM-NAP3-04 | D27: 1
B28: MASW-MAM-NAP3-05 | D28: 1
B29: MASW-MAM-NAP3-06 | D29: 1
B30: MASW-MAM-NAP3-07 | D30: 1
B31: Perforación Diamantina
B32: Sondajes | C32: ml | D32: =SUM(D33:D36) -> 150
B33: SNAP3-01 | D33: 40
B34: SNAP3-02 | D34: 40
B35: SNAP3-03 | D35: 30
B36: SNAP3-04 | D36: 40
B37: Accesos a puntos de perforación
B38: Accesos de puntos de perforación | C38: Und. | D38: 4
B39: Cambio de puntos de perforación | C39: Und. | D39: 3
B40: Movilización y desmovilización de equipos de perforación | C40: Und. | D40: 1
B41: Ensayos de Laboratorio de Mecanica de Rocas
B42: Propiedades físicas (Gravedad especifica, absorción y densidad) | C42: Und. | D42: 9
B43: Estudio petrográfico de la roca | C43: Und. | D43: 4
B44: Ensayo de compresión simple (UCS) | C44: Und. | D44: 10
...

Sheet ITEMIZADO OSO 3
B2: PROPUESTA ECONÓMICA CHICAMA: CANTERA OSO 3
B8: Ítem | C8: Actividad | F8: Unidad | G8: Cantidad | H8: Precio (S/) | I8: Sub Total (S/) | J8: Total (S/)
B11: 1 | C11: TRABAJOS PRELIMINARES | J11: =+I12 -> 0
C12: Movilización y desmovilización de equipos de perforación | F12: Und. | G12: ='OSO 3'!D30 -> 1 | I12: =+G12*H12 -> 0
B13: 2 | C13: TRABAJO DE CAMPO | J13: =+J14+J19+J24 -> 0
B14: 2.1 | C14: Investigacion geofísicas | J14: =+I15+I16+I17+I18 -> 0
C15: Refraccion Sismica | F15: ml | G15: ='OSO 3'!D8 -> 980 | H15: 0 | I15: =+G15*H15 -> 0
C16: MASW -2D | F16: ml | G16: ='OSO 3'!D14 -> 480 | H16: 0 | I16: =+G16*H16 -> 0
C17: MASW | F17: Und | G17: ='OSO 3'!D19 -> 3 | H17: 0 | I17: =+G17*H17 -> 0
C18: MAM | F18: Und | G18: ='OSO 3'!D19 -> 3 | H18: 0 | I18: =+G18*H18 -> 0
B19: 2.2 | C19: Perforación Diamantina | J19: =+I21+I22+I23 -> 0
C20: Accesos a puntos de perforación
C21: Accesos de puntos de perforación | F21: Und. | G21: ='OSO 3'!D28 -> 2 | H21: 0 | I21: =+G21*H21 -> 0
C22: Cambio de puntos de perforación | F22: Und. | G22: ='OSO 3'!D29 -> 1 | H22: 0 | I22: =+G22*H22 -> 0
C23: Sondajes | F23: ml | G23: ='OSO 3'!D24 -> 70 | H23: 0 | I23: =+G23*H23 -> 0
B24: 2.3 | C24: Ensayos de Laboratorio de Mecanica de Rocas | J24: =+I25+I26+I27+I28+I29 -> 0
C25: Propiedades físicas (Gravedad especifica, absorción y densidad) | F25: Und. | G25: ='OSO 3'!D32 -> 5 | H25: 0 | I25: =+G25*H25 -> 0
C26: Estudio petrográfico de la roca | F26: Und. | G26: ='OSO 3'!D33 -> 2 | H26: 0 | I26: =+G26*H26 -> 0
C27: Ensayo de compresión simple (UCS) | F27: Und. | G27: ='OSO 3'!D34 -> 6 | H27: 0 | I27: =+G27*H27 -> 0
C28: Ensayo de Abrasion (incluye rotura) | F28: Und. | G28: ='OSO 3'!D35 -> 6 | H28: 0 | I28: =+G28*H28 -> 0
C29: Durabilidad | F29: Und. | G29: ='OSO 3'!D36 -> 6 | H29: 0 | I29: =+G29*H29 -> 0
B30: A. SUB TOTAL 1.0 + 2.0 | J30: =+J11+J13 -> 0
B31: B. GASTOS GENERALES | I31: 0 | J31: =+J30*I31 -> 0
B32: C. UTILIDAD | I32: 0 | J32: =+J30*I32 -> 0
B33: D. SUB TOTAL (A+B+C) | J33: =+J30+J31+J32 -> 0
B34: E. IGV | I34: 0.18 | J34: =+J33*I34 -> 0
B35: TOTAL (D+E) | J35: =+J33+J34 -> 0

Sheet OSO 3
B4: INVESTIGACIÓN GEOFISICA Y PERFORACIÓN DIAMANTINA EN CANTERAS DE ROCA - OSO 3 - PAQ 1C -CHICAMA
B6: ACTIVIDADES | C6: CANTIDADES
B7: INVESTIGACIONES GEOFÍSICAS | C7: und | D7: Longitud
B8: Refracción Sismica | C8: ml | D8: =SUM(D9:D13) -> 980
B9: LS-O3-01 | D9: 240
B10: LS-O3-02 | D10: 210
B11: LS-O3-03 | D11: 210
B12: LS-O3-04 | D12: 120
B13: LS-O3-05 | D13: 200
B14: MASW -2D | C14: ml | D14: =SUM(D15:D18) -> 480
B15: MASW2D-O3-01 | D15: 120
B16: MASW2D-O3-02 | D16: 120
B17: MASW2D-O3-03 | D17: 120
B18: MASW2D-O3-04 | D18: 120
B19: MASW-MAM | C19: Unid | D19: =SUM(D20:D22) -> 3
B20: MASW-MAM-O3-01 | D20: 1
B21: MASW-MAM-O3-02 | D21: 1
B22: MASW-MAM-O3-03 | D22: 1
B23: Perforación Diamantina
B24: Sondajes | C24: ml | D24: =SUM(D25:D26) -> 70
B25: SO3-01 | D25: 40
B26: SO3-02 | D26: 30
B27: Accesos a puntos de perforación
B28: Accesos de puntos de perforación | C28: Und. | D28: 2
B29: Cambio de puntos de perforación | C29: Und. | D29: 1
B30: Movilización y desmovilización de equipos de perforación | C30: Und. | D30: 1
B31: Ensayos de Laboratorio de Mecanica de Rocas
B32: Propiedades físicas (Gravedad especifica, absorción y densidad) | C32: Und. | D32: 5
B33: Estudio petrográfico de la roca | C33: Und. | D33: 2
B34: Ensayo de compresión simple (UCS) | C34: Und. | D34: 6
B35: Ensayo de Abrasion (incluye rotura) | C35: Und. | D35: 6
B36: Durabilidad | C36: Und. | D36: 6

Sheet ITEMIZADO SANTANERO 1
B2: PROPUESTA ECONÓMICA CHICAMA: CANTERA SANTANERO 1
B8: Ítem | C8: Actividad | F8: Unidad | G8: Cantidad | H8: Precio (S/) | I8: Sub Total (S/) | J8: Total (S/)
B11: 1 | C11: TRABAJOS PRELIMINARES | J11: =+I12 -> 0
C12: Movilización y desmovilización de equipos de perforación | F12: Und. | G12: ='SANTANERO 1'!D26 -> 1 | I12: =+G12*H12 -> 0
B13: 2 | C13: TRABAJO DE CAMPO | J13: =+J14+J19+J24 -> 0
B14: 2.1 | C14: Investigacion geofísicas | J14: =+I15+I16+I17+I18 -> 0
C15: Refraccion Sismica | F15: ml | G15: ='SANTANERO 1'!D8 -> 720 | H15: 0 | I15: =+G15*H15 -> 0
C16: MASW -2D | F16: ml | G16: ='SANTANERO 1'!D13 -> 240 | H16: 0 | I16: =+G16*H16 -> 0
C17: MASW | F17: Und | G17: ='SANTANERO 1'!D16 -> 2 | H17: 0 | I17: =+G17*H17 -> 0
C18: MAM | F18: Und | G18: ='SANTANERO 1'!D16 -> 2 | H18: 0 | I18: =+G18*H18 -> 0
B19: 2.2 | C19: Perforación Diamantina | J19: =+I21+I22+I23 -> 0
C20: Accesos a puntos de perforación
C21: Accesos de puntos de perforación | F21: Und. | G21: ='SANTANERO 1'!D24 -> 2 | H21: 0 | I21: =+G21*H21 -> 0
C22: Cambio de puntos de perforación | F22: Und. | G22: ='SANTANERO 1'!D25 -> 1 | H22: 0 | I22: =+G22*H22 -> 0
C23: Sondajes | F23: ml | G23: ='SANTANERO 1'!D20 -> 70 | H23: 0 | I23: =+G23*H23 -> 0
B24: 2.3 | C24: Ensayos de Laboratorio de Mecanica de Rocas | J24: =+I25+I26+I27+I28+I29 -> 0
C25: Propiedades físicas (Gravedad especifica, absorción y densidad) | F25: Und. | G25: ='SANTANERO 1'!D28 -> 4 | H25: 0 | I25: =+G25*H25 -> 0
C26: Estudio petrográfico de la roca | F26: Und. | G26: ='SANTANERO 1'!D29 -> 2 | H26: 0 | I26: =+G26*H26 -> 0
C27: Ensayo de compresión simple (UCS) | F27: Und. | G27: ='SANTANERO 1'!D30 -> 7 | H27: 0 | I27: =+G27*H27 -> 0
C28: Ensayo de Abrasion (incluye rotura) | F28: Und. | G28: ='SANTANERO 1'!D31 -> 7 | H28: 0 | I28: =+G28*H28 -> 0
C29: Durabilidad | F29: Und. | G29: ='SANTANERO 1'!D32 -> 7 | H29: 0 | I29: =+G29*H29 -> 0
B30: A. SUB TOTAL 1.0 + 2.0 | J30: =+J11+J13 -> 0
B31: B. GASTOS GENERALES | I31: 0 | J31: =+J30*I31 -> 0
B32: C. UTILIDAD | I32: 0 | J32: =+J30*I32 -> 0
B33: D. SUB TOTAL (A+B+C) | J33: =+J30+J31+J32 -> 0
B34: E. IGV | I34: 0.18 | J34: =+J33*I34 -> 0
B35: TOTAL (D+E) | J35: =+J33+J34 -> 0

Sheet SANTANERO 1
B4: INVESTIGACIÓN GEOFISICA Y PERFORACIÓN DIAMANTINA EN CANTERAS DE ROCA - SANTANERO 01 - CHICAMA
B6: ACTIVIDADES | C6: CANTIDADES
B7: INVESTIGACIONES GEOFÍSICAS | C7: und | D7: Longitud
B8: Refracción Sismica | C8: ml | D8: =SUM(D9:D12) -> 720
B9: LS-S1-01 | D9: 240
B10: LS-S1-02 | D10: 180
B11: LS-S1-03 | D11: 150
B12: LS-S1-04 | D12: 150
B13: MASW -2D | C13: ml | D13: =SUM(D14:D15) -> 240
B14: MASW2D-S1-01 | D14: 120
B15: MASW2D-S1-02 | D15: 120
B16: MASW-MAM | C16: Unid | D16: =SUM(D17:D18) -> 2
B17: MASW-MAM-S1-01 | D17: 1
B18: MASW-MAM-S1-02 | D18: 1
B19: Perforación Diamantina
B20: Sondajes | C20: ml | D20: =SUM(D21:D22) -> 70
B21: SS1-01 | D21: 40
B22: SS1-02 | D22: 30
B23: Accesos a puntos de perforación
B24: Accesos de puntos de perforación | C24: Und. | D24: 2
B25: Cambio de puntos de perforación | C25: Und. | D25: 1
B26: Movilización y desmovilización de equipos de perforación | C26: Und. | D26: 1
B27: Ensayos de Laboratorio de Mecanica de Rocas
B28: Propiedades físicas (Gravedad especifica, absorción y densidad) | C28: Und. | D28: 4
B29: Estudio petrográfico de la roca | C29: Und. | D29: 2
B30: Ensayo de compresión simple (UCS) | C30: Und. | D30: 7
B31: Ensayo de Abrasion (incluye rotura) | C31: Und. | D31: 7
B32: Durabilidad | C32: Und. | D32: 7

Sheet ITEMIZADO CALVAYUNQUE
B2: PROPUESTA ECONÓMICA CHICAMA: CANTERA CALVAYUNQUE
B8: Ítem | C8: Actividad | F8: Unidad | G8: Cantidad | H8: Precio (S/) | I8: Sub Total (S/) | J8: Total (S/)
B11: 1 | C11: TRABAJOS PRELIMINARES | J11: =+I12 -> 0
C12: Movilización y desmovilización de equipos de perforación | F12: Und. | G12: ='SANTANERO 1'!D26 -> 1 | H12: 0 | I12: =+G12*H12 -> 0
B13: 2 | C13: TRABAJO DE CAMPO | J13: =+J14+J19+J24 -> 0
B14: 2.1 | C14: Investigacion geofísicas | J14: =+I15+I16+I17+I18 -> 0
C15: Refraccion Sismica | F15: ml | G15: =CALVAYUNQUE!D8 -> 960 | H15: 0 | I15: =+G15*H15 -> 0
C16: MASW -2D | F16: ml | G16: =CALVAYUNQUE!D14 -> 480 | H16: 0 | I16: =+G16*H16 -> 0
C17: MASW | F17: Und | G17: =CALVAYUNQUE!D19 -> 4 | H17: 0 | I17: =+G17*H17 -> 0
C18: MAM | F18: Und | G18: =CALVAYUNQUE!D19 -> 4 | H18: 0 | I18: =+G18*H18 -> 0
B19: 2.2 | C19: Perforación Diamantina | J19: =+I21+I22+I23 -> 0
C20: Accesos a puntos de perforación
C21: Accesos de puntos de perforación | F21: Und. | G21: =CALVAYUNQUE!D29 -> 2 | H21: 0 | I21: =+G21*H21 -> 0
C22: Cambio de puntos de perforación | F22: Und. | G22: =CALVAYUNQUE!D30 -> 1 | H22: 0 | I22: =+G22*H22 -> 0
C23: Sondajes | F23: ml | G23: =CALVAYUNQUE!D25 -> 80 | H23: 0 | I23: =+G23*H23 -> 0
B24: 2.3 | C24: Ensayos de Laboratorio de Mecanica de Rocas | J24: =+I25+I26+I27+I28+I29 -> 0
C25: Propiedades físicas (Gravedad especifica, absorción y densidad) | F25: Und. | G25: =CALVAYUNQUE!D33 -> 6 | H25: 0 | I25: =+G25*H25 -> 0
C26: Estudio petrográfico de la roca | F26: Und. | G26: =CALVAYUNQUE!D34 -> 3 | H26: 0 | I26: =+G26*H26 -> 0
C27: Ensayo de compresión simple (UCS) | F27: Und. | G27: =CALVAYUNQUE!D35 -> 6 | H27: 0 | I27: =+G27*H27 -> 0
C28: Ensayo de Abrasion (incluye rotura) | F28: Und. | G28: =CALVAYUNQUE!D36 -> 6 | H28: 0 | I28: =+G28*H28 -> 0
C29: Durabilidad | F29: Und. | G29: =CALVAYUNQUE!D37 -> 6 | H29: 0 | I29: =+G29*H29 -> 0
B30: A. SUB TOTAL 1.0 + 2.0 | J30: =+J11+J13 -> 0
B31: B. GASTOS GENERALES | I31: 0 | J31: =+J30*I31 -> 0
B32: C. UTILIDAD | I32: 0 | J32: =+J30*I32 -> 0
B33: D. SUB TOTAL (A+B+C) | J33: =+J30+J31+J32 -> 0
B34: E. IGV | I34: 0.18 | J34: =+J33*I34 -> 0
B35: TOTAL (D+E) | J35: =+J33+J34 -> 0

Sheet CALVAYUNQUE
B4: INVESTIGACIÓN GEOFISICA Y PERFORACIÓN DIAMANTINA EN CANTERAS DE ROCA CALVAYUNQUE - CHICAMA
B6: ACTIVIDADES | C6: CANTIDADES
B7: INVESTIGACIONES GEOFÍSICAS | C7: und | D7: Longitud
B8: Refracción Sismica | C8: ml | D8: =SUM(D9:D13) -> 960
B9: LS-CV-01 | D9: 240
B10: LS-CV-02 | D10: 120
B11: LS-CV-03 | D11: 210
B12: LS-CV-04 | D12: 210
B13: LS-CV-05 | D13: 180
B14: MASW -2D | C14: ml | D14: =SUM(D15:D18) -> 480
B15: MASW2D-CV-01 | D15: 120
B16: MASW2D-CV-02 | D16: 120
B17: MASW2D-CV-03 | D17: 120
B18: MASW2D-CV-04 | D18: 120
B19: MASW-MAM | C19: unid | D19: =SUM(D20:D23) -> 4
B20: MASW-MAM-CV-01 | D20: 1
B21: MASW-MAM-CV-02 | D21: 1
B22: MASW-MAM-CV-03 | D22: 1
B23: MASW-MAM-CV-04 | D23: 1
B24: Perforación Diamantina
B25: Sondajes | C25: ml | D25: =SUM(D26:D27) -> 80
B26: SNAP3-01 | D26: 40
B27: SNAP3-02 | D27: 40
B28: Accesos a puntos de perforación
B29: Accesos de puntos de perforación | C29: Und. | D29: 2
B30: Cambio de puntos de perforación | C30: Und. | D30: 1
B31: Movilización y desmovilización de equipos de perforación | C31: Und. | D31: 1
B32: Ensayos de Laboratorio de Mecanica de Rocas
B33: Propiedades físicas (Gravedad especifica, absorción y densidad) | C33: Und. | D33: 6
B34: Estudio petrográfico de la roca | C34: Und. | D34: 3
B35: Ensayo de compresión simple (UCS) | C35: Und. | D35: 6
B36: Ensayo de Abrasion (incluye rotura) | C36: Und. | D36: 6
B37: Durabilidad | C37: Und. | D37: 6
