Workbook

Sheet resumen
B2: DEFENSA RIBEREÑA : CUENCA CASMA - HUARMEY
B4: RESUMEN DE PRESUPUESTO
B6: PROYECTO | C6: Entrega de las defensas ribereñas de los Ríos Casma y Huarmey – Paquete 4”
B7: UBICACIÓN : | C7: ANCASH
B8: Lugar | C8: ANCASH
B10: Item | C10: Descripción | D10: Und. | E10: CANT. | F10: Meses | G10: Precio S/. | H10: Parcial S/.
C11: CUENCA HUARMEY | H11: =+SUM(H13:H16) -> 190238.18
B12: 1 | C12: PERSONAL | H12: =SUM(H13:H16) -> 190238.18
B13: 1.03 | C13: AGENTE SIN ARMA OFICINA OHLA (TURNO DÍA 6:00 - 18:00) | D13: mes | E13: 1 | F13: 11 | G13: ='A1'!$C$35 -> 3821.08 | H13: =F13*G13 -> 42031.88
B14: 1.02 | C14: AGENTE CON ARMA OFICINA OHLA (TURNO NOCHE 18:00 - 6:00) | D14: mes | E14: 1 | F14: 11 | G14: ='A1'!$D$35 -> 4491.1 | H14: =F14*G14 -> 49402.1
B15: 1.03 | C15: AGENTE CON ARMA HOTEL ASHLEY (TURNO NOCHE 18:00 - 6:00)) | D15: mes | E15: 1 | F15: 11 | G15: ='A1'!$D$35 -> 4491.1 | H15: =F15*G15 -> 49402.1
B16: 1.04 | C16: AGENTE CON ARMA HOTEL 2 (TURNO NOCHE 18:00 - 6:00) | D16: mes | E16: 1 | F16: 11 | G16: ='A1'!$D$35 -> 4491.1 | H16: =F16*G16 -> 49402.1
C18: CUENCA CASMA | H18: =+SUM(H20:H23) -> 190238.18
B19: 1 | C19: PERSONAL | H19: =SUM(H20:H23) -> 190238.18
B20: 1.03 | C20: AGENTE SIN ARMA OFICINA OHLA (TURNO DÍA 6:00 - 18:00) | D20: mes | E20: 1 | F20: 11 | G20: ='A1'!$C$35 -> 3821.08 | H20: =F20*G20 -> 42031.88
B21: 1.02 | C21: AGENTE CON ARMA OFICINA OHLA (TURNO NOCHE 18:00 - 6:00) | D21: mes | E21: 1 | F21: 11 | G21: ='A1'!$D$35 -> 4491.1 | H21: =F21*G21 -> 49402.1
B22: 1.03 | C22: AGENTE CON ARMA HOTEL ASHLEY (TURNO NOCHE 18:00 - 6:00)) | D22: mes | E22: 1 | F22: 11 | G22: ='A1'!$D$35 -> 4491.1 | H22: =F22*G22 -> 49402.1
B23: 1.04 | C23: AGENTE CON ARMA HOTEL 2 (TURNO NOCHE 18:00 - 6:00) | D23: mes | E23: 1 | F23: 11 | G23: ='A1'!$D$35 -> 4491.1 | H23: =F23*G23 -> 49402.1
C25: SUB TOTAL | H25: =+H18+H11 -> 380476.36
C26: IGV | G26: 0.18 | H26: =+H25*0.18 -> 68485.745
C27: TOTAL | H27: =+H26+H25 -> 448962.1
C30: Para el presente proceso de licitación "Subcontratación de seguridad y Vigilancia privada en las Instalaciones del Proyecto - Defensa Ribereña de los Ríos Casma y Huarmey", no se está considerando supervisor de seguridad ni camioneta, sin embargo se requiere que la propuesta contemple supervisión en línea a los agentes de seguridad y reporte al coordinador de seguridad patrimonial de OHLA. Asimismo, deberán adjuntar plan de contigencia del servicio propuesto.

Sheet A1
A1: ANEXO A1
A2: ESTRUCTURA DE COSTOS MENSUAL DE LUNES A DOMINGO y FERIADOS
A3: SERVICIO DE SEGURIDAD Y VIGILANCIA PRIVADO EN LAS INSTALACIONES DEL PROYECTO - DEFENSA RIBEREÑA DE LOS RÍOS CASMA Y HUARMEY.R00
A4: (En Nuevos Soles)
B5: % | C5: AGENTE SIN ARMA | D5: AGENTE CON ARMA
C6: 6:00 - 18:00 HR | D6: 18:00 - 6:00 HR.
A7: COSTOS DIRECTOS
A8: 1.- Remuneraciones
A9: 1.1.Remuneración Mínima Mensual (RMM) | C9: =1025 -> 1025 | D9: =1025 -> 1025
A10: 1.2 Asignación Familiar (10% RMM) | C10: =ROUND(C9*10%,2) -> 102.5 | D10: =ROUND(D9*10%,2) -> 102.5
A11: 1.3 Otras cargas laborales (Detallar todos los conceptos)
A12: * Bonificación Nocturna de Salario Básico | C12: 0 | D12: =ROUND(D9*35%,2) -> 358.75
A13: * Horas Extras dos primeras | C13: =ROUND((C9+C10+C12)/30/8*1.25*2*26,2) -> 305.36 | D13: =ROUND((D9+D10)/30/8*1.25*2*26,2) -> 305.36
A14: * Horas Extras dos restantes | C14: =ROUND((C9+C10+C11)/30/8*1.35*2*26,2) -> 329.79 | D14: =ROUND((D9+D10)/30/8*1.35*2*26,2) -> 329.79
A15: 1.4 Feriados | C15: =ROUND((C9+C10+C12)/30*15/12,2) -> 46.98 | D15: =ROUND((D9+D10+D12)/30*15/12,2) -> 61.93
A16: 1.5 Descansero | C16: =ROUND((C9+C10+C12+C13+C14+C15)/6,2) -> 301.61 | D16: =ROUND((D9+D10+D12+D13+D14+D15)/6,2) -> 363.89
A17: 1.6 Otros | C17: 0 | D17: 0
A18: 2.-Derecho Sociales. | C18: =SUM(C9:C17) -> 2111.24 | D18: =SUM(D9:D17) -> 2547.22
A19: 2.1 Vacaciones | C19: =ROUND(C18*8.33%,2) -> 175.87 | D19: =ROUND(D18*8.33%,2) -> 212.18
A20: 2.2 Gratificaciones | C20: =ROUND(C18*16.67%,2) -> 351.94 | D20: =ROUND(D18*16.67%,2) -> 424.62
A21: 2.3 CTS | C21: =ROUND(C18*9.72%,2) -> 205.21 | D21: =ROUND(D18*9.72%,2) -> 247.59
A22: 2.4 Escolaridad | C22: =ROUND(400/12,2) -> 33.33 | D22: =ROUND(400/12,2) -> 33.33
A23: 3.- Leyes Sociales | C23: =SUM(C19:C22) -> 766.35 | D23: =SUM(D19:D22) -> 917.72
A24: 3.1 Aportes ESSALUD | C24: =ROUND((C18+C19+C20)*9%,2) -> 237.51 | D24: =ROUND((D18+D19+D20)*9%,2) -> 286.56
A25: 3.2 Movilidad | C25: 0 | D25: 0
A26: 3.3 S.C.T.R. de (A+B+C) | C26: =ROUND((C18+C19+C20)*2.5%,2) -> 65.98 | D26: =ROUND((D18+D19+D20)*2.5%,2) -> 79.6
A27: 3.4 Exámenes Preocupacionales | C27: =ROUND(240/12,2) -> 20 | D27: =ROUND(240/12,2) -> 20
A28: COSTOS INDIRECTOS | C28: =SUM(C24:C27) -> 323.49 | D28: =SUM(D24:D27) -> 386.16
A29: 4.- Uniformes y otros.
A30: 4.1 Uniformes, equipos y suministros relacionados | C30: 100 | D30: 100
A31: 4.2 Examenes Covid-19 (mascarillas y pruebas serelógicas) ** | C31: 70 | D31: 70
A32: TOTAL: COSTOS DIRECTOS E INDIRECTOS
A33: Gastos Administrativos (póliza de seguros, y entre otros.) | C33: 300 | D33: =C33+20 -> 320
A34: Utilidad | C34: 150 | D34: =C34 -> 150
A35: VALOR DE VENTA DEL SERVICIO | C35: =C18+C23+C28+C30+C31+C33+C34 -> 3821.08 | D35: =D18+D23+D28+D30+D31+D33+D34 -> 4491.1
A36: Imuespto General a la Venta (IGV-18%) | C36: =ROUND(C35*18%,2) -> 687.79 | D36: =ROUND(D35*18%,2) -> 808.4
A37: COSTO TOTAL POR PUESTO 12 H. INC. I.G.V. S/. | C37: =C35+C36 -> 4508.87 | D37: =D35+D36 -> 5299.5
A38: COSTO TOTAL POR PUESTO 24 H. INC. I.G.V. S/. | C38: =C37+D37 -> 9808.37
A40: Factores a considerar para el cálculo de horas extras
A41: Cálculo de días es sobre 360 días al año por ley.
...
