Workbook

Sheet PROYECTO 1
A2: 1 | B2: PAQUETE 3-4
A3: 1.2 | B3: Canteras CERRO Y RIO
A4: 1.2.1 | B4: Trabajos de campo
B5: Calicatas | C5: 50 | D5: und | E5: ETAPA 1
B6: Granulometría global | C6: 31 | D6: und | E6: ETAPA 1
B7: Densidad natural | C7: 1 | D7: und | E7: ETAPA 1
B8: Refracción sísmica (3 líneas) | C8: 265 | D8: ml | E8: ETAPA 1
A9: 1.2.2 | B9: Laboratorio
B10: Ensayos estándar | C10: 50 | D10: und
B11: Granulometría de agregado fino | C11: 15 | D11: und
B12: Granulometría de agregado grueso | C12: 15 | D12: und
B13: Abrasión los angeles | C13: 26 | D13: und
B14: PE y Absorción de A.G. | C14: 6 | D14: und
B15: Proctor y CBR | C15: 26 | D15: und
B16: Triaxial CD | C16: 1 | D16: und
B17: Corte directo | C17: 1 | D17: und
B18: Permeabilidad | C18: 1 | D18: und
B19: GE y Absorción de A.F. | C19: 15 | D19: und
B20: Durabilidad AF | C20: 15 | D20: und
B21: Equivalente arena | C21: 26 | D21: und
... B39: Reactividad agregado/alcalí | C39: 9 | D39: und
A41: 1.3 | B41: DME
A42: 1.3.1 | B42: Trabajos de campo
B43: Calicatas | C43: 12 | D43: und | E43: ETAPA 1
B44: Densidad natural | C44: 5 | D44: und | E44: ETAPA 1
B45: Estación geomecánica | C45: 19 | D45: und | E45: ETAPA 1
B46: MASW1D | C46: 8 | D46: und | E46: ETAPA 1
B47: Refracción sísmica (12 líneas) | C47: 1200 | D47: ml | E47: ETAPA 1
A48: 1.3.2 | B48: Laboratorio
B49: Ensayos estándar | C49: 12 | D49: und
B50: Corte directo | C50: 5 | D50: und
B51: Abrasión los angeles | C51: 17 | D51: und
B52: Propiedades físicas | C52: 17 | D52: und
B53: corte directo en discontinuidades | C53: 7 | D53: und
B54: compresion simple | C54: 7 | D54: und
A56: 1.4 | B56: Diques existentes
A57: 1.4.1 | B57: Trabajos de campo
B58: Calicatas | C58: 3 | D58: und | E58: ETAPA 1
B59: Granulometría global | C59: 3 | D59: und | E59: ETAPA 1
A60: 1.4.2 | B60: Laboratorio
...

Sheet ETAPA 1
A1: CRONOGRAMA ETAPA 1 ESTUDIO GEOTÉCNICO PARA LA AMPLIACIÓN DEL SERVICIO – CUENCA HUAURA | BM1: Codigo: PT-24-0021
BM2: Revisión 02
BM3: Feha: 16-12-2024
D5: Paquete 3-4 | E5: Cuenca alta | F5: Total | H5: Dias | J5: DIAS
J6: 1 | K6: 2 | L6: 3 | M6: 4 | N6: 5 | O6: 6 | P6: 7 | Q6: 8 | R6: 9 | S6: 10 | T6: 11 | U6: 12 | V6: 13 | W6: 14 | X6: 15 | Y6: 16 | Z6: 17 | AA6: 18 | AB6: 19 | AC6: 20 | AD6: 21 | AE6: 22 | AF6: 23 | AG6: 24 | AH6: 25 | AI6: 26 | AJ6: 27 | AK6: 28 | AL6: 29 | AM6: 30 | AN6: 31 | AO6: 32 | AP6: 33 | AQ6: 34 | AR6: 35 | AS6: 36 | AT6: 37 | AU6: 38 | AV6: 39 | AW6: 40 | AX6: 41 | AY6: 42 | AZ6: 43 | BA6: 44 | BB6: 45 | BC6: 46 | BD6: 47 | BE6: 48 | BF6: 49 | BG6: 50 | BH6: 51 | BI6: 52 | BJ6: 53 | BK6: 54 | BL6: 55
A7: 1 | B7: Trabajos de campo
A8: 1.1 | B8: Calicatas | C8: und | D8: ='PROYECTO 1'!C5+'PROYECTO 1'!C43+'PROYECTO 1'!C58 -> 65 | E8: ='PROYECTO 1'!C67+'PROYECTO 1'!C114 -> 89 | F8: =D8+E8 -> 154 | H8: =F8/4 -> 38.5
A9: 1.2 | B9: Granulometría global | C9: und | D9: ='PROYECTO 1'!C6+'PROYECTO 1'!C59 -> 34 | E9: ='PROYECTO 1'!C68 -> 44 | F9: =D9+E9 -> 78 | H9: =F9/4 -> 19.5
A10: 1.3 | B10: Densidad natural | C10: und | D10: ='PROYECTO 1'!C7+'PROYECTO 1'!C44 -> 6 | E10: ='PROYECTO 1'!C69+'PROYECTO 1'!C115 -> 12 | F10: =D10+E10 -> 18 | H10: =F10/4 -> 4.5
A11: 1.4 | B11: Geomecánica | C11: und | D11: ='PROYECTO 1'!C45 -> 19 | E11: 6 | F11: =D11+E11 -> 25 | H11: =F11/5 -> 5
A12: 1.5 | B12: MASW1D | C12: und | D12: ='PROYECTO 1'!C46 -> 8 | E12: ='PROYECTO 1'!C117 -> 8 | F12: =D12+E12 -> 16 | H12: =F12/5 -> 3.2
A13: 1.6 | B13: Refracción sísmica | C13: ml | D13: ='PROYECTO 1'!C8+'PROYECTO 1'!C47 -> 1465 | E13: ='PROYECTO 1'!C70+'PROYECTO 1'!C118 -> 1795 | F13: =D13+E13 -> 3260 | H13: =F13/450 -> 7.2444444
A15: 2 | B15: Ensayos de laboratorio
A16: 2.1 | B16: Ensayos estándar | C16: und | D16: ='PROYECTO 1'!C10+'PROYECTO 1'!C49+'PROYECTO 1'!C61 -> 65 | E16: ='PROYECTO 1'!C72+'PROYECTO 1'!C120 -> 89 | F16: =D16+E16 -> 154
A17: 2.2 | B17: Granulometría de agregado fino | C17: und | D17: 15 | E17: 10 | F17: =D17+E17 -> 25
A18: 2.3 | B18: Granulometría de agregado grueso | C18: und | D18: 15 | E18: 10 | F18: =D18+E18 -> 25
A19: 2.4 | B19: Abrasión los angeles | C19: und | D19: 26 | E19: 22 | F19: =D19+E19 -> 48
A20: 2.5 | B20: PE y Absorción de A.G. | C20: und | D20: 6 | F20: =D20+E20 -> 6
A21: 2.6 | B21: Proctor y CBR | C21: und | D21: 26 | E21: 25 | F21: =D21+E21 -> 51
A22: 2.7 | B22: Triaxial CD | C22: und | D22: 1 | E22: 3 | F22: =D22+E22 -> 4
A23: 2.8 | B23: Corte directo | C23: und | D23: ='PROYECTO 1'!C17+'PROYECTO 1'!C50 -> 6 | E23: 5 | F23: =D23+E23 -> 11
A24: 2.9 | B24: Permeabilidad | C24: und | D24: 1 | E24: 3 | F24: =D24+E24 -> 4
A25: 2.1 | B25: GE y Absorción de A.F. | C25: und | D25: 15 | E25: 10 | F25: =D25+E25 -> 25
A26: 2.11 | B26: Durabilidad AF | C26: und | D26: 15 | E26: 9 | F26: =D26+E26 -> 24
A27: 2.12 | B27: Equivalente arena | C27: und | D27: 26 | E27: 22 | F27: =D27+E27 -> 48
A28: 2.13 | B28: Azul de metileno | C28: und | D28: 15 | E28: 10 | F28: =D28+E28 -> 25
A29: 2.14 | B29: Terrones de arcilla y particulas deleznables AF | C29: und | D29: 15 | E29: 10 | F29: =D29+E29 -> 25
A30: 2.15 | B30: Carbon y lignito AF | C30: und | D30: 15 | E30: 10 | F30: =D30+E30 -> 25
A31: 2.16 | B31: Materia organica en arena | C31: und | D31: 15 | E31: 10 | F31: =D31+E31 -> 25
A32: 2.17 | B32: Sulfatos AF | C32: und | D32: 15 | E32: 10 | F32: =D32+E32 -> 25
A33: 2.18 | B33: Cloruros AF | C33: und | D33: 15 | E33: 10 | F33: =D33+E33 -> 25
A34: 2.19 | B34: Sales solubles AF | C34: und | D34: 15 | E34: 10 | F34: =D34+E34 -> 25
A35: 2.2 | B35: Durabilidad AG | C35: und | D35: 18 | E35: 10 | F35: =D35+E35 -> 28
... A45: 2.3 | B45: Reactividad agregado/alcalí | C45: und | D45: 9 | E45: 10 | F45: =D45+E45 -> 19
A47: 3 | B47: Elaboración de informe
A48: 3.1 | B48: Paquete 3-4 - Entregable 1: Informe de geofísica
A49: 3.2 | B49: Paquete 3-4 - Entregable 2: Informe de geomecánica
A50: 3.3 | B50: Paquete 3-4 - Informe final mecánica de suelos
A51: 3.4 | B51: Cuenca Alta - Informe de geofísica
A52: 3.5 | B52: Cuenca Alta - Informe de geomecánica Etapa 1
...

Sheet ETAPA 2
A1: CRONOGRAMA ETAPA 2 - FASE 1 ESTUDIO GEOTÉCNICO PARA LA AMPLIACIÓN DEL SERVICIO – CUENCA HUAURA | BE1: Codigo: PT-24-0021
BE2: Revisión 02
BE3: Feha: 16-12-2024
E5: Cuenca alta | F5: Total | H5: Dias | J5: DIAS (Primer Trimestre 2025)
J6: 1 | K6: 2 | L6: 3 | M6: 4 | N6: 5 | O6: 6 | P6: 7 | Q6: 8 | R6: 9 | S6: 10 | T6: 11 | U6: 12 | V6: 13 | W6: 14 | X6: 15 | Y6: 16 | Z6: 17 | AA6: 18 | AB6: 19 | AC6: 20 | AD6: 21 | AE6: 22 | AF6: 23 | AG6: 24 | AH6: 25 | AI6: 26 | AJ6: 27 | AK6: 28 | AL6: 29
A7: 1 | B7: Trabajos de campo
A8: 1.1 | B8: Perforación de 30ml (4) FASE 1 (Tres Montones) | C8: ml | E8: 120 | F8: =D8+E8 -> 120 | H8: =F8/7.5 -> 16
A9: 1.2 | B9: Geomecánica (Tres Montones) | C9: und | E9: 6 | F9: =D9+E9 -> 6 | H9: =F9/5 -> 1.2
A11: 2 | B11: Ensayos de laboratorio
A12: 2.31 | B12: Abrasión los angeles | C12: und | E12: 12 | F12: =D12+E12 -> 12
A13: 2.32 | B13: Propiedades físicas de la roca | C13: und | E13: 12 | F13: =D13+E13 -> 12
A14: 2.33 | B14: Corte directo en discontinuidad | C14: und | E14: 5 | F14: =D14+E14 -> 5
A15: 2.34 | B15: Compresión simple | C15: und | E15: 5 | F15: =D15+E15 -> 5
A17: 3 | B17: Elaboración de informe
A18: 3.1 | B18: Cuenca Alta: Informe de Geomecánica Fase 1
A19: 3.2 | B19: Cuenca Alta: Reporte de Perforación Fase 1
A22: CRONOGRAMA ETAPA 2 - FASE 2 ESTUDIO GEOTÉCNICO PARA LA AMPLIACIÓN DEL SERVICIO – CUENCA HUAURA | BE22: Codigo: PT-24-0021
BE23: Revisión 02
BE24: Feha: 16-12-2024
E26: Cuenca alta | F26: Total | H26: Dias | J26: DIAS (Segundo Trimestre)
J27: 1 | K27: 2 | L27: 3 | M27: 4 | N27: 5 | O27: 6 | P27: 7 | Q27: 8 | R27: 9 | S27: 10 | T27: 11 | U27: 12 | V27: 13 | W27: 14 | X27: 15 | Y27: 16 | Z27: 17 | AA27: 18 | AB27: 19 | AC27: 20 | AD27: 21 | AE27: 22 | AF27: 23 | AG27: 24 | AH27: 25 | AI27: 26 | AJ27: 27 | AK27: 28 | AL27: 29 | AM27: 30 | AN27: 31 | AO27: 32 | AP27: 33 | AQ27: 34 | AR27: 35 | AS27: 36 | AT27: 37 | AU27: 38 | AV27: 39 | AW27: 40 | AX27: 41
A28: 1 | B28: Trabajos de campo
A29: 1.1 | B29: Perforación de 30ml (7) FASE 2 (La Cumbre y CD de Nava) | C29: ml | E29: 210 | F29: =D29+E29 -> 210 | H29: =F29/7.5 -> 28
A30: 1.2 | B30: Geomecánica (La Cumbre y CD de Nava) | C30: und | E30: 19 | F30: =D30+E30 -> 19 | H30: =F30/5 -> 3.8
A32: 2 | B32: Ensayos de laboratorio
A33: 2.31 | B33: Abrasión los angeles | C33: und | E33: 26 | F33: =D33+E33 -> 26
A34: 2.32 | B34: Propiedades físicas de la roca | C34: und | E34: 26 | F34: =D34+E34 -> 26
A35: 2.33 | B35: Corte directo en discontinuidad | C35: und | E35: 11 | F35: =D35+E35 -> 11
A36: 2.34 | B36: Compresión simple | C36: und | E36: 11 | F36: =D36+E36 -> 11
A38: 3 | B38: Elaboración de informe
A39: 3.1 | B39: Cuenca Alta: Informe de Geomecánica Fase 2
A40: 3.2 | B40: Cuenca Alta: Informe final de mecanica de suelos
J42: GRUPOS DE TRABAJO
J43: Grupo 1 | N43: Geomecánica
J44: Grupo 2 | N44: Perforación
